{"text_format":"3","workbook":"xlsx","n_sheets":5,"sheets":["بودجه","ثبت هزینه‌ها","نمودار دایره‌ای","هزینه‌های گروه‌بندی شده","یادداشت‌ها"],"not_rendered":{"charts":2,"defined_names":1,"comments":1},"read":"whole","date_system":"1900"}

{"sheet":"بودجه","index":0,"n_rows":55,"n_cols":7,"rows_kept":55,"merged":[[1,2,1,3]]}
[]
[null,null,"ماه سال",null,"بودجه ماهانه برای      "]
[]
[]
[{"$nulls":5},"بودجه موجود"]
[null,null,"فیلدهای زرد را تکمیل کنید.",null,{"v":125,"d":"125.00"},"شرح"]
[null,null,"برای هزینه‌ها به برگه بعدی مراجعه کنید."]
[]
[]
[]
[]
[{"$nulls":4},{"$f":"SUM(E6:E11)","v":{"v":125,"d":"125.00"}},"کل موجود"]
[]
[]
[null,null,"کل باقیمانده","کل هزینه شده","کل موجود"]
[null,null,{"$f":"E16-ABS(D16)","v":{"v":123.9,"d":"123.90"}},{"$f":"SUM(D19:D53)","v":{"v":1.1,"d":"1.10"}},{"$f":"E12","v":{"v":125,"d":"125.00"}}]
[]
[null,null,"مبلغ باقی مانده","مبلغ خرج شده","مبلغ اختصاص داده شده","دسته‌بندی"]
[null,null,{"$f":"IF(F19=\"\",\"\",E19-ABS(D19))","v":{"v":0.9,"d":"0.90"}},{"$f":"IF(F19=\"\",\"\",SUMIF('ثبت هزینه‌ها'!A:A,F19,'ثبت هزینه‌ها'!C:C))","v":{"v":1.1,"d":"1.10"}},{"v":2,"d":"2.00"},"فئة نموذجية ",1]
[null,null,{"$f":"IF(F20=\"\",\"\",E20-ABS(D20))","v":{"v":0,"d":"0.00"}},{"$f":"IF(F20=\"\",\"\",SUMIF('ثبت هزینه‌ها'!A:A,F20,'ثبت هزینه‌ها'!C:C))","v":{"v":0,"d":"0.00"}},null,"رهن عقاري ",2]
[null,null,{"$f":"IF(F21=\"\",\"\",E21-ABS(D21))","v":{"v":0,"d":"0.00"}},{"$f":"IF(F21=\"\",\"\",SUMIF('ثبت هزینه‌ها'!A:A,F21,'ثبت هزینه‌ها'!C:C))","v":{"v":0,"d":"0.00"}},null,"بنزين  ",3]
[null,null,{"$f":"IF(F22=\"\",\"\",E22-ABS(D22))","v":{"v":0,"d":"0.00"}},{"$f":"IF(F22=\"\",\"\",SUMIF('ثبت هزینه‌ها'!A:A,F22,'ثبت هزینه‌ها'!C:C))","v":{"v":0,"d":"0.00"}},null,"بقالة  ",4]
[null,null,{"$f":"IF(F23=\"\",\"\",E23-ABS(D23))","v":{"v":0,"d":"0.00"}},{"$f":"IF(F23=\"\",\"\",SUMIF('ثبت هزینه‌ها'!A:A,F23,'ثبت هزینه‌ها'!C:C))","v":{"v":0,"d":"0.00"}},null,"مطاعم ",5]
[null,null,{"$f":"IF(F24=\"\",\"\",E24-ABS(D24))","v":""},{"$f":"IF(F24=\"\",\"\",SUMIF('ثبت هزینه‌ها'!A:A,F24,'ثبت هزینه‌ها'!C:C))","v":""},null,null,6]
[null,null,{"$f":"IF(F25=\"\",\"\",E25-ABS(D25))","v":""},{"$f":"IF(F25=\"\",\"\",SUMIF('ثبت هزینه‌ها'!A:A,F25,'ثبت هزینه‌ها'!C:C))","v":""},null,null,7]
[null,null,{"$f":"IF(F26=\"\",\"\",E26-ABS(D26))","v":""},{"$f":"IF(F26=\"\",\"\",SUMIF('ثبت هزینه‌ها'!A:A,F26,'ثبت هزینه‌ها'!C:C))","v":""},null,null,8]
[null,null,{"$f":"IF(F27=\"\",\"\",E27-ABS(D27))","v":""},{"$f":"IF(F27=\"\",\"\",SUMIF('ثبت هزینه‌ها'!A:A,F27,'ثبت هزینه‌ها'!C:C))","v":""},null,null,9]
[null,null,{"$f":"IF(F28=\"\",\"\",E28-ABS(D28))","v":""},{"$f":"IF(F28=\"\",\"\",SUMIF('ثبت هزینه‌ها'!A:A,F28,'ثبت هزینه‌ها'!C:C))","v":""},null,null,10]
[null,null,{"$f":"IF(F29=\"\",\"\",E29-ABS(D29))","v":""},{"$f":"IF(F29=\"\",\"\",SUMIF('ثبت هزینه‌ها'!A:A,F29,'ثبت هزینه‌ها'!C:C))","v":""},null,null,11]
[null,null,{"$f":"IF(F30=\"\",\"\",E30-ABS(D30))","v":""},{"$f":"IF(F30=\"\",\"\",SUMIF('ثبت هزینه‌ها'!A:A,F30,'ثبت هزینه‌ها'!C:C))","v":""},null,null,12]
[null,null,{"$f":"IF(F31=\"\",\"\",E31-ABS(D31))","v":""},{"$f":"IF(F31=\"\",\"\",SUMIF('ثبت هزینه‌ها'!A:A,F31,'ثبت هزینه‌ها'!C:C))","v":""},null,null,13]
[null,null,{"$f":"IF(F32=\"\",\"\",E32-ABS(D32))","v":""},{"$f":"IF(F32=\"\",\"\",SUMIF('ثبت هزینه‌ها'!A:A,F32,'ثبت هزینه‌ها'!C:C))","v":""},null,null,14]
[null,null,{"$f":"IF(F33=\"\",\"\",E33-ABS(D33))","v":""},{"$f":"IF(F33=\"\",\"\",SUMIF('ثبت هزینه‌ها'!A:A,F33,'ثبت هزینه‌ها'!C:C))","v":""},null,null,15]
[null,null,{"$f":"IF(F34=\"\",\"\",E34-ABS(D34))","v":""},{"$f":"IF(F34=\"\",\"\",SUMIF('ثبت هزینه‌ها'!A:A,F34,'ثبت هزینه‌ها'!C:C))","v":""},null,null,16]
[null,null,{"$f":"IF(F35=\"\",\"\",E35-ABS(D35))","v":""},{"$f":"IF(F35=\"\",\"\",SUMIF('ثبت هزینه‌ها'!A:A,F35,'ثبت هزینه‌ها'!C:C))","v":""},null,null,17]
[null,null,{"$f":"IF(F36=\"\",\"\",E36-ABS(D36))","v":""},{"$f":"IF(F36=\"\",\"\",SUMIF('ثبت هزینه‌ها'!A:A,F36,'ثبت هزینه‌ها'!C:C))","v":""},null,null,18]
[null,null,{"$f":"IF(F37=\"\",\"\",E37-ABS(D37))","v":""},{"$f":"IF(F37=\"\",\"\",SUMIF('ثبت هزینه‌ها'!A:A,F37,'ثبت هزینه‌ها'!C:C))","v":""},null,null,19]
[null,null,{"$f":"IF(F38=\"\",\"\",E38-ABS(D38))","v":""},{"$f":"IF(F38=\"\",\"\",SUMIF('ثبت هزینه‌ها'!A:A,F38,'ثبت هزینه‌ها'!C:C))","v":""},null,null,20]
[null,null,{"$f":"IF(F39=\"\",\"\",E39-ABS(D39))","v":""},{"$f":"IF(F39=\"\",\"\",SUMIF('ثبت هزینه‌ها'!A:A,F39,'ثبت هزینه‌ها'!C:C))","v":""},null,null,21]
[null,null,{"$f":"IF(F40=\"\",\"\",E40-ABS(D40))","v":""},{"$f":"IF(F40=\"\",\"\",SUMIF('ثبت هزینه‌ها'!A:A,F40,'ثبت هزینه‌ها'!C:C))","v":""},null,null,22]
[null,null,{"$f":"IF(F41=\"\",\"\",E41-ABS(D41))","v":""},{"$f":"IF(F41=\"\",\"\",SUMIF('ثبت هزینه‌ها'!A:A,F41,'ثبت هزینه‌ها'!C:C))","v":""},null,null,23]
[null,null,{"$f":"IF(F42=\"\",\"\",E42-ABS(D42))","v":""},{"$f":"IF(F42=\"\",\"\",SUMIF('ثبت هزینه‌ها'!A:A,F42,'ثبت هزینه‌ها'!C:C))","v":""},null,null,24]
[null,null,{"$f":"IF(F43=\"\",\"\",E43-ABS(D43))","v":""},{"$f":"IF(F43=\"\",\"\",SUMIF('ثبت هزینه‌ها'!A:A,F43,'ثبت هزینه‌ها'!C:C))","v":""},null,null,25]
[null,null,{"$f":"IF(F44=\"\",\"\",E44-ABS(D44))","v":""},{"$f":"IF(F44=\"\",\"\",SUMIF('ثبت هزینه‌ها'!A:A,F44,'ثبت هزینه‌ها'!C:C))","v":""},null,null,26]
[null,null,{"$f":"IF(F45=\"\",\"\",E45-ABS(D45))","v":""},{"$f":"IF(F45=\"\",\"\",SUMIF('ثبت هزینه‌ها'!A:A,F45,'ثبت هزینه‌ها'!C:C))","v":""},null,null,27]
[null,null,{"$f":"IF(F46=\"\",\"\",E46-ABS(D46))","v":""},{"$f":"IF(F46=\"\",\"\",SUMIF('ثبت هزینه‌ها'!A:A,F46,'ثبت هزینه‌ها'!C:C))","v":""},null,null,28]
[null,null,{"$f":"IF(F47=\"\",\"\",E47-ABS(D47))","v":""},{"$f":"IF(F47=\"\",\"\",SUMIF('ثبت هزینه‌ها'!A:A,F47,'ثبت هزینه‌ها'!C:C))","v":""},null,null,29]
[null,null,{"$f":"IF(F48=\"\",\"\",E48-ABS(D48))","v":""},{"$f":"IF(F48=\"\",\"\",SUMIF('ثبت هزینه‌ها'!A:A,F48,'ثبت هزینه‌ها'!C:C))","v":""},null,null,30]
[null,null,{"$f":"IF(F49=\"\",\"\",E49-ABS(D49))","v":""},{"$f":"IF(F49=\"\",\"\",SUMIF('ثبت هزینه‌ها'!A:A,F49,'ثبت هزینه‌ها'!C:C))","v":""},null,null,31]
[null,null,{"$f":"IF(F50=\"\",\"\",E50-ABS(D50))","v":""},{"$f":"IF(F50=\"\",\"\",SUMIF('ثبت هزینه‌ها'!A:A,F50,'ثبت هزینه‌ها'!C:C))","v":""},null,null,32]
[null,null,{"$f":"IF(F51=\"\",\"\",E51-ABS(D51))","v":""},{"$f":"IF(F51=\"\",\"\",SUMIF('ثبت هزینه‌ها'!A:A,F51,'ثبت هزینه‌ها'!C:C))","v":""},null,null,33]
[null,null,{"$f":"IF(F52=\"\",\"\",E52-ABS(D52))","v":""},{"$f":"IF(F52=\"\",\"\",SUMIF('ثبت هزینه‌ها'!A:A,F52,'ثبت هزینه‌ها'!C:C))","v":""},null,null,34]
[null,null,{"$f":"IF(F53=\"\",\"\",E53-ABS(D53))","v":""},{"$f":"IF(F53=\"\",\"\",SUMIF('ثبت هزینه‌ها'!A:A,F53,'ثبت هزینه‌ها'!C:C))","v":""}," ",null,35]
[]
[{"$nulls":4},{"$f":"SUM(E19:E53)","v":{"v":2,"d":"2.00"}},"کل موجود"]

{"sheet":"ثبت هزینه‌ها","index":1,"n_rows":750,"n_cols":7,"rows_kept":750,"merged":[[1,2,1,4]]}
["ثبت هزینه‌ها"]
[null,null,"۱) برای هر هزینه مبلغی وارد کنید (یا از بانک خود کپی و پیست کنید)"]
["۲) برای هر هزینه در زیر یک دسته انتخاب کنید"]
[null,null,"مبلغ هزینه‌ها","شرح / یادداشت‌ها","Expenses","Expenses","Expenses"]
[]
["فئة نموذجية ",null,{"v":1.1,"d":"1.10"}]
{"$rows_empty":743}
[null," "]

{"sheet":"نمودار دایره‌ای","index":2,"n_rows":36,"n_cols":10,"rows_kept":36}
["Rank","Rank + tiebreaker","true rank","Category","Expense Totals","Percent",null,"دسته‌بندی","جمع هزینه‌ها","درصد"]
[{"$f":"IF(E2=\"\",\"\",RANK(E2,$E$2:$E$36))","v":1},{"$f":"IF(A2=\"\",\"\",A2+ROW()/1000)","v":1.002},{"$f":"IF(B2=\"\",\"\",RANK(B2,$B$2:$B$36,1))","v":1},{"$f":"IF(بودجه!F19=\"\",\"\",بودجه!F19)","v":"فئة نموذجية "},{"$f":"IF(D2=\"\",\"\",ABS(بودجه!E19))","v":{"v":2,"d":"2.00"}},{"$f":"IF(E2=\"\",\"\",E2/SUM($E$2:$E$36))","v":{"v":1,"d":"100.00%"}},null,{"$f":"IFERROR(VLOOKUP(ROW()-1,$C$2:$F$36,2,0),\"\")","v":"فئة نموذجية "},{"$f":"IFERROR(VLOOKUP(ROW()-1,$C$2:$F$36,3,0),\"\")","v":{"v":2,"d":"2.00"}},{"$f":"IFERROR(VLOOKUP(ROW()-1,$C$2:$F$36,4,0),\"\")","v":{"v":1,"d":"100.0%"}}]
[{"$f":"IF(E3=\"\",\"\",RANK(E3,$E$2:$E$36))","v":2},{"$f":"IF(A3=\"\",\"\",A3+ROW()/1000)","v":2.003},{"$f":"IF(B3=\"\",\"\",RANK(B3,$B$2:$B$36,1))","v":2},{"$f":"IF(بودجه!F20=\"\",\"\",بودجه!F20)","v":"رهن عقاري "},{"$f":"IF(D3=\"\",\"\",ABS(بودجه!E20))","v":{"v":0,"d":"0.00"}},{"$f":"IF(E3=\"\",\"\",E3/SUM($E$2:$E$36))","v":{"v":0,"d":"0.0%"}},null,{"$f":"IFERROR(VLOOKUP(ROW()-1,$C$2:$F$36,2,0),\"\")","v":"رهن عقاري "},{"$f":"IFERROR(VLOOKUP(ROW()-1,$C$2:$F$36,3,0),\"\")","v":{"v":0,"d":"0.00"}},{"$f":"IFERROR(VLOOKUP(ROW()-1,$C$2:$F$36,4,0),\"\")","v":{"v":0,"d":"0.0%"}}]
[{"$f":"IF(E4=\"\",\"\",RANK(E4,$E$2:$E$36))","v":2},{"$f":"IF(A4=\"\",\"\",A4+ROW()/1000)","v":2.004},{"$f":"IF(B4=\"\",\"\",RANK(B4,$B$2:$B$36,1))","v":3},{"$f":"IF(بودجه!F21=\"\",\"\",بودجه!F21)","v":"بنزين  "},{"$f":"IF(D4=\"\",\"\",ABS(بودجه!E21))","v":{"v":0,"d":"0.00"}},{"$f":"IF(E4=\"\",\"\",E4/SUM($E$2:$E$36))","v":{"v":0,"d":"0.0%"}},null,{"$f":"IFERROR(VLOOKUP(ROW()-1,$C$2:$F$36,2,0),\"\")","v":"بنزين  "},{"$f":"IFERROR(VLOOKUP(ROW()-1,$C$2:$F$36,3,0),\"\")","v":{"v":0,"d":"0.00"}},{"$f":"IFERROR(VLOOKUP(ROW()-1,$C$2:$F$36,4,0),\"\")","v":{"v":0,"d":"0.0%"}}]
[{"$f":"IF(E5=\"\",\"\",RANK(E5,$E$2:$E$36))","v":2},{"$f":"IF(A5=\"\",\"\",A5+ROW()/1000)","v":2.005},{"$f":"IF(B5=\"\",\"\",RANK(B5,$B$2:$B$36,1))","v":4},{"$f":"IF(بودجه!F22=\"\",\"\",بودجه!F22)","v":"بقالة  "},{"$f":"IF(D5=\"\",\"\",ABS(بودجه!E22))","v":{"v":0,"d":"0.00"}},{"$f":"IF(E5=\"\",\"\",E5/SUM($E$2:$E$36))","v":{"v":0,"d":"0.0%"}},null,{"$f":"IFERROR(VLOOKUP(ROW()-1,$C$2:$F$36,2,0),\"\")","v":"بقالة  "},{"$f":"IFERROR(VLOOKUP(ROW()-1,$C$2:$F$36,3,0),\"\")","v":{"v":0,"d":"0.00"}},{"$f":"IFERROR(VLOOKUP(ROW()-1,$C$2:$F$36,4,0),\"\")","v":{"v":0,"d":"0.0%"}}]
[{"$f":"IF(E6=\"\",\"\",RANK(E6,$E$2:$E$36))","v":2},{"$f":"IF(A6=\"\",\"\",A6+ROW()/1000)","v":2.006},{"$f":"IF(B6=\"\",\"\",RANK(B6,$B$2:$B$36,1))","v":5},{"$f":"IF(بودجه!F23=\"\",\"\",بودجه!F23)","v":"مطاعم "},{"$f":"IF(D6=\"\",\"\",ABS(بودجه!E23))","v":{"v":0,"d":"0.00"}},{"$f":"IF(E6=\"\",\"\",E6/SUM($E$2:$E$36))","v":{"v":0,"d":"0.0%"}},null,{"$f":"IFERROR(VLOOKUP(ROW()-1,$C$2:$F$36,2,0),\"\")","v":"مطاعم "},{"$f":"IFERROR(VLOOKUP(ROW()-1,$C$2:$F$36,3,0),\"\")","v":{"v":0,"d":"0.00"}},{"$f":"IFERROR(VLOOKUP(ROW()-1,$C$2:$F$36,4,0),\"\")","v":{"v":0,"d":"0.0%"}}]
[{"$f":"IF(E7=\"\",\"\",RANK(E7,$E$2:$E$36))","v":""},{"$f":"IF(A7=\"\",\"\",A7+ROW()/1000)","v":""},{"$f":"IF(B7=\"\",\"\",RANK(B7,$B$2:$B$36,1))","v":""},{"$f":"IF(بودجه!F24=\"\",\"\",بودجه!F24)","v":""},{"$f":"IF(D7=\"\",\"\",ABS(بودجه!E24))","v":""},{"$f":"IF(E7=\"\",\"\",E7/SUM($E$2:$E$36))","v":""},null,{"$f":"IFERROR(VLOOKUP(ROW()-1,$C$2:$F$36,2,0),\"\")","v":""},{"$f":"IFERROR(VLOOKUP(ROW()-1,$C$2:$F$36,3,0),\"\")","v":""},{"$f":"IFERROR(VLOOKUP(ROW()-1,$C$2:$F$36,4,0),\"\")","v":""}]
[{"$f":"IF(E8=\"\",\"\",RANK(E8,$E$2:$E$36))","v":""},{"$f":"IF(A8=\"\",\"\",A8+ROW()/1000)","v":""},{"$f":"IF(B8=\"\",\"\",RANK(B8,$B$2:$B$36,1))","v":""},{"$f":"IF(بودجه!F25=\"\",\"\",بودجه!F25)","v":""},{"$f":"IF(D8=\"\",\"\",ABS(بودجه!E25))","v":""},{"$f":"IF(E8=\"\",\"\",E8/SUM($E$2:$E$36))","v":""},null,{"$f":"IFERROR(VLOOKUP(ROW()-1,$C$2:$F$36,2,0),\"\")","v":""},{"$f":"IFERROR(VLOOKUP(ROW()-1,$C$2:$F$36,3,0),\"\")","v":""},{"$f":"IFERROR(VLOOKUP(ROW()-1,$C$2:$F$36,4,0),\"\")","v":""}]
[{"$f":"IF(E9=\"\",\"\",RANK(E9,$E$2:$E$36))","v":""},{"$f":"IF(A9=\"\",\"\",A9+ROW()/1000)","v":""},{"$f":"IF(B9=\"\",\"\",RANK(B9,$B$2:$B$36,1))","v":""},{"$f":"IF(بودجه!F26=\"\",\"\",بودجه!F26)","v":""},{"$f":"IF(D9=\"\",\"\",ABS(بودجه!E26))","v":""},{"$f":"IF(E9=\"\",\"\",E9/SUM($E$2:$E$36))","v":""},null,{"$f":"IFERROR(VLOOKUP(ROW()-1,$C$2:$F$36,2,0),\"\")","v":""},{"$f":"IFERROR(VLOOKUP(ROW()-1,$C$2:$F$36,3,0),\"\")","v":""},{"$f":"IFERROR(VLOOKUP(ROW()-1,$C$2:$F$36,4,0),\"\")","v":""}]
[{"$f":"IF(E10=\"\",\"\",RANK(E10,$E$2:$E$36))","v":""},{"$f":"IF(A10=\"\",\"\",A10+ROW()/1000)","v":""},{"$f":"IF(B10=\"\",\"\",RANK(B10,$B$2:$B$36,1))","v":""},{"$f":"IF(بودجه!F27=\"\",\"\",بودجه!F27)","v":""},{"$f":"IF(D10=\"\",\"\",ABS(بودجه!E27))","v":""},{"$f":"IF(E10=\"\",\"\",E10/SUM($E$2:$E$36))","v":""},null,{"$f":"IFERROR(VLOOKUP(ROW()-1,$C$2:$F$36,2,0),\"\")","v":""},{"$f":"IFERROR(VLOOKUP(ROW()-1,$C$2:$F$36,3,0),\"\")","v":""},{"$f":"IFERROR(VLOOKUP(ROW()-1,$C$2:$F$36,4,0),\"\")","v":""}]
[{"$f":"IF(E11=\"\",\"\",RANK(E11,$E$2:$E$36))","v":""},{"$f":"IF(A11=\"\",\"\",A11+ROW()/1000)","v":""},{"$f":"IF(B11=\"\",\"\",RANK(B11,$B$2:$B$36,1))","v":""},{"$f":"IF(بودجه!F28=\"\",\"\",بودجه!F28)","v":""},{"$f":"IF(D11=\"\",\"\",ABS(بودجه!E28))","v":""},{"$f":"IF(E11=\"\",\"\",E11/SUM($E$2:$E$36))","v":""},null,{"$f":"IFERROR(VLOOKUP(ROW()-1,$C$2:$F$36,2,0),\"\")","v":""},{"$f":"IFERROR(VLOOKUP(ROW()-1,$C$2:$F$36,3,0),\"\")","v":""},{"$f":"IFERROR(VLOOKUP(ROW()-1,$C$2:$F$36,4,0),\"\")","v":""}]
[{"$f":"IF(E12=\"\",\"\",RANK(E12,$E$2:$E$36))","v":""},{"$f":"IF(A12=\"\",\"\",A12+ROW()/1000)","v":""},{"$f":"IF(B12=\"\",\"\",RANK(B12,$B$2:$B$36,1))","v":""},{"$f":"IF(بودجه!F29=\"\",\"\",بودجه!F29)","v":""},{"$f":"IF(D12=\"\",\"\",ABS(بودجه!E29))","v":""},{"$f":"IF(E12=\"\",\"\",E12/SUM($E$2:$E$36))","v":""},null,{"$f":"IFERROR(VLOOKUP(ROW()-1,$C$2:$F$36,2,0),\"\")","v":""},{"$f":"IFERROR(VLOOKUP(ROW()-1,$C$2:$F$36,3,0),\"\")","v":""},{"$f":"IFERROR(VLOOKUP(ROW()-1,$C$2:$F$36,4,0),\"\")","v":""}]
[{"$f":"IF(E13=\"\",\"\",RANK(E13,$E$2:$E$36))","v":""},{"$f":"IF(A13=\"\",\"\",A13+ROW()/1000)","v":""},{"$f":"IF(B13=\"\",\"\",RANK(B13,$B$2:$B$36,1))","v":""},{"$f":"IF(بودجه!F30=\"\",\"\",بودجه!F30)","v":""},{"$f":"IF(D13=\"\",\"\",ABS(بودجه!E30))","v":""},{"$f":"IF(E13=\"\",\"\",E13/SUM($E$2:$E$36))","v":""},null,{"$f":"IFERROR(VLOOKUP(ROW()-1,$C$2:$F$36,2,0),\"\")","v":""},{"$f":"IFERROR(VLOOKUP(ROW()-1,$C$2:$F$36,3,0),\"\")","v":""},{"$f":"IFERROR(VLOOKUP(ROW()-1,$C$2:$F$36,4,0),\"\")","v":""}]
[{"$f":"IF(E14=\"\",\"\",RANK(E14,$E$2:$E$36))","v":""},{"$f":"IF(A14=\"\",\"\",A14+ROW()/1000)","v":""},{"$f":"IF(B14=\"\",\"\",RANK(B14,$B$2:$B$36,1))","v":""},{"$f":"IF(بودجه!F31=\"\",\"\",بودجه!F31)","v":""},{"$f":"IF(D14=\"\",\"\",ABS(بودجه!E31))","v":""},{"$f":"IF(E14=\"\",\"\",E14/SUM($E$2:$E$36))","v":""},null,{"$f":"IFERROR(VLOOKUP(ROW()-1,$C$2:$F$36,2,0),\"\")","v":""},{"$f":"IFERROR(VLOOKUP(ROW()-1,$C$2:$F$36,3,0),\"\")","v":""},{"$f":"IFERROR(VLOOKUP(ROW()-1,$C$2:$F$36,4,0),\"\")","v":""}]
[{"$f":"IF(E15=\"\",\"\",RANK(E15,$E$2:$E$36))","v":""},{"$f":"IF(A15=\"\",\"\",A15+ROW()/1000)","v":""},{"$f":"IF(B15=\"\",\"\",RANK(B15,$B$2:$B$36,1))","v":""},{"$f":"IF(بودجه!F32=\"\",\"\",بودجه!F32)","v":""},{"$f":"IF(D15=\"\",\"\",ABS(بودجه!E32))","v":""},{"$f":"IF(E15=\"\",\"\",E15/SUM($E$2:$E$36))","v":""},null,{"$f":"IFERROR(VLOOKUP(ROW()-1,$C$2:$F$36,2,0),\"\")","v":""},{"$f":"IFERROR(VLOOKUP(ROW()-1,$C$2:$F$36,3,0),\"\")","v":""},{"$f":"IFERROR(VLOOKUP(ROW()-1,$C$2:$F$36,4,0),\"\")","v":""}]
[{"$f":"IF(E16=\"\",\"\",RANK(E16,$E$2:$E$36))","v":""},{"$f":"IF(A16=\"\",\"\",A16+ROW()/1000)","v":""},{"$f":"IF(B16=\"\",\"\",RANK(B16,$B$2:$B$36,1))","v":""},{"$f":"IF(بودجه!F33=\"\",\"\",بودجه!F33)","v":""},{"$f":"IF(D16=\"\",\"\",ABS(بودجه!E33))","v":""},{"$f":"IF(E16=\"\",\"\",E16/SUM($E$2:$E$36))","v":""},null,{"$f":"IFERROR(VLOOKUP(ROW()-1,$C$2:$F$36,2,0),\"\")","v":""},{"$f":"IFERROR(VLOOKUP(ROW()-1,$C$2:$F$36,3,0),\"\")","v":""},{"$f":"IFERROR(VLOOKUP(ROW()-1,$C$2:$F$36,4,0),\"\")","v":""}]
[{"$f":"IF(E17=\"\",\"\",RANK(E17,$E$2:$E$36))","v":""},{"$f":"IF(A17=\"\",\"\",A17+ROW()/1000)","v":""},{"$f":"IF(B17=\"\",\"\",RANK(B17,$B$2:$B$36,1))","v":""},{"$f":"IF(بودجه!F34=\"\",\"\",بودجه!F34)","v":""},{"$f":"IF(D17=\"\",\"\",ABS(بودجه!E34))","v":""},{"$f":"IF(E17=\"\",\"\",E17/SUM($E$2:$E$36))","v":""},null,{"$f":"IFERROR(VLOOKUP(ROW()-1,$C$2:$F$36,2,0),\"\")","v":""},{"$f":"IFERROR(VLOOKUP(ROW()-1,$C$2:$F$36,3,0),\"\")","v":""},{"$f":"IFERROR(VLOOKUP(ROW()-1,$C$2:$F$36,4,0),\"\")","v":""}]
[{"$f":"IF(E18=\"\",\"\",RANK(E18,$E$2:$E$36))","v":""},{"$f":"IF(A18=\"\",\"\",A18+ROW()/1000)","v":""},{"$f":"IF(B18=\"\",\"\",RANK(B18,$B$2:$B$36,1))","v":""},{"$f":"IF(بودجه!F35=\"\",\"\",بودجه!F35)","v":""},{"$f":"IF(D18=\"\",\"\",ABS(بودجه!E35))","v":""},{"$f":"IF(E18=\"\",\"\",E18/SUM($E$2:$E$36))","v":""},null,{"$f":"IFERROR(VLOOKUP(ROW()-1,$C$2:$F$36,2,0),\"\")","v":""},{"$f":"IFERROR(VLOOKUP(ROW()-1,$C$2:$F$36,3,0),\"\")","v":""},{"$f":"IFERROR(VLOOKUP(ROW()-1,$C$2:$F$36,4,0),\"\")","v":""}]
[{"$f":"IF(E19=\"\",\"\",RANK(E19,$E$2:$E$36))","v":""},{"$f":"IF(A19=\"\",\"\",A19+ROW()/1000)","v":""},{"$f":"IF(B19=\"\",\"\",RANK(B19,$B$2:$B$36,1))","v":""},{"$f":"IF(بودجه!F36=\"\",\"\",بودجه!F36)","v":""},{"$f":"IF(D19=\"\",\"\",ABS(بودجه!E36))","v":""},{"$f":"IF(E19=\"\",\"\",E19/SUM($E$2:$E$36))","v":""},null,{"$f":"IFERROR(VLOOKUP(ROW()-1,$C$2:$F$36,2,0),\"\")","v":""},{"$f":"IFERROR(VLOOKUP(ROW()-1,$C$2:$F$36,3,0),\"\")","v":""},{"$f":"IFERROR(VLOOKUP(ROW()-1,$C$2:$F$36,4,0),\"\")","v":""}]
[{"$f":"IF(E20=\"\",\"\",RANK(E20,$E$2:$E$36))","v":""},{"$f":"IF(A20=\"\",\"\",A20+ROW()/1000)","v":""},{"$f":"IF(B20=\"\",\"\",RANK(B20,$B$2:$B$36,1))","v":""},{"$f":"IF(بودجه!F37=\"\",\"\",بودجه!F37)","v":""},{"$f":"IF(D20=\"\",\"\",ABS(بودجه!E37))","v":""},{"$f":"IF(E20=\"\",\"\",E20/SUM($E$2:$E$36))","v":""},null,{"$f":"IFERROR(VLOOKUP(ROW()-1,$C$2:$F$36,2,0),\"\")","v":""},{"$f":"IFERROR(VLOOKUP(ROW()-1,$C$2:$F$36,3,0),\"\")","v":""},{"$f":"IFERROR(VLOOKUP(ROW()-1,$C$2:$F$36,4,0),\"\")","v":""}]
[{"$f":"IF(E21=\"\",\"\",RANK(E21,$E$2:$E$36))","v":""},{"$f":"IF(A21=\"\",\"\",A21+ROW()/1000)","v":""},{"$f":"IF(B21=\"\",\"\",RANK(B21,$B$2:$B$36,1))","v":""},{"$f":"IF(بودجه!F38=\"\",\"\",بودجه!F38)","v":""},{"$f":"IF(D21=\"\",\"\",ABS(بودجه!E38))","v":""},{"$f":"IF(E21=\"\",\"\",E21/SUM($E$2:$E$36))","v":""},null,{"$f":"IFERROR(VLOOKUP(ROW()-1,$C$2:$F$36,2,0),\"\")","v":""},{"$f":"IFERROR(VLOOKUP(ROW()-1,$C$2:$F$36,3,0),\"\")","v":""},{"$f":"IFERROR(VLOOKUP(ROW()-1,$C$2:$F$36,4,0),\"\")","v":""}]
[{"$f":"IF(E22=\"\",\"\",RANK(E22,$E$2:$E$36))","v":""},{"$f":"IF(A22=\"\",\"\",A22+ROW()/1000)","v":""},{"$f":"IF(B22=\"\",\"\",RANK(B22,$B$2:$B$36,1))","v":""},{"$f":"IF(بودجه!F39=\"\",\"\",بودجه!F39)","v":""},{"$f":"IF(D22=\"\",\"\",ABS(بودجه!E39))","v":""},{"$f":"IF(E22=\"\",\"\",E22/SUM($E$2:$E$36))","v":""},null,{"$f":"IFERROR(VLOOKUP(ROW()-1,$C$2:$F$36,2,0),\"\")","v":""},{"$f":"IFERROR(VLOOKUP(ROW()-1,$C$2:$F$36,3,0),\"\")","v":""},{"$f":"IFERROR(VLOOKUP(ROW()-1,$C$2:$F$36,4,0),\"\")","v":""}]
[{"$f":"IF(E23=\"\",\"\",RANK(E23,$E$2:$E$36))","v":""},{"$f":"IF(A23=\"\",\"\",A23+ROW()/1000)","v":""},{"$f":"IF(B23=\"\",\"\",RANK(B23,$B$2:$B$36,1))","v":""},{"$f":"IF(بودجه!F40=\"\",\"\",بودجه!F40)","v":""},{"$f":"IF(D23=\"\",\"\",ABS(بودجه!E40))","v":""},{"$f":"IF(E23=\"\",\"\",E23/SUM($E$2:$E$36))","v":""},null,{"$f":"IFERROR(VLOOKUP(ROW()-1,$C$2:$F$36,2,0),\"\")","v":""},{"$f":"IFERROR(VLOOKUP(ROW()-1,$C$2:$F$36,3,0),\"\")","v":""},{"$f":"IFERROR(VLOOKUP(ROW()-1,$C$2:$F$36,4,0),\"\")","v":""}]
[{"$f":"IF(E24=\"\",\"\",RANK(E24,$E$2:$E$36))","v":""},{"$f":"IF(A24=\"\",\"\",A24+ROW()/1000)","v":""},{"$f":"IF(B24=\"\",\"\",RANK(B24,$B$2:$B$36,1))","v":""},{"$f":"IF(بودجه!F41=\"\",\"\",بودجه!F41)","v":""},{"$f":"IF(D24=\"\",\"\",ABS(بودجه!E41))","v":""},{"$f":"IF(E24=\"\",\"\",E24/SUM($E$2:$E$36))","v":""},null,{"$f":"IFERROR(VLOOKUP(ROW()-1,$C$2:$F$36,2,0),\"\")","v":""},{"$f":"IFERROR(VLOOKUP(ROW()-1,$C$2:$F$36,3,0),\"\")","v":""},{"$f":"IFERROR(VLOOKUP(ROW()-1,$C$2:$F$36,4,0),\"\")","v":""}]
[{"$f":"IF(E25=\"\",\"\",RANK(E25,$E$2:$E$36))","v":""},{"$f":"IF(A25=\"\",\"\",A25+ROW()/1000)","v":""},{"$f":"IF(B25=\"\",\"\",RANK(B25,$B$2:$B$36,1))","v":""},{"$f":"IF(بودجه!F42=\"\",\"\",بودجه!F42)","v":""},{"$f":"IF(D25=\"\",\"\",ABS(بودجه!E42))","v":""},{"$f":"IF(E25=\"\",\"\",E25/SUM($E$2:$E$36))","v":""},null,{"$f":"IFERROR(VLOOKUP(ROW()-1,$C$2:$F$36,2,0),\"\")","v":""},{"$f":"IFERROR(VLOOKUP(ROW()-1,$C$2:$F$36,3,0),\"\")","v":""},{"$f":"IFERROR(VLOOKUP(ROW()-1,$C$2:$F$36,4,0),\"\")","v":""}]
[{"$f":"IF(E26=\"\",\"\",RANK(E26,$E$2:$E$36))","v":""},{"$f":"IF(A26=\"\",\"\",A26+ROW()/1000)","v":""},{"$f":"IF(B26=\"\",\"\",RANK(B26,$B$2:$B$36,1))","v":""},{"$f":"IF(بودجه!F43=\"\",\"\",بودجه!F43)","v":""},{"$f":"IF(D26=\"\",\"\",ABS(بودجه!E43))","v":""},{"$f":"IF(E26=\"\",\"\",E26/SUM($E$2:$E$36))","v":""},null,{"$f":"IFERROR(VLOOKUP(ROW()-1,$C$2:$F$36,2,0),\"\")","v":""},{"$f":"IFERROR(VLOOKUP(ROW()-1,$C$2:$F$36,3,0),\"\")","v":""},{"$f":"IFERROR(VLOOKUP(ROW()-1,$C$2:$F$36,4,0),\"\")","v":""}]
[{"$f":"IF(E27=\"\",\"\",RANK(E27,$E$2:$E$36))","v":""},{"$f":"IF(A27=\"\",\"\",A27+ROW()/1000)","v":""},{"$f":"IF(B27=\"\",\"\",RANK(B27,$B$2:$B$36,1))","v":""},{"$f":"IF(بودجه!F44=\"\",\"\",بودجه!F44)","v":""},{"$f":"IF(D27=\"\",\"\",ABS(بودجه!E44))","v":""},{"$f":"IF(E27=\"\",\"\",E27/SUM($E$2:$E$36))","v":""},null,{"$f":"IFERROR(VLOOKUP(ROW()-1,$C$2:$F$36,2,0),\"\")","v":""},{"$f":"IFERROR(VLOOKUP(ROW()-1,$C$2:$F$36,3,0),\"\")","v":""},{"$f":"IFERROR(VLOOKUP(ROW()-1,$C$2:$F$36,4,0),\"\")","v":""}]
[{"$f":"IF(E28=\"\",\"\",RANK(E28,$E$2:$E$36))","v":""},{"$f":"IF(A28=\"\",\"\",A28+ROW()/1000)","v":""},{"$f":"IF(B28=\"\",\"\",RANK(B28,$B$2:$B$36,1))","v":""},{"$f":"IF(بودجه!F45=\"\",\"\",بودجه!F45)","v":""},{"$f":"IF(D28=\"\",\"\",ABS(بودجه!E45))","v":""},{"$f":"IF(E28=\"\",\"\",E28/SUM($E$2:$E$36))","v":""},null,{"$f":"IFERROR(VLOOKUP(ROW()-1,$C$2:$F$36,2,0),\"\")","v":""},{"$f":"IFERROR(VLOOKUP(ROW()-1,$C$2:$F$36,3,0),\"\")","v":""},{"$f":"IFERROR(VLOOKUP(ROW()-1,$C$2:$F$36,4,0),\"\")","v":""}]
[{"$f":"IF(E29=\"\",\"\",RANK(E29,$E$2:$E$36))","v":""},{"$f":"IF(A29=\"\",\"\",A29+ROW()/1000)","v":""},{"$f":"IF(B29=\"\",\"\",RANK(B29,$B$2:$B$36,1))","v":""},{"$f":"IF(بودجه!F46=\"\",\"\",بودجه!F46)","v":""},{"$f":"IF(D29=\"\",\"\",ABS(بودجه!E46))","v":""},{"$f":"IF(E29=\"\",\"\",E29/SUM($E$2:$E$36))","v":""},null,{"$f":"IFERROR(VLOOKUP(ROW()-1,$C$2:$F$36,2,0),\"\")","v":""},{"$f":"IFERROR(VLOOKUP(ROW()-1,$C$2:$F$36,3,0),\"\")","v":""},{"$f":"IFERROR(VLOOKUP(ROW()-1,$C$2:$F$36,4,0),\"\")","v":""}]
[{"$f":"IF(E30=\"\",\"\",RANK(E30,$E$2:$E$36))","v":""},{"$f":"IF(A30=\"\",\"\",A30+ROW()/1000)","v":""},{"$f":"IF(B30=\"\",\"\",RANK(B30,$B$2:$B$36,1))","v":""},{"$f":"IF(بودجه!F47=\"\",\"\",بودجه!F47)","v":""},{"$f":"IF(D30=\"\",\"\",ABS(بودجه!E47))","v":""},{"$f":"IF(E30=\"\",\"\",E30/SUM($E$2:$E$36))","v":""},null,{"$f":"IFERROR(VLOOKUP(ROW()-1,$C$2:$F$36,2,0),\"\")","v":""},{"$f":"IFERROR(VLOOKUP(ROW()-1,$C$2:$F$36,3,0),\"\")","v":""},{"$f":"IFERROR(VLOOKUP(ROW()-1,$C$2:$F$36,4,0),\"\")","v":""}]
[{"$f":"IF(E31=\"\",\"\",RANK(E31,$E$2:$E$36))","v":""},{"$f":"IF(A31=\"\",\"\",A31+ROW()/1000)","v":""},{"$f":"IF(B31=\"\",\"\",RANK(B31,$B$2:$B$36,1))","v":""},{"$f":"IF(بودجه!F48=\"\",\"\",بودجه!F48)","v":""},{"$f":"IF(D31=\"\",\"\",ABS(بودجه!E48))","v":""},{"$f":"IF(E31=\"\",\"\",E31/SUM($E$2:$E$36))","v":""},null,{"$f":"IFERROR(VLOOKUP(ROW()-1,$C$2:$F$36,2,0),\"\")","v":""},{"$f":"IFERROR(VLOOKUP(ROW()-1,$C$2:$F$36,3,0),\"\")","v":""},{"$f":"IFERROR(VLOOKUP(ROW()-1,$C$2:$F$36,4,0),\"\")","v":""}]
[{"$f":"IF(E32=\"\",\"\",RANK(E32,$E$2:$E$36))","v":""},{"$f":"IF(A32=\"\",\"\",A32+ROW()/1000)","v":""},{"$f":"IF(B32=\"\",\"\",RANK(B32,$B$2:$B$36,1))","v":""},{"$f":"IF(بودجه!F49=\"\",\"\",بودجه!F49)","v":""},{"$f":"IF(D32=\"\",\"\",ABS(بودجه!E49))","v":""},{"$f":"IF(E32=\"\",\"\",E32/SUM($E$2:$E$36))","v":""},null,{"$f":"IFERROR(VLOOKUP(ROW()-1,$C$2:$F$36,2,0),\"\")","v":""},{"$f":"IFERROR(VLOOKUP(ROW()-1,$C$2:$F$36,3,0),\"\")","v":""},{"$f":"IFERROR(VLOOKUP(ROW()-1,$C$2:$F$36,4,0),\"\")","v":""}]
[{"$f":"IF(E33=\"\",\"\",RANK(E33,$E$2:$E$36))","v":""},{"$f":"IF(A33=\"\",\"\",A33+ROW()/1000)","v":""},{"$f":"IF(B33=\"\",\"\",RANK(B33,$B$2:$B$36,1))","v":""},{"$f":"IF(بودجه!F50=\"\",\"\",بودجه!F50)","v":""},{"$f":"IF(D33=\"\",\"\",ABS(بودجه!E50))","v":""},{"$f":"IF(E33=\"\",\"\",E33/SUM($E$2:$E$36))","v":""},null,{"$f":"IFERROR(VLOOKUP(ROW()-1,$C$2:$F$36,2,0),\"\")","v":""},{"$f":"IFERROR(VLOOKUP(ROW()-1,$C$2:$F$36,3,0),\"\")","v":""},{"$f":"IFERROR(VLOOKUP(ROW()-1,$C$2:$F$36,4,0),\"\")","v":""}]
[{"$f":"IF(E34=\"\",\"\",RANK(E34,$E$2:$E$36))","v":""},{"$f":"IF(A34=\"\",\"\",A34+ROW()/1000)","v":""},{"$f":"IF(B34=\"\",\"\",RANK(B34,$B$2:$B$36,1))","v":""},{"$f":"IF(بودجه!F51=\"\",\"\",بودجه!F51)","v":""},{"$f":"IF(D34=\"\",\"\",ABS(بودجه!E51))","v":""},{"$f":"IF(E34=\"\",\"\",E34/SUM($E$2:$E$36))","v":""},null,{"$f":"IFERROR(VLOOKUP(ROW()-1,$C$2:$F$36,2,0),\"\")","v":""},{"$f":"IFERROR(VLOOKUP(ROW()-1,$C$2:$F$36,3,0),\"\")","v":""},{"$f":"IFERROR(VLOOKUP(ROW()-1,$C$2:$F$36,4,0),\"\")","v":""}]
[{"$f":"IF(E35=\"\",\"\",RANK(E35,$E$2:$E$36))","v":""},{"$f":"IF(A35=\"\",\"\",A35+ROW()/1000)","v":""},{"$f":"IF(B35=\"\",\"\",RANK(B35,$B$2:$B$36,1))","v":""},{"$f":"IF(بودجه!F52=\"\",\"\",بودجه!F52)","v":""},{"$f":"IF(D35=\"\",\"\",ABS(بودجه!E52))","v":""},{"$f":"IF(E35=\"\",\"\",E35/SUM($E$2:$E$36))","v":""},null,{"$f":"IFERROR(VLOOKUP(ROW()-1,$C$2:$F$36,2,0),\"\")","v":""},{"$f":"IFERROR(VLOOKUP(ROW()-1,$C$2:$F$36,3,0),\"\")","v":""},{"$f":"IFERROR(VLOOKUP(ROW()-1,$C$2:$F$36,4,0),\"\")","v":""}]
[{"$f":"IF(E36=\"\",\"\",RANK(E36,$E$2:$E$36))","v":""},{"$f":"IF(A36=\"\",\"\",A36+ROW()/1000)","v":""},{"$f":"IF(B36=\"\",\"\",RANK(B36,$B$2:$B$36,1))","v":""},{"$f":"IF(بودجه!F53=\"\",\"\",بودجه!F53)","v":""},{"$f":"IF(D36=\"\",\"\",ABS(بودجه!E53))","v":""},{"$f":"IF(E36=\"\",\"\",E36/SUM($E$2:$E$36))","v":""},null,{"$f":"IFERROR(VLOOKUP(ROW()-1,$C$2:$F$36,2,0),\"\")","v":""},{"$f":"IFERROR(VLOOKUP(ROW()-1,$C$2:$F$36,3,0),\"\")","v":""},{"$f":"IFERROR(VLOOKUP(ROW()-1,$C$2:$F$36,4,0),\"\")","v":""}]

{"sheet":"هزینه‌های گروه‌بندی شده","index":3,"n_rows":850,"n_cols":22,"rows_kept":850}
["include both cents","concatenate other values","combine the first 2 columns","replace blanks with 읉 (something that comes after Arabic in UTF-8)","Sort C based on D"]
[{"$f":"IF('ثبت هزینه‌ها'!C6:C750=\"\",\"\",'ثبت هزینه‌ها'!A6:A750 & \"     \" & TEXT('ثبت هزینه‌ها'!C6:C750, \".00\") & \"          \")","v":"فئة نموذجية      1.10          "},{"$f":"IF('ثبت هزینه‌ها'!C6:C750=\"\",\"\", IF('ثبت هزینه‌ها'!B6:B750 = \"\", \"\",  'ثبت هزینه‌ها'!B6:B750 & \"     \") &  IF('ثبت هزینه‌ها'!D6:D750 = \"\", \"\",  'ثبت هزینه‌ها'!D6:D750 & \"     \") & IF('ثبت هزینه‌ها'!E6:E750 = \"\", \"\",  'ثبت هزینه‌ها'!E6:E750 & \"     \") & IF('ثبت هزینه‌ها'!F6:F750 = \"\", \"\",  'ثبت هزینه‌ها'!F6:F750 & \"     \") & IF('ثبت هزینه‌ها'!G6:G750 = \"\", \"\",  'ثبت هزینه‌ها'!G6:G750 & \"     \") & IF('ثبت هزینه‌ها'!H6:H750 = \"\", \"\",  'ثبت هزینه‌ها'!H6:H750 & \"     \") & IF('ثبت هزینه‌ها'!I6:I750 = \"\", \"\",  'ثبت هزینه‌ها'!I6:I750 & \"     \") & IF('ثبت هزینه‌ها'!J6:J750 = \"\", \"\",  'ثبت هزینه‌ها'!J6:J750 & \"     \") & IF('ثبت هزینه‌ها'!K6:K750 = \"\", \"\",  'ثبت هزینه‌ها'!K6:K750 & \"     \") & IF('ثبت هزینه‌ها'!L6:L750 = \"\", \"\",  'ثبت هزینه‌ها'!L6:L750 & \"     \") & IF('ثبت هزینه‌ها'!M6:M750 = \"\", \"\",  'ثبت هزینه‌ها'!M6:M750 & \"     \") & IF('ثبت هزینه‌ها'!N6:N750 = \"\", \"\",  'ثبت هزینه‌ها'!N6:N750 & \"     \") & IF('ثبت هزینه‌ها'!O6:O750 = \"\", \"\",  'ثبت هزینه‌ها'!O6:O750 & \"     \") & IF('ثبت هزینه‌ها'!P6:P750 = \"\", \"\",  'ثبت هزینه‌ها'!P6:P750 & \"     \") & IF('ثبت هزینه‌ها'!Q6:Q750 = \"\", \"\",  'ثبت هزینه‌ها'!Q6:Q750 & \"     \") & IF('ثبت هزینه‌ها'!R6:R750 = \"\", \"\",  'ثبت هزینه‌ها'!R6:R750 & \"     \") & IF('ثبت هزینه‌ها'!S6:S750 = \"\", \"\",  'ثبت هزینه‌ها'!S6:S750 & \"     \") & IF('ثبت هزینه‌ها'!T6:T750 = \"\", \"\",  'ثبت هزینه‌ها'!T6:T750 & \"     \") & IF('ثبت هزینه‌ها'!U6:U750 = \"\", \"\",  'ثبت هزینه‌ها'!U6:U750 & \"     \") & IF('ثبت هزینه‌ها'!V6:V750 = \"\", \"\",  'ثبت هزینه‌ها'!V6:V750 & \"     \") & IF('ثبت هزینه‌ها'!W6:W750 = \"\", \"\",  'ثبت هزینه‌ها'!W6:W750 & \"     \") & IF('ثبت هزینه‌ها'!X6:X750 = \"\", \"\",  'ثبت هزینه‌ها'!X6:X750 & \"     \") & IF('ثبت هزینه‌ها'!Y6:Y750 = \"\", \"\",  'ثبت هزینه‌ها'!Y6:Y750 & \"     \") & IF('ثبت هزینه‌ها'!Z6:Z750 = \"\", \"\",  'ثبت هزینه‌ها'!Z6:Z750 & \"     \")  )","v":""},{"$f":"A2:A744 & B2:B744","v":"فئة نموذجية      1.10          "},{"$f":"IF(C2:C744 = \"\",\"읉\",C2:C744)","v":"فئة نموذجية      1.10          "},{"$f":"_xlfn._xlws.SORT(C2:D744,2)","v":"فئة نموذجية      1.10          "},"فئة نموذجية      1.10          ",{"$f":"E2:E744","v":"فئة نموذجية      1.10          "},{"$nulls":14},{"$f":"VLOOKUP(T2,$S$2:$U$850,3,0)","v":{"$error":"#N/A"}}]
["","","","읉","","읉","",{"$nulls":14},{"$f":"VLOOKUP(T3,$S$2:$U$850,3,0)","v":{"$error":"#N/A"}}]
["","","","읉","","읉","",{"$nulls":14},{"$f":"VLOOKUP(T4,$S$2:$U$850,3,0)","v":{"$error":"#N/A"}}]
["","","","읉","","읉","",{"$nulls":14},{"$f":"VLOOKUP(T5,$S$2:$U$850,3,0)","v":{"$error":"#N/A"}}]
["","","","읉","","읉","",{"$nulls":14},{"$f":"VLOOKUP(T6,$S$2:$U$850,3,0)","v":{"$error":"#N/A"}}]
["","","","읉","","읉","",{"$nulls":14},{"$f":"VLOOKUP(T7,$S$2:$U$850,3,0)","v":{"$error":"#N/A"}}]
["","","","읉","","읉","",{"$nulls":14},{"$f":"VLOOKUP(T8,$S$2:$U$850,3,0)","v":{"$error":"#N/A"}}]
["","","","읉","","읉","",{"$nulls":14},{"$f":"VLOOKUP(T9,$S$2:$U$850,3,0)","v":{"$error":"#N/A"}}]
["","","","읉","","읉","",{"$nulls":14},{"$f":"VLOOKUP(T10,$S$2:$U$850,3,0)","v":{"$error":"#N/A"}}]
["","","","읉","","읉","",{"$nulls":14},{"$f":"VLOOKUP(T11,$S$2:$U$850,3,0)","v":{"$error":"#N/A"}}]
["","","","읉","","읉","",{"$nulls":14},{"$f":"VLOOKUP(T12,$S$2:$U$850,3,0)","v":{"$error":"#N/A"}}]
["","","","읉","","읉","",{"$nulls":14},{"$f":"VLOOKUP(T13,$S$2:$U$850,3,0)","v":{"$error":"#N/A"}}]
["","","","읉","","읉","",{"$nulls":14},{"$f":"VLOOKUP(T14,$S$2:$U$850,3,0)","v":{"$error":"#N/A"}}]
["","","","읉","","읉","",{"$nulls":14},{"$f":"VLOOKUP(T15,$S$2:$U$850,3,0)","v":{"$error":"#N/A"}}]
["","","","읉","","읉","",{"$nulls":14},{"$f":"VLOOKUP(T16,$S$2:$U$850,3,0)","v":{"$error":"#N/A"}}]
["","","","읉","","읉","",{"$nulls":14},{"$f":"VLOOKUP(T17,$S$2:$U$850,3,0)","v":{"$error":"#N/A"}}]
["","","","읉","","읉","",{"$nulls":14},{"$f":"VLOOKUP(T18,$S$2:$U$850,3,0)","v":{"$error":"#N/A"}}]
["","","","읉","","읉","",{"$nulls":14},{"$f":"VLOOKUP(T19,$S$2:$U$850,3,0)","v":{"$error":"#N/A"}}]
["","","","읉","","읉","",{"$nulls":14},{"$f":"VLOOKUP(T20,$S$2:$U$850,3,0)","v":{"$error":"#N/A"}}]
["","","","읉","","읉","",{"$nulls":14},{"$f":"VLOOKUP(T21,$S$2:$U$850,3,0)","v":{"$error":"#N/A"}}]
["","","","읉","","읉","",{"$nulls":14},{"$f":"VLOOKUP(T22,$S$2:$U$850,3,0)","v":{"$error":"#N/A"}}]
["","","","읉","","읉","",{"$nulls":14},{"$f":"VLOOKUP(T23,$S$2:$U$850,3,0)","v":{"$error":"#N/A"}}]
["","","","읉","","읉","",{"$nulls":14},{"$f":"VLOOKUP(T24,$S$2:$U$850,3,0)","v":{"$error":"#N/A"}}]
["","","","읉","","읉","",{"$nulls":14},{"$f":"VLOOKUP(T25,$S$2:$U$850,3,0)","v":{"$error":"#N/A"}}]
["","","","읉","","읉","",{"$nulls":14},{"$f":"VLOOKUP(T26,$S$2:$U$850,3,0)","v":{"$error":"#N/A"}}]
["","","","읉","","읉","",{"$nulls":14},{"$f":"VLOOKUP(T27,$S$2:$U$850,3,0)","v":{"$error":"#N/A"}}]
["","","","읉","","읉","",{"$nulls":14},{"$f":"VLOOKUP(T28,$S$2:$U$850,3,0)","v":{"$error":"#N/A"}}]
["","","","읉","","읉","",{"$nulls":14},{"$f":"VLOOKUP(T29,$S$2:$U$850,3,0)","v":{"$error":"#N/A"}}]
["","","","읉","","읉","",{"$nulls":14},{"$f":"VLOOKUP(T30,$S$2:$U$850,3,0)","v":{"$error":"#N/A"}}]
["","","","읉","","읉","",{"$nulls":14},{"$f":"VLOOKUP(T31,$S$2:$U$850,3,0)","v":{"$error":"#N/A"}}]
["","","","읉","","읉","",{"$nulls":14},{"$f":"VLOOKUP(T32,$S$2:$U$850,3,0)","v":{"$error":"#N/A"}}]
["","","","읉","","읉","",{"$nulls":14},{"$f":"VLOOKUP(T33,$S$2:$U$850,3,0)","v":{"$error":"#N/A"}}]
["","","","읉","","읉","",{"$nulls":14},{"$f":"VLOOKUP(T34,$S$2:$U$850,3,0)","v":{"$error":"#N/A"}}]
["","","","읉","","읉","",{"$nulls":14},{"$f":"VLOOKUP(T35,$S$2:$U$850,3,0)","v":{"$error":"#N/A"}}]
["","","","읉","","읉","",{"$nulls":14},{"$f":"VLOOKUP(T36,$S$2:$U$850,3,0)","v":{"$error":"#N/A"}}]
["","","","읉","","읉","",{"$nulls":14},{"$f":"VLOOKUP(T37,$S$2:$U$850,3,0)","v":{"$error":"#N/A"}}]
["","","","읉","","읉","",{"$nulls":14},{"$f":"VLOOKUP(T38,$S$2:$U$850,3,0)","v":{"$error":"#N/A"}}]
["","","","읉","","읉","",{"$nulls":14},{"$f":"VLOOKUP(T39,$S$2:$U$850,3,0)","v":{"$error":"#N/A"}}]
["","","","읉","","읉","",{"$nulls":14},{"$f":"VLOOKUP(T40,$S$2:$U$850,3,0)","v":{"$error":"#N/A"}}]
["","","","읉","","읉","",{"$nulls":14},{"$f":"VLOOKUP(T41,$S$2:$U$850,3,0)","v":{"$error":"#N/A"}}]
["","","","읉","","읉","",{"$nulls":14},{"$f":"VLOOKUP(T42,$S$2:$U$850,3,0)","v":{"$error":"#N/A"}}]
["","","","읉","","읉","",{"$nulls":14},{"$f":"VLOOKUP(T43,$S$2:$U$850,3,0)","v":{"$error":"#N/A"}}]
["","","","읉","","읉","",{"$nulls":14},{"$f":"VLOOKUP(T44,$S$2:$U$850,3,0)","v":{"$error":"#N/A"}}]
["","","","읉","","읉","",{"$nulls":14},{"$f":"VLOOKUP(T45,$S$2:$U$850,3,0)","v":{"$error":"#N/A"}}]
["","","","읉","","읉","",{"$nulls":14},{"$f":"VLOOKUP(T46,$S$2:$U$850,3,0)","v":{"$error":"#N/A"}}]
["","","","읉","","읉","",{"$nulls":14},{"$f":"VLOOKUP(T47,$S$2:$U$850,3,0)","v":{"$error":"#N/A"}}]
["","","","읉","","읉","",{"$nulls":14},{"$f":"VLOOKUP(T48,$S$2:$U$850,3,0)","v":{"$error":"#N/A"}}]
["","","","읉","","읉","",{"$nulls":14},{"$f":"VLOOKUP(T49,$S$2:$U$850,3,0)","v":{"$error":"#N/A"}}]
["","","","읉","","읉","",{"$nulls":14},{"$f":"VLOOKUP(T50,$S$2:$U$850,3,0)","v":{"$error":"#N/A"}}]
["","","","읉","","읉","",{"$nulls":14},{"$f":"VLOOKUP(T51,$S$2:$U$850,3,0)","v":{"$error":"#N/A"}}]
["","","","읉","","읉","",{"$nulls":14},{"$f":"VLOOKUP(T52,$S$2:$U$850,3,0)","v":{"$error":"#N/A"}}]
["","","","읉","","읉","",{"$nulls":14},{"$f":"VLOOKUP(T53,$S$2:$U$850,3,0)","v":{"$error":"#N/A"}}]
["","","","읉","","읉","",{"$nulls":14},{"$f":"VLOOKUP(T54,$S$2:$U$850,3,0)","v":{"$error":"#N/A"}}]
["","","","읉","","읉","",{"$nulls":14},{"$f":"VLOOKUP(T55,$S$2:$U$850,3,0)","v":{"$error":"#N/A"}}]
["","","","읉","","읉","",{"$nulls":14},{"$f":"VLOOKUP(T56,$S$2:$U$850,3,0)","v":{"$error":"#N/A"}}]
["","","","읉","","읉","",{"$nulls":14},{"$f":"VLOOKUP(T57,$S$2:$U$850,3,0)","v":{"$error":"#N/A"}}]
["","","","읉","","읉","",{"$nulls":14},{"$f":"VLOOKUP(T58,$S$2:$U$850,3,0)","v":{"$error":"#N/A"}}]
["","","","읉","","읉","",{"$nulls":14},{"$f":"VLOOKUP(T59,$S$2:$U$850,3,0)","v":{"$error":"#N/A"}}]
["","","","읉","","읉","",{"$nulls":14},{"$f":"VLOOKUP(T60,$S$2:$U$850,3,0)","v":{"$error":"#N/A"}}]
["","","","읉","","읉","",{"$nulls":14},{"$f":"VLOOKUP(T61,$S$2:$U$850,3,0)","v":{"$error":"#N/A"}}]
["","","","읉","","읉","",{"$nulls":14},{"$f":"VLOOKUP(T62,$S$2:$U$850,3,0)","v":{"$error":"#N/A"}}]
["","","","읉","","읉","",{"$nulls":14},{"$f":"VLOOKUP(T63,$S$2:$U$850,3,0)","v":{"$error":"#N/A"}}]
["","","","읉","","읉","",{"$nulls":14},{"$f":"VLOOKUP(T64,$S$2:$U$850,3,0)","v":{"$error":"#N/A"}}]
["","","","읉","","읉","",{"$nulls":14},{"$f":"VLOOKUP(T65,$S$2:$U$850,3,0)","v":{"$error":"#N/A"}}]
["","","","읉","","읉","",{"$nulls":14},{"$f":"VLOOKUP(T66,$S$2:$U$850,3,0)","v":{"$error":"#N/A"}}]
["","","","읉","","읉","",{"$nulls":14},{"$f":"VLOOKUP(T67,$S$2:$U$850,3,0)","v":{"$error":"#N/A"}}]
["","","","읉","","읉","",{"$nulls":14},{"$f":"VLOOKUP(T68,$S$2:$U$850,3,0)","v":{"$error":"#N/A"}}]
["","","","읉","","읉","",{"$nulls":14},{"$f":"VLOOKUP(T69,$S$2:$U$850,3,0)","v":{"$error":"#N/A"}}]
["","","","읉","","읉","",{"$nulls":14},{"$f":"VLOOKUP(T70,$S$2:$U$850,3,0)","v":{"$error":"#N/A"}}]
["","","","읉","","읉","",{"$nulls":14},{"$f":"VLOOKUP(T71,$S$2:$U$850,3,0)","v":{"$error":"#N/A"}}]
["","","","읉","","읉","",{"$nulls":14},{"$f":"VLOOKUP(T72,$S$2:$U$850,3,0)","v":{"$error":"#N/A"}}]
["","","","읉","","읉","",{"$nulls":14},{"$f":"VLOOKUP(T73,$S$2:$U$850,3,0)","v":{"$error":"#N/A"}}]
["","","","읉","","읉","",{"$nulls":14},{"$f":"VLOOKUP(T74,$S$2:$U$850,3,0)","v":{"$error":"#N/A"}}]
["","","","읉","","읉","",{"$nulls":14},{"$f":"VLOOKUP(T75,$S$2:$U$850,3,0)","v":{"$error":"#N/A"}}]
["","","","읉","","읉","",{"$nulls":14},{"$f":"VLOOKUP(T76,$S$2:$U$850,3,0)","v":{"$error":"#N/A"}}]
["","","","읉","","읉","",{"$nulls":14},{"$f":"VLOOKUP(T77,$S$2:$U$850,3,0)","v":{"$error":"#N/A"}}]
["","","","읉","","읉","",{"$nulls":14},{"$f":"VLOOKUP(T78,$S$2:$U$850,3,0)","v":{"$error":"#N/A"}}]
["","","","읉","","읉","",{"$nulls":14},{"$f":"VLOOKUP(T79,$S$2:$U$850,3,0)","v":{"$error":"#N/A"}}]
["","","","읉","","읉","",{"$nulls":14},{"$f":"VLOOKUP(T80,$S$2:$U$850,3,0)","v":{"$error":"#N/A"}}]
["","","","읉","","읉","",{"$nulls":14},{"$f":"VLOOKUP(T81,$S$2:$U$850,3,0)","v":{"$error":"#N/A"}}]
["","","","읉","","읉","",{"$nulls":14},{"$f":"VLOOKUP(T82,$S$2:$U$850,3,0)","v":{"$error":"#N/A"}}]
["","","","읉","","읉","",{"$nulls":14},{"$f":"VLOOKUP(T83,$S$2:$U$850,3,0)","v":{"$error":"#N/A"}}]
["","","","읉","","읉","",{"$nulls":14},{"$f":"VLOOKUP(T84,$S$2:$U$850,3,0)","v":{"$error":"#N/A"}}]
["","","","읉","","읉","",{"$nulls":14},{"$f":"VLOOKUP(T85,$S$2:$U$850,3,0)","v":{"$error":"#N/A"}}]
["","","","읉","","읉","",{"$nulls":14},{"$f":"VLOOKUP(T86,$S$2:$U$850,3,0)","v":{"$error":"#N/A"}}]
["","","","읉","","읉","",{"$nulls":14},{"$f":"VLOOKUP(T87,$S$2:$U$850,3,0)","v":{"$error":"#N/A"}}]
["","","","읉","","읉","",{"$nulls":14},{"$f":"VLOOKUP(T88,$S$2:$U$850,3,0)","v":{"$error":"#N/A"}}]
["","","","읉","","읉","",{"$nulls":14},{"$f":"VLOOKUP(T89,$S$2:$U$850,3,0)","v":{"$error":"#N/A"}}]
["","","","읉","","읉","",{"$nulls":14},{"$f":"VLOOKUP(T90,$S$2:$U$850,3,0)","v":{"$error":"#N/A"}}]
["","","","읉","","읉","",{"$nulls":14},{"$f":"VLOOKUP(T91,$S$2:$U$850,3,0)","v":{"$error":"#N/A"}}]
["","","","읉","","읉","",{"$nulls":14},{"$f":"VLOOKUP(T92,$S$2:$U$850,3,0)","v":{"$error":"#N/A"}}]
["","","","읉","","읉","",{"$nulls":14},{"$f":"VLOOKUP(T93,$S$2:$U$850,3,0)","v":{"$error":"#N/A"}}]
["","","","읉","","읉","",{"$nulls":14},{"$f":"VLOOKUP(T94,$S$2:$U$850,3,0)","v":{"$error":"#N/A"}}]
["","","","읉","","읉","",{"$nulls":14},{"$f":"VLOOKUP(T95,$S$2:$U$850,3,0)","v":{"$error":"#N/A"}}]
["","","","읉","","읉","",{"$nulls":14},{"$f":"VLOOKUP(T96,$S$2:$U$850,3,0)","v":{"$error":"#N/A"}}]
["","","","읉","","읉","",{"$nulls":14},{"$f":"VLOOKUP(T97,$S$2:$U$850,3,0)","v":{"$error":"#N/A"}}]
["","","","읉","","읉","",{"$nulls":14},{"$f":"VLOOKUP(T98,$S$2:$U$850,3,0)","v":{"$error":"#N/A"}}]
["","","","읉","","읉","",{"$nulls":14},{"$f":"VLOOKUP(T99,$S$2:$U$850,3,0)","v":{"$error":"#N/A"}}]
["","","","읉","","읉","",{"$nulls":14},{"$f":"VLOOKUP(T100,$S$2:$U$850,3,0)","v":{"$error":"#N/A"}}]
["","","","읉","","읉","",{"$nulls":14},{"$f":"VLOOKUP(T101,$S$2:$U$850,3,0)","v":{"$error":"#N/A"}}]
["","","","읉","","읉","",{"$nulls":14},{"$f":"VLOOKUP(T102,$S$2:$U$850,3,0)","v":{"$error":"#N/A"}}]
["","","","읉","","읉","",{"$nulls":14},{"$f":"VLOOKUP(T103,$S$2:$U$850,3,0)","v":{"$error":"#N/A"}}]
["","","","읉","","읉","",{"$nulls":14},{"$f":"VLOOKUP(T104,$S$2:$U$850,3,0)","v":{"$error":"#N/A"}}]
["","","","읉","","읉","",{"$nulls":14},{"$f":"VLOOKUP(T105,$S$2:$U$850,3,0)","v":{"$error":"#N/A"}}]
["","","","읉","","읉","",{"$nulls":14},{"$f":"VLOOKUP(T106,$S$2:$U$850,3,0)","v":{"$error":"#N/A"}}]
["","","","읉","","읉","",{"$nulls":14},{"$f":"VLOOKUP(T107,$S$2:$U$850,3,0)","v":{"$error":"#N/A"}}]
["","","","읉","","읉","",{"$nulls":14},{"$f":"VLOOKUP(T108,$S$2:$U$850,3,0)","v":{"$error":"#N/A"}}]
["","","","읉","","읉","",{"$nulls":14},{"$f":"VLOOKUP(T109,$S$2:$U$850,3,0)","v":{"$error":"#N/A"}}]
["","","","읉","","읉","",{"$nulls":14},{"$f":"VLOOKUP(T110,$S$2:$U$850,3,0)","v":{"$error":"#N/A"}}]
["","","","읉","","읉","",{"$nulls":14},{"$f":"VLOOKUP(T111,$S$2:$U$850,3,0)","v":{"$error":"#N/A"}}]
["","","","읉","","읉","",{"$nulls":14},{"$f":"VLOOKUP(T112,$S$2:$U$850,3,0)","v":{"$error":"#N/A"}}]
["","","","읉","","읉","",{"$nulls":14},{"$f":"VLOOKUP(T113,$S$2:$U$850,3,0)","v":{"$error":"#N/A"}}]
["","","","읉","","읉","",{"$nulls":14},{"$f":"VLOOKUP(T114,$S$2:$U$850,3,0)","v":{"$error":"#N/A"}}]
["","","","읉","","읉","",{"$nulls":14},{"$f":"VLOOKUP(T115,$S$2:$U$850,3,0)","v":{"$error":"#N/A"}}]
["","","","읉","","읉","",{"$nulls":14},{"$f":"VLOOKUP(T116,$S$2:$U$850,3,0)","v":{"$error":"#N/A"}}]
["","","","읉","","읉","",{"$nulls":14},{"$f":"VLOOKUP(T117,$S$2:$U$850,3,0)","v":{"$error":"#N/A"}}]
["","","","읉","","읉","",{"$nulls":14},{"$f":"VLOOKUP(T118,$S$2:$U$850,3,0)","v":{"$error":"#N/A"}}]
["","","","읉","","읉","",{"$nulls":14},{"$f":"VLOOKUP(T119,$S$2:$U$850,3,0)","v":{"$error":"#N/A"}}]
["","","","읉","","읉","",{"$nulls":14},{"$f":"VLOOKUP(T120,$S$2:$U$850,3,0)","v":{"$error":"#N/A"}}]
["","","","읉","","읉","",{"$nulls":14},{"$f":"VLOOKUP(T121,$S$2:$U$850,3,0)","v":{"$error":"#N/A"}}]
["","","","읉","","읉","",{"$nulls":14},{"$f":"VLOOKUP(T122,$S$2:$U$850,3,0)","v":{"$error":"#N/A"}}]
["","","","읉","","읉","",{"$nulls":14},{"$f":"VLOOKUP(T123,$S$2:$U$850,3,0)","v":{"$error":"#N/A"}}]
["","","","읉","","읉","",{"$nulls":14},{"$f":"VLOOKUP(T124,$S$2:$U$850,3,0)","v":{"$error":"#N/A"}}]
["","","","읉","","읉","",{"$nulls":14},{"$f":"VLOOKUP(T125,$S$2:$U$850,3,0)","v":{"$error":"#N/A"}}]
["","","","읉","","읉","",{"$nulls":14},{"$f":"VLOOKUP(T126,$S$2:$U$850,3,0)","v":{"$error":"#N/A"}}]
["","","","읉","","읉","",{"$nulls":14},{"$f":"VLOOKUP(T127,$S$2:$U$850,3,0)","v":{"$error":"#N/A"}}]
["","","","읉","","읉","",{"$nulls":14},{"$f":"VLOOKUP(T128,$S$2:$U$850,3,0)","v":{"$error":"#N/A"}}]
["","","","읉","","읉","",{"$nulls":14},{"$f":"VLOOKUP(T129,$S$2:$U$850,3,0)","v":{"$error":"#N/A"}}]
["","","","읉","","읉","",{"$nulls":14},{"$f":"VLOOKUP(T130,$S$2:$U$850,3,0)","v":{"$error":"#N/A"}}]
["","","","읉","","읉","",{"$nulls":14},{"$f":"VLOOKUP(T131,$S$2:$U$850,3,0)","v":{"$error":"#N/A"}}]
["","","","읉","","읉","",{"$nulls":14},{"$f":"VLOOKUP(T132,$S$2:$U$850,3,0)","v":{"$error":"#N/A"}}]
["","","","읉","","읉","",{"$nulls":14},{"$f":"VLOOKUP(T133,$S$2:$U$850,3,0)","v":{"$error":"#N/A"}}]
["","","","읉","","읉","",{"$nulls":14},{"$f":"VLOOKUP(T134,$S$2:$U$850,3,0)","v":{"$error":"#N/A"}}]
["","","","읉","","읉","",{"$nulls":14},{"$f":"VLOOKUP(T135,$S$2:$U$850,3,0)","v":{"$error":"#N/A"}}]
["","","","읉","","읉","",{"$nulls":14},{"$f":"VLOOKUP(T136,$S$2:$U$850,3,0)","v":{"$error":"#N/A"}}]
["","","","읉","","읉","",{"$nulls":14},{"$f":"VLOOKUP(T137,$S$2:$U$850,3,0)","v":{"$error":"#N/A"}}]
["","","","읉","","읉","",{"$nulls":14},{"$f":"VLOOKUP(T138,$S$2:$U$850,3,0)","v":{"$error":"#N/A"}}]
["","","","읉","","읉","",{"$nulls":14},{"$f":"VLOOKUP(T139,$S$2:$U$850,3,0)","v":{"$error":"#N/A"}}]
["","","","읉","","읉","",{"$nulls":14},{"$f":"VLOOKUP(T140,$S$2:$U$850,3,0)","v":{"$error":"#N/A"}}]
["","","","읉","","읉","",{"$nulls":14},{"$f":"VLOOKUP(T141,$S$2:$U$850,3,0)","v":{"$error":"#N/A"}}]
["","","","읉","","읉","",{"$nulls":14},{"$f":"VLOOKUP(T142,$S$2:$U$850,3,0)","v":{"$error":"#N/A"}}]
["","","","읉","","읉","",{"$nulls":14},{"$f":"VLOOKUP(T143,$S$2:$U$850,3,0)","v":{"$error":"#N/A"}}]
["","","","읉","","읉","",{"$nulls":14},{"$f":"VLOOKUP(T144,$S$2:$U$850,3,0)","v":{"$error":"#N/A"}}]
["","","","읉","","읉","",{"$nulls":14},{"$f":"VLOOKUP(T145,$S$2:$U$850,3,0)","v":{"$error":"#N/A"}}]
["","","","읉","","읉","",{"$nulls":14},{"$f":"VLOOKUP(T146,$S$2:$U$850,3,0)","v":{"$error":"#N/A"}}]
["","","","읉","","읉","",{"$nulls":14},{"$f":"VLOOKUP(T147,$S$2:$U$850,3,0)","v":{"$error":"#N/A"}}]
["","","","읉","","읉","",{"$nulls":14},{"$f":"VLOOKUP(T148,$S$2:$U$850,3,0)","v":{"$error":"#N/A"}}]
["","","","읉","","읉","",{"$nulls":14},{"$f":"VLOOKUP(T149,$S$2:$U$850,3,0)","v":{"$error":"#N/A"}}]
["","","","읉","","읉","",{"$nulls":14},{"$f":"VLOOKUP(T150,$S$2:$U$850,3,0)","v":{"$error":"#N/A"}}]
["","","","읉","","읉","",{"$nulls":14},{"$f":"VLOOKUP(T151,$S$2:$U$850,3,0)","v":{"$error":"#N/A"}}]
["","","","읉","","읉","",{"$nulls":14},{"$f":"VLOOKUP(T152,$S$2:$U$850,3,0)","v":{"$error":"#N/A"}}]
["","","","읉","","읉","",{"$nulls":14},{"$f":"VLOOKUP(T153,$S$2:$U$850,3,0)","v":{"$error":"#N/A"}}]
["","","","읉","","읉","",{"$nulls":14},{"$f":"VLOOKUP(T154,$S$2:$U$850,3,0)","v":{"$error":"#N/A"}}]
["","","","읉","","읉","",{"$nulls":14},{"$f":"VLOOKUP(T155,$S$2:$U$850,3,0)","v":{"$error":"#N/A"}}]
["","","","읉","","읉","",{"$nulls":14},{"$f":"VLOOKUP(T156,$S$2:$U$850,3,0)","v":{"$error":"#N/A"}}]
["","","","읉","","읉","",{"$nulls":14},{"$f":"VLOOKUP(T157,$S$2:$U$850,3,0)","v":{"$error":"#N/A"}}]
["","","","읉","","읉","",{"$nulls":14},{"$f":"VLOOKUP(T158,$S$2:$U$850,3,0)","v":{"$error":"#N/A"}}]
["","","","읉","","읉","",{"$nulls":14},{"$f":"VLOOKUP(T159,$S$2:$U$850,3,0)","v":{"$error":"#N/A"}}]
["","","","읉","","읉","",{"$nulls":14},{"$f":"VLOOKUP(T160,$S$2:$U$850,3,0)","v":{"$error":"#N/A"}}]
["","","","읉","","읉","",{"$nulls":14},{"$f":"VLOOKUP(T161,$S$2:$U$850,3,0)","v":{"$error":"#N/A"}}]
["","","","읉","","읉","",{"$nulls":14},{"$f":"VLOOKUP(T162,$S$2:$U$850,3,0)","v":{"$error":"#N/A"}}]
["","","","읉","","읉","",{"$nulls":14},{"$f":"VLOOKUP(T163,$S$2:$U$850,3,0)","v":{"$error":"#N/A"}}]
["","","","읉","","읉","",{"$nulls":14},{"$f":"VLOOKUP(T164,$S$2:$U$850,3,0)","v":{"$error":"#N/A"}}]
["","","","읉","","읉","",{"$nulls":14},{"$f":"VLOOKUP(T165,$S$2:$U$850,3,0)","v":{"$error":"#N/A"}}]
["","","","읉","","읉","",{"$nulls":14},{"$f":"VLOOKUP(T166,$S$2:$U$850,3,0)","v":{"$error":"#N/A"}}]
["","","","읉","","읉","",{"$nulls":14},{"$f":"VLOOKUP(T167,$S$2:$U$850,3,0)","v":{"$error":"#N/A"}}]
["","","","읉","","읉","",{"$nulls":14},{"$f":"VLOOKUP(T168,$S$2:$U$850,3,0)","v":{"$error":"#N/A"}}]
["","","","읉","","읉","",{"$nulls":14},{"$f":"VLOOKUP(T169,$S$2:$U$850,3,0)","v":{"$error":"#N/A"}}]
["","","","읉","","읉","",{"$nulls":14},{"$f":"VLOOKUP(T170,$S$2:$U$850,3,0)","v":{"$error":"#N/A"}}]
["","","","읉","","읉","",{"$nulls":14},{"$f":"VLOOKUP(T171,$S$2:$U$850,3,0)","v":{"$error":"#N/A"}}]
["","","","읉","","읉","",{"$nulls":14},{"$f":"VLOOKUP(T172,$S$2:$U$850,3,0)","v":{"$error":"#N/A"}}]
["","","","읉","","읉","",{"$nulls":14},{"$f":"VLOOKUP(T173,$S$2:$U$850,3,0)","v":{"$error":"#N/A"}}]
["","","","읉","","읉","",{"$nulls":14},{"$f":"VLOOKUP(T174,$S$2:$U$850,3,0)","v":{"$error":"#N/A"}}]
["","","","읉","","읉","",{"$nulls":14},{"$f":"VLOOKUP(T175,$S$2:$U$850,3,0)","v":{"$error":"#N/A"}}]
["","","","읉","","읉","",{"$nulls":14},{"$f":"VLOOKUP(T176,$S$2:$U$850,3,0)","v":{"$error":"#N/A"}}]
["","","","읉","","읉","",{"$nulls":14},{"$f":"VLOOKUP(T177,$S$2:$U$850,3,0)","v":{"$error":"#N/A"}}]
["","","","읉","","읉","",{"$nulls":14},{"$f":"VLOOKUP(T178,$S$2:$U$850,3,0)","v":{"$error":"#N/A"}}]
["","","","읉","","읉","",{"$nulls":14},{"$f":"VLOOKUP(T179,$S$2:$U$850,3,0)","v":{"$error":"#N/A"}}]
["","","","읉","","읉","",{"$nulls":14},{"$f":"VLOOKUP(T180,$S$2:$U$850,3,0)","v":{"$error":"#N/A"}}]
["","","","읉","","읉","",{"$nulls":14},{"$f":"VLOOKUP(T181,$S$2:$U$850,3,0)","v":{"$error":"#N/A"}}]
["","","","읉","","읉","",{"$nulls":14},{"$f":"VLOOKUP(T182,$S$2:$U$850,3,0)","v":{"$error":"#N/A"}}]
["","","","읉","","읉","",{"$nulls":14},{"$f":"VLOOKUP(T183,$S$2:$U$850,3,0)","v":{"$error":"#N/A"}}]
["","","","읉","","읉","",{"$nulls":14},{"$f":"VLOOKUP(T184,$S$2:$U$850,3,0)","v":{"$error":"#N/A"}}]
["","","","읉","","읉","",{"$nulls":14},{"$f":"VLOOKUP(T185,$S$2:$U$850,3,0)","v":{"$error":"#N/A"}}]
["","","","읉","","읉","",{"$nulls":14},{"$f":"VLOOKUP(T186,$S$2:$U$850,3,0)","v":{"$error":"#N/A"}}]
["","","","읉","","읉","",{"$nulls":14},{"$f":"VLOOKUP(T187,$S$2:$U$850,3,0)","v":{"$error":"#N/A"}}]
["","","","읉","","읉","",{"$nulls":14},{"$f":"VLOOKUP(T188,$S$2:$U$850,3,0)","v":{"$error":"#N/A"}}]
["","","","읉","","읉","",{"$nulls":14},{"$f":"VLOOKUP(T189,$S$2:$U$850,3,0)","v":{"$error":"#N/A"}}]
["","","","읉","","읉","",{"$nulls":14},{"$f":"VLOOKUP(T190,$S$2:$U$850,3,0)","v":{"$error":"#N/A"}}]
["","","","읉","","읉","",{"$nulls":14},{"$f":"VLOOKUP(T191,$S$2:$U$850,3,0)","v":{"$error":"#N/A"}}]
["","","","읉","","읉","",{"$nulls":14},{"$f":"VLOOKUP(T192,$S$2:$U$850,3,0)","v":{"$error":"#N/A"}}]
["","","","읉","","읉","",{"$nulls":14},{"$f":"VLOOKUP(T193,$S$2:$U$850,3,0)","v":{"$error":"#N/A"}}]
["","","","읉","","읉","",{"$nulls":14},{"$f":"VLOOKUP(T194,$S$2:$U$850,3,0)","v":{"$error":"#N/A"}}]
["","","","읉","","읉","",{"$nulls":14},{"$f":"VLOOKUP(T195,$S$2:$U$850,3,0)","v":{"$error":"#N/A"}}]
["","","","읉","","읉","",{"$nulls":14},{"$f":"VLOOKUP(T196,$S$2:$U$850,3,0)","v":{"$error":"#N/A"}}]
["","","","읉","","읉","",{"$nulls":14},{"$f":"VLOOKUP(T197,$S$2:$U$850,3,0)","v":{"$error":"#N/A"}}]
["","","","읉","","읉","",{"$nulls":14},{"$f":"VLOOKUP(T198,$S$2:$U$850,3,0)","v":{"$error":"#N/A"}}]
["","","","읉","","읉","",{"$nulls":14},{"$f":"VLOOKUP(T199,$S$2:$U$850,3,0)","v":{"$error":"#N/A"}}]
["","","","읉","","읉","",{"$nulls":14},{"$f":"VLOOKUP(T200,$S$2:$U$850,3,0)","v":{"$error":"#N/A"}}]
["","","","읉","","읉","",{"$nulls":14},{"$f":"VLOOKUP(T201,$S$2:$U$850,3,0)","v":{"$error":"#N/A"}}]
["","","","읉","","읉","",{"$nulls":14},{"$f":"VLOOKUP(T202,$S$2:$U$850,3,0)","v":{"$error":"#N/A"}}]
["","","","읉","","읉","",{"$nulls":14},{"$f":"VLOOKUP(T203,$S$2:$U$850,3,0)","v":{"$error":"#N/A"}}]
["","","","읉","","읉","",{"$nulls":14},{"$f":"VLOOKUP(T204,$S$2:$U$850,3,0)","v":{"$error":"#N/A"}}]
["","","","읉","","읉","",{"$nulls":14},{"$f":"VLOOKUP(T205,$S$2:$U$850,3,0)","v":{"$error":"#N/A"}}]
["","","","읉","","읉","",{"$nulls":14},{"$f":"VLOOKUP(T206,$S$2:$U$850,3,0)","v":{"$error":"#N/A"}}]
["","","","읉","","읉","",{"$nulls":14},{"$f":"VLOOKUP(T207,$S$2:$U$850,3,0)","v":{"$error":"#N/A"}}]
["","","","읉","","읉","",{"$nulls":14},{"$f":"VLOOKUP(T208,$S$2:$U$850,3,0)","v":{"$error":"#N/A"}}]
["","","","읉","","읉","",{"$nulls":14},{"$f":"VLOOKUP(T209,$S$2:$U$850,3,0)","v":{"$error":"#N/A"}}]
["","","","읉","","읉","",{"$nulls":14},{"$f":"VLOOKUP(T210,$S$2:$U$850,3,0)","v":{"$error":"#N/A"}}]
["","","","읉","","읉","",{"$nulls":14},{"$f":"VLOOKUP(T211,$S$2:$U$850,3,0)","v":{"$error":"#N/A"}}]
["","","","읉","","읉","",{"$nulls":14},{"$f":"VLOOKUP(T212,$S$2:$U$850,3,0)","v":{"$error":"#N/A"}}]
["","","","읉","","읉","",{"$nulls":14},{"$f":"VLOOKUP(T213,$S$2:$U$850,3,0)","v":{"$error":"#N/A"}}]
["","","","읉","","읉","",{"$nulls":14},{"$f":"VLOOKUP(T214,$S$2:$U$850,3,0)","v":{"$error":"#N/A"}}]
["","","","읉","","읉","",{"$nulls":14},{"$f":"VLOOKUP(T215,$S$2:$U$850,3,0)","v":{"$error":"#N/A"}}]
["","","","읉","","읉","",{"$nulls":14},{"$f":"VLOOKUP(T216,$S$2:$U$850,3,0)","v":{"$error":"#N/A"}}]
["","","","읉","","읉","",{"$nulls":14},{"$f":"VLOOKUP(T217,$S$2:$U$850,3,0)","v":{"$error":"#N/A"}}]
["","","","읉","","읉","",{"$nulls":14},{"$f":"VLOOKUP(T218,$S$2:$U$850,3,0)","v":{"$error":"#N/A"}}]
["","","","읉","","읉","",{"$nulls":14},{"$f":"VLOOKUP(T219,$S$2:$U$850,3,0)","v":{"$error":"#N/A"}}]
["","","","읉","","읉","",{"$nulls":14},{"$f":"VLOOKUP(T220,$S$2:$U$850,3,0)","v":{"$error":"#N/A"}}]
["","","","읉","","읉","",{"$nulls":14},{"$f":"VLOOKUP(T221,$S$2:$U$850,3,0)","v":{"$error":"#N/A"}}]
["","","","읉","","읉","",{"$nulls":14},{"$f":"VLOOKUP(T222,$S$2:$U$850,3,0)","v":{"$error":"#N/A"}}]
["","","","읉","","읉","",{"$nulls":14},{"$f":"VLOOKUP(T223,$S$2:$U$850,3,0)","v":{"$error":"#N/A"}}]
["","","","읉","","읉","",{"$nulls":14},{"$f":"VLOOKUP(T224,$S$2:$U$850,3,0)","v":{"$error":"#N/A"}}]
["","","","읉","","읉","",{"$nulls":14},{"$f":"VLOOKUP(T225,$S$2:$U$850,3,0)","v":{"$error":"#N/A"}}]
["","","","읉","","읉","",{"$nulls":14},{"$f":"VLOOKUP(T226,$S$2:$U$850,3,0)","v":{"$error":"#N/A"}}]
["","","","읉","","읉","",{"$nulls":14},{"$f":"VLOOKUP(T227,$S$2:$U$850,3,0)","v":{"$error":"#N/A"}}]
["","","","읉","","읉","",{"$nulls":14},{"$f":"VLOOKUP(T228,$S$2:$U$850,3,0)","v":{"$error":"#N/A"}}]
["","","","읉","","읉","",{"$nulls":14},{"$f":"VLOOKUP(T229,$S$2:$U$850,3,0)","v":{"$error":"#N/A"}}]
["","","","읉","","읉","",{"$nulls":14},{"$f":"VLOOKUP(T230,$S$2:$U$850,3,0)","v":{"$error":"#N/A"}}]
["","","","읉","","읉","",{"$nulls":14},{"$f":"VLOOKUP(T231,$S$2:$U$850,3,0)","v":{"$error":"#N/A"}}]
["","","","읉","","읉","",{"$nulls":14},{"$f":"VLOOKUP(T232,$S$2:$U$850,3,0)","v":{"$error":"#N/A"}}]
["","","","읉","","읉","",{"$nulls":14},{"$f":"VLOOKUP(T233,$S$2:$U$850,3,0)","v":{"$error":"#N/A"}}]
["","","","읉","","읉","",{"$nulls":14},{"$f":"VLOOKUP(T234,$S$2:$U$850,3,0)","v":{"$error":"#N/A"}}]
["","","","읉","","읉","",{"$nulls":14},{"$f":"VLOOKUP(T235,$S$2:$U$850,3,0)","v":{"$error":"#N/A"}}]
["","","","읉","","읉","",{"$nulls":14},{"$f":"VLOOKUP(T236,$S$2:$U$850,3,0)","v":{"$error":"#N/A"}}]
["","","","읉","","읉","",{"$nulls":14},{"$f":"VLOOKUP(T237,$S$2:$U$850,3,0)","v":{"$error":"#N/A"}}]
["","","","읉","","읉","",{"$nulls":14},{"$f":"VLOOKUP(T238,$S$2:$U$850,3,0)","v":{"$error":"#N/A"}}]
["","","","읉","","읉","",{"$nulls":14},{"$f":"VLOOKUP(T239,$S$2:$U$850,3,0)","v":{"$error":"#N/A"}}]
["","","","읉","","읉","",{"$nulls":14},{"$f":"VLOOKUP(T240,$S$2:$U$850,3,0)","v":{"$error":"#N/A"}}]
["","","","읉","","읉","",{"$nulls":14},{"$f":"VLOOKUP(T241,$S$2:$U$850,3,0)","v":{"$error":"#N/A"}}]
["","","","읉","","읉","",{"$nulls":14},{"$f":"VLOOKUP(T242,$S$2:$U$850,3,0)","v":{"$error":"#N/A"}}]
["","","","읉","","읉","",{"$nulls":14},{"$f":"VLOOKUP(T243,$S$2:$U$850,3,0)","v":{"$error":"#N/A"}}]
["","","","읉","","읉","",{"$nulls":14},{"$f":"VLOOKUP(T244,$S$2:$U$850,3,0)","v":{"$error":"#N/A"}}]
["","","","읉","","읉","",{"$nulls":14},{"$f":"VLOOKUP(T245,$S$2:$U$850,3,0)","v":{"$error":"#N/A"}}]
["","","","읉","","읉","",{"$nulls":14},{"$f":"VLOOKUP(T246,$S$2:$U$850,3,0)","v":{"$error":"#N/A"}}]
["","","","읉","","읉","",{"$nulls":14},{"$f":"VLOOKUP(T247,$S$2:$U$850,3,0)","v":{"$error":"#N/A"}}]
["","","","읉","","읉","",{"$nulls":14},{"$f":"VLOOKUP(T248,$S$2:$U$850,3,0)","v":{"$error":"#N/A"}}]
["","","","읉","","읉","",{"$nulls":14},{"$f":"VLOOKUP(T249,$S$2:$U$850,3,0)","v":{"$error":"#N/A"}}]
["","","","읉","","읉","",{"$nulls":14},{"$f":"VLOOKUP(T250,$S$2:$U$850,3,0)","v":{"$error":"#N/A"}}]
["","","","읉","","읉","",{"$nulls":14},{"$f":"VLOOKUP(T251,$S$2:$U$850,3,0)","v":{"$error":"#N/A"}}]
["","","","읉","","읉","",{"$nulls":14},{"$f":"VLOOKUP(T252,$S$2:$U$850,3,0)","v":{"$error":"#N/A"}}]
["","","","읉","","읉","",{"$nulls":14},{"$f":"VLOOKUP(T253,$S$2:$U$850,3,0)","v":{"$error":"#N/A"}}]
["","","","읉","","읉","",{"$nulls":14},{"$f":"VLOOKUP(T254,$S$2:$U$850,3,0)","v":{"$error":"#N/A"}}]
["","","","읉","","읉","",{"$nulls":14},{"$f":"VLOOKUP(T255,$S$2:$U$850,3,0)","v":{"$error":"#N/A"}}]
["","","","읉","","읉","",{"$nulls":14},{"$f":"VLOOKUP(T256,$S$2:$U$850,3,0)","v":{"$error":"#N/A"}}]
["","","","읉","","읉","",{"$nulls":14},{"$f":"VLOOKUP(T257,$S$2:$U$850,3,0)","v":{"$error":"#N/A"}}]
["","","","읉","","읉","",{"$nulls":14},{"$f":"VLOOKUP(T258,$S$2:$U$850,3,0)","v":{"$error":"#N/A"}}]
["","","","읉","","읉","",{"$nulls":14},{"$f":"VLOOKUP(T259,$S$2:$U$850,3,0)","v":{"$error":"#N/A"}}]
["","","","읉","","읉","",{"$nulls":14},{"$f":"VLOOKUP(T260,$S$2:$U$850,3,0)","v":{"$error":"#N/A"}}]
["","","","읉","","읉","",{"$nulls":14},{"$f":"VLOOKUP(T261,$S$2:$U$850,3,0)","v":{"$error":"#N/A"}}]
["","","","읉","","읉","",{"$nulls":14},{"$f":"VLOOKUP(T262,$S$2:$U$850,3,0)","v":{"$error":"#N/A"}}]
["","","","읉","","읉","",{"$nulls":14},{"$f":"VLOOKUP(T263,$S$2:$U$850,3,0)","v":{"$error":"#N/A"}}]
["","","","읉","","읉","",{"$nulls":14},{"$f":"VLOOKUP(T264,$S$2:$U$850,3,0)","v":{"$error":"#N/A"}}]
["","","","읉","","읉","",{"$nulls":14},{"$f":"VLOOKUP(T265,$S$2:$U$850,3,0)","v":{"$error":"#N/A"}}]
["","","","읉","","읉","",{"$nulls":14},{"$f":"VLOOKUP(T266,$S$2:$U$850,3,0)","v":{"$error":"#N/A"}}]
["","","","읉","","읉","",{"$nulls":14},{"$f":"VLOOKUP(T267,$S$2:$U$850,3,0)","v":{"$error":"#N/A"}}]
["","","","읉","","읉","",{"$nulls":14},{"$f":"VLOOKUP(T268,$S$2:$U$850,3,0)","v":{"$error":"#N/A"}}]
["","","","읉","","읉","",{"$nulls":14},{"$f":"VLOOKUP(T269,$S$2:$U$850,3,0)","v":{"$error":"#N/A"}}]
["","","","읉","","읉","",{"$nulls":14},{"$f":"VLOOKUP(T270,$S$2:$U$850,3,0)","v":{"$error":"#N/A"}}]
["","","","읉","","읉","",{"$nulls":14},{"$f":"VLOOKUP(T271,$S$2:$U$850,3,0)","v":{"$error":"#N/A"}}]
["","","","읉","","읉","",{"$nulls":14},{"$f":"VLOOKUP(T272,$S$2:$U$850,3,0)","v":{"$error":"#N/A"}}]
["","","","읉","","읉","",{"$nulls":14},{"$f":"VLOOKUP(T273,$S$2:$U$850,3,0)","v":{"$error":"#N/A"}}]
["","","","읉","","읉","",{"$nulls":14},{"$f":"VLOOKUP(T274,$S$2:$U$850,3,0)","v":{"$error":"#N/A"}}]
["","","","읉","","읉","",{"$nulls":14},{"$f":"VLOOKUP(T275,$S$2:$U$850,3,0)","v":{"$error":"#N/A"}}]
["","","","읉","","읉","",{"$nulls":14},{"$f":"VLOOKUP(T276,$S$2:$U$850,3,0)","v":{"$error":"#N/A"}}]
["","","","읉","","읉","",{"$nulls":14},{"$f":"VLOOKUP(T277,$S$2:$U$850,3,0)","v":{"$error":"#N/A"}}]
["","","","읉","","읉","",{"$nulls":14},{"$f":"VLOOKUP(T278,$S$2:$U$850,3,0)","v":{"$error":"#N/A"}}]
["","","","읉","","읉","",{"$nulls":14},{"$f":"VLOOKUP(T279,$S$2:$U$850,3,0)","v":{"$error":"#N/A"}}]
["","","","읉","","읉","",{"$nulls":14},{"$f":"VLOOKUP(T280,$S$2:$U$850,3,0)","v":{"$error":"#N/A"}}]
["","","","읉","","읉","",{"$nulls":14},{"$f":"VLOOKUP(T281,$S$2:$U$850,3,0)","v":{"$error":"#N/A"}}]
["","","","읉","","읉","",{"$nulls":14},{"$f":"VLOOKUP(T282,$S$2:$U$850,3,0)","v":{"$error":"#N/A"}}]
["","","","읉","","읉","",{"$nulls":14},{"$f":"VLOOKUP(T283,$S$2:$U$850,3,0)","v":{"$error":"#N/A"}}]
["","","","읉","","읉","",{"$nulls":14},{"$f":"VLOOKUP(T284,$S$2:$U$850,3,0)","v":{"$error":"#N/A"}}]
["","","","읉","","읉","",{"$nulls":14},{"$f":"VLOOKUP(T285,$S$2:$U$850,3,0)","v":{"$error":"#N/A"}}]
["","","","읉","","읉","",{"$nulls":14},{"$f":"VLOOKUP(T286,$S$2:$U$850,3,0)","v":{"$error":"#N/A"}}]
["","","","읉","","읉","",{"$nulls":14},{"$f":"VLOOKUP(T287,$S$2:$U$850,3,0)","v":{"$error":"#N/A"}}]
["","","","읉","","읉","",{"$nulls":14},{"$f":"VLOOKUP(T288,$S$2:$U$850,3,0)","v":{"$error":"#N/A"}}]
["","","","읉","","읉","",{"$nulls":14},{"$f":"VLOOKUP(T289,$S$2:$U$850,3,0)","v":{"$error":"#N/A"}}]
["","","","읉","","읉","",{"$nulls":14},{"$f":"VLOOKUP(T290,$S$2:$U$850,3,0)","v":{"$error":"#N/A"}}]
["","","","읉","","읉","",{"$nulls":14},{"$f":"VLOOKUP(T291,$S$2:$U$850,3,0)","v":{"$error":"#N/A"}}]
["","","","읉","","읉","",{"$nulls":14},{"$f":"VLOOKUP(T292,$S$2:$U$850,3,0)","v":{"$error":"#N/A"}}]
["","","","읉","","읉","",{"$nulls":14},{"$f":"VLOOKUP(T293,$S$2:$U$850,3,0)","v":{"$error":"#N/A"}}]
["","","","읉","","읉","",{"$nulls":14},{"$f":"VLOOKUP(T294,$S$2:$U$850,3,0)","v":{"$error":"#N/A"}}]
["","","","읉","","읉","",{"$nulls":14},{"$f":"VLOOKUP(T295,$S$2:$U$850,3,0)","v":{"$error":"#N/A"}}]
["","","","읉","","읉","",{"$nulls":14},{"$f":"VLOOKUP(T296,$S$2:$U$850,3,0)","v":{"$error":"#N/A"}}]
["","","","읉","","읉","",{"$nulls":14},{"$f":"VLOOKUP(T297,$S$2:$U$850,3,0)","v":{"$error":"#N/A"}}]
["","","","읉","","읉","",{"$nulls":14},{"$f":"VLOOKUP(T298,$S$2:$U$850,3,0)","v":{"$error":"#N/A"}}]
["","","","읉","","읉","",{"$nulls":14},{"$f":"VLOOKUP(T299,$S$2:$U$850,3,0)","v":{"$error":"#N/A"}}]
["","","","읉","","읉","",{"$nulls":14},{"$f":"VLOOKUP(T300,$S$2:$U$850,3,0)","v":{"$error":"#N/A"}}]
["","","","읉","","읉","",{"$nulls":14},{"$f":"VLOOKUP(T301,$S$2:$U$850,3,0)","v":{"$error":"#N/A"}}]
["","","","읉","","읉","",{"$nulls":14},{"$f":"VLOOKUP(T302,$S$2:$U$850,3,0)","v":{"$error":"#N/A"}}]
["","","","읉","","읉","",{"$nulls":14},{"$f":"VLOOKUP(T303,$S$2:$U$850,3,0)","v":{"$error":"#N/A"}}]
["","","","읉","","읉","",{"$nulls":14},{"$f":"VLOOKUP(T304,$S$2:$U$850,3,0)","v":{"$error":"#N/A"}}]
["","","","읉","","읉","",{"$nulls":14},{"$f":"VLOOKUP(T305,$S$2:$U$850,3,0)","v":{"$error":"#N/A"}}]
["","","","읉","","읉","",{"$nulls":14},{"$f":"VLOOKUP(T306,$S$2:$U$850,3,0)","v":{"$error":"#N/A"}}]
["","","","읉","","읉","",{"$nulls":14},{"$f":"VLOOKUP(T307,$S$2:$U$850,3,0)","v":{"$error":"#N/A"}}]
["","","","읉","","읉","",{"$nulls":14},{"$f":"VLOOKUP(T308,$S$2:$U$850,3,0)","v":{"$error":"#N/A"}}]
["","","","읉","","읉","",{"$nulls":14},{"$f":"VLOOKUP(T309,$S$2:$U$850,3,0)","v":{"$error":"#N/A"}}]
["","","","읉","","읉","",{"$nulls":14},{"$f":"VLOOKUP(T310,$S$2:$U$850,3,0)","v":{"$error":"#N/A"}}]
["","","","읉","","읉","",{"$nulls":14},{"$f":"VLOOKUP(T311,$S$2:$U$850,3,0)","v":{"$error":"#N/A"}}]
["","","","읉","","읉","",{"$nulls":14},{"$f":"VLOOKUP(T312,$S$2:$U$850,3,0)","v":{"$error":"#N/A"}}]
["","","","읉","","읉","",{"$nulls":14},{"$f":"VLOOKUP(T313,$S$2:$U$850,3,0)","v":{"$error":"#N/A"}}]
["","","","읉","","읉","",{"$nulls":14},{"$f":"VLOOKUP(T314,$S$2:$U$850,3,0)","v":{"$error":"#N/A"}}]
["","","","읉","","읉","",{"$nulls":14},{"$f":"VLOOKUP(T315,$S$2:$U$850,3,0)","v":{"$error":"#N/A"}}]
["","","","읉","","읉","",{"$nulls":14},{"$f":"VLOOKUP(T316,$S$2:$U$850,3,0)","v":{"$error":"#N/A"}}]
["","","","읉","","읉","",{"$nulls":14},{"$f":"VLOOKUP(T317,$S$2:$U$850,3,0)","v":{"$error":"#N/A"}}]
["","","","읉","","읉","",{"$nulls":14},{"$f":"VLOOKUP(T318,$S$2:$U$850,3,0)","v":{"$error":"#N/A"}}]
["","","","읉","","읉","",{"$nulls":14},{"$f":"VLOOKUP(T319,$S$2:$U$850,3,0)","v":{"$error":"#N/A"}}]
["","","","읉","","읉","",{"$nulls":14},{"$f":"VLOOKUP(T320,$S$2:$U$850,3,0)","v":{"$error":"#N/A"}}]
["","","","읉","","읉","",{"$nulls":14},{"$f":"VLOOKUP(T321,$S$2:$U$850,3,0)","v":{"$error":"#N/A"}}]
["","","","읉","","읉","",{"$nulls":14},{"$f":"VLOOKUP(T322,$S$2:$U$850,3,0)","v":{"$error":"#N/A"}}]
["","","","읉","","읉","",{"$nulls":14},{"$f":"VLOOKUP(T323,$S$2:$U$850,3,0)","v":{"$error":"#N/A"}}]
["","","","읉","","읉","",{"$nulls":14},{"$f":"VLOOKUP(T324,$S$2:$U$850,3,0)","v":{"$error":"#N/A"}}]
["","","","읉","","읉","",{"$nulls":14},{"$f":"VLOOKUP(T325,$S$2:$U$850,3,0)","v":{"$error":"#N/A"}}]
["","","","읉","","읉","",{"$nulls":14},{"$f":"VLOOKUP(T326,$S$2:$U$850,3,0)","v":{"$error":"#N/A"}}]
["","","","읉","","읉","",{"$nulls":14},{"$f":"VLOOKUP(T327,$S$2:$U$850,3,0)","v":{"$error":"#N/A"}}]
["","","","읉","","읉","",{"$nulls":14},{"$f":"VLOOKUP(T328,$S$2:$U$850,3,0)","v":{"$error":"#N/A"}}]
["","","","읉","","읉","",{"$nulls":14},{"$f":"VLOOKUP(T329,$S$2:$U$850,3,0)","v":{"$error":"#N/A"}}]
["","","","읉","","읉","",{"$nulls":14},{"$f":"VLOOKUP(T330,$S$2:$U$850,3,0)","v":{"$error":"#N/A"}}]
["","","","읉","","읉","",{"$nulls":14},{"$f":"VLOOKUP(T331,$S$2:$U$850,3,0)","v":{"$error":"#N/A"}}]
["","","","읉","","읉","",{"$nulls":14},{"$f":"VLOOKUP(T332,$S$2:$U$850,3,0)","v":{"$error":"#N/A"}}]
["","","","읉","","읉","",{"$nulls":14},{"$f":"VLOOKUP(T333,$S$2:$U$850,3,0)","v":{"$error":"#N/A"}}]
["","","","읉","","읉","",{"$nulls":14},{"$f":"VLOOKUP(T334,$S$2:$U$850,3,0)","v":{"$error":"#N/A"}}]
["","","","읉","","읉","",{"$nulls":14},{"$f":"VLOOKUP(T335,$S$2:$U$850,3,0)","v":{"$error":"#N/A"}}]
["","","","읉","","읉","",{"$nulls":14},{"$f":"VLOOKUP(T336,$S$2:$U$850,3,0)","v":{"$error":"#N/A"}}]
["","","","읉","","읉","",{"$nulls":14},{"$f":"VLOOKUP(T337,$S$2:$U$850,3,0)","v":{"$error":"#N/A"}}]
["","","","읉","","읉","",{"$nulls":14},{"$f":"VLOOKUP(T338,$S$2:$U$850,3,0)","v":{"$error":"#N/A"}}]
["","","","읉","","읉","",{"$nulls":14},{"$f":"VLOOKUP(T339,$S$2:$U$850,3,0)","v":{"$error":"#N/A"}}]
["","","","읉","","읉","",{"$nulls":14},{"$f":"VLOOKUP(T340,$S$2:$U$850,3,0)","v":{"$error":"#N/A"}}]
["","","","읉","","읉","",{"$nulls":14},{"$f":"VLOOKUP(T341,$S$2:$U$850,3,0)","v":{"$error":"#N/A"}}]
["","","","읉","","읉","",{"$nulls":14},{"$f":"VLOOKUP(T342,$S$2:$U$850,3,0)","v":{"$error":"#N/A"}}]
["","","","읉","","읉","",{"$nulls":14},{"$f":"VLOOKUP(T343,$S$2:$U$850,3,0)","v":{"$error":"#N/A"}}]
["","","","읉","","읉","",{"$nulls":14},{"$f":"VLOOKUP(T344,$S$2:$U$850,3,0)","v":{"$error":"#N/A"}}]
["","","","읉","","읉","",{"$nulls":14},{"$f":"VLOOKUP(T345,$S$2:$U$850,3,0)","v":{"$error":"#N/A"}}]
["","","","읉","","읉","",{"$nulls":14},{"$f":"VLOOKUP(T346,$S$2:$U$850,3,0)","v":{"$error":"#N/A"}}]
["","","","읉","","읉","",{"$nulls":14},{"$f":"VLOOKUP(T347,$S$2:$U$850,3,0)","v":{"$error":"#N/A"}}]
["","","","읉","","읉","",{"$nulls":14},{"$f":"VLOOKUP(T348,$S$2:$U$850,3,0)","v":{"$error":"#N/A"}}]
["","","","읉","","읉","",{"$nulls":14},{"$f":"VLOOKUP(T349,$S$2:$U$850,3,0)","v":{"$error":"#N/A"}}]
["","","","읉","","읉","",{"$nulls":14},{"$f":"VLOOKUP(T350,$S$2:$U$850,3,0)","v":{"$error":"#N/A"}}]
["","","","읉","","읉","",{"$nulls":14},{"$f":"VLOOKUP(T351,$S$2:$U$850,3,0)","v":{"$error":"#N/A"}}]
["","","","읉","","읉","",{"$nulls":14},{"$f":"VLOOKUP(T352,$S$2:$U$850,3,0)","v":{"$error":"#N/A"}}]
["","","","읉","","읉","",{"$nulls":14},{"$f":"VLOOKUP(T353,$S$2:$U$850,3,0)","v":{"$error":"#N/A"}}]
["","","","읉","","읉","",{"$nulls":14},{"$f":"VLOOKUP(T354,$S$2:$U$850,3,0)","v":{"$error":"#N/A"}}]
["","","","읉","","읉","",{"$nulls":14},{"$f":"VLOOKUP(T355,$S$2:$U$850,3,0)","v":{"$error":"#N/A"}}]
["","","","읉","","읉","",{"$nulls":14},{"$f":"VLOOKUP(T356,$S$2:$U$850,3,0)","v":{"$error":"#N/A"}}]
["","","","읉","","읉","",{"$nulls":14},{"$f":"VLOOKUP(T357,$S$2:$U$850,3,0)","v":{"$error":"#N/A"}}]
["","","","읉","","읉","",{"$nulls":14},{"$f":"VLOOKUP(T358,$S$2:$U$850,3,0)","v":{"$error":"#N/A"}}]
["","","","읉","","읉","",{"$nulls":14},{"$f":"VLOOKUP(T359,$S$2:$U$850,3,0)","v":{"$error":"#N/A"}}]
["","","","읉","","읉","",{"$nulls":14},{"$f":"VLOOKUP(T360,$S$2:$U$850,3,0)","v":{"$error":"#N/A"}}]
["","","","읉","","읉","",{"$nulls":14},{"$f":"VLOOKUP(T361,$S$2:$U$850,3,0)","v":{"$error":"#N/A"}}]
["","","","읉","","읉","",{"$nulls":14},{"$f":"VLOOKUP(T362,$S$2:$U$850,3,0)","v":{"$error":"#N/A"}}]
["","","","읉","","읉","",{"$nulls":14},{"$f":"VLOOKUP(T363,$S$2:$U$850,3,0)","v":{"$error":"#N/A"}}]
["","","","읉","","읉","",{"$nulls":14},{"$f":"VLOOKUP(T364,$S$2:$U$850,3,0)","v":{"$error":"#N/A"}}]
["","","","읉","","읉","",{"$nulls":14},{"$f":"VLOOKUP(T365,$S$2:$U$850,3,0)","v":{"$error":"#N/A"}}]
["","","","읉","","읉","",{"$nulls":14},{"$f":"VLOOKUP(T366,$S$2:$U$850,3,0)","v":{"$error":"#N/A"}}]
["","","","읉","","읉","",{"$nulls":14},{"$f":"VLOOKUP(T367,$S$2:$U$850,3,0)","v":{"$error":"#N/A"}}]
["","","","읉","","읉","",{"$nulls":14},{"$f":"VLOOKUP(T368,$S$2:$U$850,3,0)","v":{"$error":"#N/A"}}]
["","","","읉","","읉","",{"$nulls":14},{"$f":"VLOOKUP(T369,$S$2:$U$850,3,0)","v":{"$error":"#N/A"}}]
["","","","읉","","읉","",{"$nulls":14},{"$f":"VLOOKUP(T370,$S$2:$U$850,3,0)","v":{"$error":"#N/A"}}]
["","","","읉","","읉","",{"$nulls":14},{"$f":"VLOOKUP(T371,$S$2:$U$850,3,0)","v":{"$error":"#N/A"}}]
["","","","읉","","읉","",{"$nulls":14},{"$f":"VLOOKUP(T372,$S$2:$U$850,3,0)","v":{"$error":"#N/A"}}]
["","","","읉","","읉","",{"$nulls":14},{"$f":"VLOOKUP(T373,$S$2:$U$850,3,0)","v":{"$error":"#N/A"}}]
["","","","읉","","읉","",{"$nulls":14},{"$f":"VLOOKUP(T374,$S$2:$U$850,3,0)","v":{"$error":"#N/A"}}]
["","","","읉","","읉","",{"$nulls":14},{"$f":"VLOOKUP(T375,$S$2:$U$850,3,0)","v":{"$error":"#N/A"}}]
["","","","읉","","읉","",{"$nulls":14},{"$f":"VLOOKUP(T376,$S$2:$U$850,3,0)","v":{"$error":"#N/A"}}]
["","","","읉","","읉","",{"$nulls":14},{"$f":"VLOOKUP(T377,$S$2:$U$850,3,0)","v":{"$error":"#N/A"}}]
["","","","읉","","읉","",{"$nulls":14},{"$f":"VLOOKUP(T378,$S$2:$U$850,3,0)","v":{"$error":"#N/A"}}]
["","","","읉","","읉","",{"$nulls":14},{"$f":"VLOOKUP(T379,$S$2:$U$850,3,0)","v":{"$error":"#N/A"}}]
["","","","읉","","읉","",{"$nulls":14},{"$f":"VLOOKUP(T380,$S$2:$U$850,3,0)","v":{"$error":"#N/A"}}]
["","","","읉","","읉","",{"$nulls":14},{"$f":"VLOOKUP(T381,$S$2:$U$850,3,0)","v":{"$error":"#N/A"}}]
["","","","읉","","읉","",{"$nulls":14},{"$f":"VLOOKUP(T382,$S$2:$U$850,3,0)","v":{"$error":"#N/A"}}]
["","","","읉","","읉","",{"$nulls":14},{"$f":"VLOOKUP(T383,$S$2:$U$850,3,0)","v":{"$error":"#N/A"}}]
["","","","읉","","읉","",{"$nulls":14},{"$f":"VLOOKUP(T384,$S$2:$U$850,3,0)","v":{"$error":"#N/A"}}]
["","","","읉","","읉","",{"$nulls":14},{"$f":"VLOOKUP(T385,$S$2:$U$850,3,0)","v":{"$error":"#N/A"}}]
["","","","읉","","읉","",{"$nulls":14},{"$f":"VLOOKUP(T386,$S$2:$U$850,3,0)","v":{"$error":"#N/A"}}]
["","","","읉","","읉","",{"$nulls":14},{"$f":"VLOOKUP(T387,$S$2:$U$850,3,0)","v":{"$error":"#N/A"}}]
["","","","읉","","읉","",{"$nulls":14},{"$f":"VLOOKUP(T388,$S$2:$U$850,3,0)","v":{"$error":"#N/A"}}]
["","","","읉","","읉","",{"$nulls":14},{"$f":"VLOOKUP(T389,$S$2:$U$850,3,0)","v":{"$error":"#N/A"}}]
["","","","읉","","읉","",{"$nulls":14},{"$f":"VLOOKUP(T390,$S$2:$U$850,3,0)","v":{"$error":"#N/A"}}]
["","","","읉","","읉","",{"$nulls":14},{"$f":"VLOOKUP(T391,$S$2:$U$850,3,0)","v":{"$error":"#N/A"}}]
["","","","읉","","읉","",{"$nulls":14},{"$f":"VLOOKUP(T392,$S$2:$U$850,3,0)","v":{"$error":"#N/A"}}]
["","","","읉","","읉","",{"$nulls":14},{"$f":"VLOOKUP(T393,$S$2:$U$850,3,0)","v":{"$error":"#N/A"}}]
["","","","읉","","읉","",{"$nulls":14},{"$f":"VLOOKUP(T394,$S$2:$U$850,3,0)","v":{"$error":"#N/A"}}]
["","","","읉","","읉","",{"$nulls":14},{"$f":"VLOOKUP(T395,$S$2:$U$850,3,0)","v":{"$error":"#N/A"}}]
["","","","읉","","읉","",{"$nulls":14},{"$f":"VLOOKUP(T396,$S$2:$U$850,3,0)","v":{"$error":"#N/A"}}]
["","","","읉","","읉","",{"$nulls":14},{"$f":"VLOOKUP(T397,$S$2:$U$850,3,0)","v":{"$error":"#N/A"}}]
["","","","읉","","읉","",{"$nulls":14},{"$f":"VLOOKUP(T398,$S$2:$U$850,3,0)","v":{"$error":"#N/A"}}]
["","","","읉","","읉","",{"$nulls":14},{"$f":"VLOOKUP(T399,$S$2:$U$850,3,0)","v":{"$error":"#N/A"}}]
["","","","읉","","읉","",{"$nulls":14},{"$f":"VLOOKUP(T400,$S$2:$U$850,3,0)","v":{"$error":"#N/A"}}]
["","","","읉","","읉","",{"$nulls":14},{"$f":"VLOOKUP(T401,$S$2:$U$850,3,0)","v":{"$error":"#N/A"}}]
["","","","읉","","읉","",{"$nulls":14},{"$f":"VLOOKUP(T402,$S$2:$U$850,3,0)","v":{"$error":"#N/A"}}]
["","","","읉","","읉","",{"$nulls":14},{"$f":"VLOOKUP(T403,$S$2:$U$850,3,0)","v":{"$error":"#N/A"}}]
["","","","읉","","읉","",{"$nulls":14},{"$f":"VLOOKUP(T404,$S$2:$U$850,3,0)","v":{"$error":"#N/A"}}]
["","","","읉","","읉","",{"$nulls":14},{"$f":"VLOOKUP(T405,$S$2:$U$850,3,0)","v":{"$error":"#N/A"}}]
["","","","읉","","읉","",{"$nulls":14},{"$f":"VLOOKUP(T406,$S$2:$U$850,3,0)","v":{"$error":"#N/A"}}]
["","","","읉","","읉","",{"$nulls":14},{"$f":"VLOOKUP(T407,$S$2:$U$850,3,0)","v":{"$error":"#N/A"}}]
["","","","읉","","읉","",{"$nulls":14},{"$f":"VLOOKUP(T408,$S$2:$U$850,3,0)","v":{"$error":"#N/A"}}]
["","","","읉","","읉","",{"$nulls":14},{"$f":"VLOOKUP(T409,$S$2:$U$850,3,0)","v":{"$error":"#N/A"}}]
["","","","읉","","읉","",{"$nulls":14},{"$f":"VLOOKUP(T410,$S$2:$U$850,3,0)","v":{"$error":"#N/A"}}]
["","","","읉","","읉","",{"$nulls":14},{"$f":"VLOOKUP(T411,$S$2:$U$850,3,0)","v":{"$error":"#N/A"}}]
["","","","읉","","읉","",{"$nulls":14},{"$f":"VLOOKUP(T412,$S$2:$U$850,3,0)","v":{"$error":"#N/A"}}]
["","","","읉","","읉","",{"$nulls":14},{"$f":"VLOOKUP(T413,$S$2:$U$850,3,0)","v":{"$error":"#N/A"}}]
["","","","읉","","읉","",{"$nulls":14},{"$f":"VLOOKUP(T414,$S$2:$U$850,3,0)","v":{"$error":"#N/A"}}]
["","","","읉","","읉","",{"$nulls":14},{"$f":"VLOOKUP(T415,$S$2:$U$850,3,0)","v":{"$error":"#N/A"}}]
["","","","읉","","읉","",{"$nulls":14},{"$f":"VLOOKUP(T416,$S$2:$U$850,3,0)","v":{"$error":"#N/A"}}]
["","","","읉","","읉","",{"$nulls":14},{"$f":"VLOOKUP(T417,$S$2:$U$850,3,0)","v":{"$error":"#N/A"}}]
["","","","읉","","읉","",{"$nulls":14},{"$f":"VLOOKUP(T418,$S$2:$U$850,3,0)","v":{"$error":"#N/A"}}]
["","","","읉","","읉","",{"$nulls":14},{"$f":"VLOOKUP(T419,$S$2:$U$850,3,0)","v":{"$error":"#N/A"}}]
["","","","읉","","읉","",{"$nulls":14},{"$f":"VLOOKUP(T420,$S$2:$U$850,3,0)","v":{"$error":"#N/A"}}]
["","","","읉","","읉","",{"$nulls":14},{"$f":"VLOOKUP(T421,$S$2:$U$850,3,0)","v":{"$error":"#N/A"}}]
["","","","읉","","읉","",{"$nulls":14},{"$f":"VLOOKUP(T422,$S$2:$U$850,3,0)","v":{"$error":"#N/A"}}]
["","","","읉","","읉","",{"$nulls":14},{"$f":"VLOOKUP(T423,$S$2:$U$850,3,0)","v":{"$error":"#N/A"}}]
["","","","읉","","읉","",{"$nulls":14},{"$f":"VLOOKUP(T424,$S$2:$U$850,3,0)","v":{"$error":"#N/A"}}]
["","","","읉","","읉","",{"$nulls":14},{"$f":"VLOOKUP(T425,$S$2:$U$850,3,0)","v":{"$error":"#N/A"}}]
["","","","읉","","읉","",{"$nulls":14},{"$f":"VLOOKUP(T426,$S$2:$U$850,3,0)","v":{"$error":"#N/A"}}]
["","","","읉","","읉","",{"$nulls":14},{"$f":"VLOOKUP(T427,$S$2:$U$850,3,0)","v":{"$error":"#N/A"}}]
["","","","읉","","읉","",{"$nulls":14},{"$f":"VLOOKUP(T428,$S$2:$U$850,3,0)","v":{"$error":"#N/A"}}]
["","","","읉","","읉","",{"$nulls":14},{"$f":"VLOOKUP(T429,$S$2:$U$850,3,0)","v":{"$error":"#N/A"}}]
["","","","읉","","읉","",{"$nulls":14},{"$f":"VLOOKUP(T430,$S$2:$U$850,3,0)","v":{"$error":"#N/A"}}]
["","","","읉","","읉","",{"$nulls":14},{"$f":"VLOOKUP(T431,$S$2:$U$850,3,0)","v":{"$error":"#N/A"}}]
["","","","읉","","읉","",{"$nulls":14},{"$f":"VLOOKUP(T432,$S$2:$U$850,3,0)","v":{"$error":"#N/A"}}]
["","","","읉","","읉","",{"$nulls":14},{"$f":"VLOOKUP(T433,$S$2:$U$850,3,0)","v":{"$error":"#N/A"}}]
["","","","읉","","읉","",{"$nulls":14},{"$f":"VLOOKUP(T434,$S$2:$U$850,3,0)","v":{"$error":"#N/A"}}]
["","","","읉","","읉","",{"$nulls":14},{"$f":"VLOOKUP(T435,$S$2:$U$850,3,0)","v":{"$error":"#N/A"}}]
["","","","읉","","읉","",{"$nulls":14},{"$f":"VLOOKUP(T436,$S$2:$U$850,3,0)","v":{"$error":"#N/A"}}]
["","","","읉","","읉","",{"$nulls":14},{"$f":"VLOOKUP(T437,$S$2:$U$850,3,0)","v":{"$error":"#N/A"}}]
["","","","읉","","읉","",{"$nulls":14},{"$f":"VLOOKUP(T438,$S$2:$U$850,3,0)","v":{"$error":"#N/A"}}]
["","","","읉","","읉","",{"$nulls":14},{"$f":"VLOOKUP(T439,$S$2:$U$850,3,0)","v":{"$error":"#N/A"}}]
["","","","읉","","읉","",{"$nulls":14},{"$f":"VLOOKUP(T440,$S$2:$U$850,3,0)","v":{"$error":"#N/A"}}]
["","","","읉","","읉","",{"$nulls":14},{"$f":"VLOOKUP(T441,$S$2:$U$850,3,0)","v":{"$error":"#N/A"}}]
["","","","읉","","읉","",{"$nulls":14},{"$f":"VLOOKUP(T442,$S$2:$U$850,3,0)","v":{"$error":"#N/A"}}]
["","","","읉","","읉","",{"$nulls":14},{"$f":"VLOOKUP(T443,$S$2:$U$850,3,0)","v":{"$error":"#N/A"}}]
["","","","읉","","읉","",{"$nulls":14},{"$f":"VLOOKUP(T444,$S$2:$U$850,3,0)","v":{"$error":"#N/A"}}]
["","","","읉","","읉","",{"$nulls":14},{"$f":"VLOOKUP(T445,$S$2:$U$850,3,0)","v":{"$error":"#N/A"}}]
["","","","읉","","읉","",{"$nulls":14},{"$f":"VLOOKUP(T446,$S$2:$U$850,3,0)","v":{"$error":"#N/A"}}]
["","","","읉","","읉","",{"$nulls":14},{"$f":"VLOOKUP(T447,$S$2:$U$850,3,0)","v":{"$error":"#N/A"}}]
["","","","읉","","읉","",{"$nulls":14},{"$f":"VLOOKUP(T448,$S$2:$U$850,3,0)","v":{"$error":"#N/A"}}]
["","","","읉","","읉","",{"$nulls":14},{"$f":"VLOOKUP(T449,$S$2:$U$850,3,0)","v":{"$error":"#N/A"}}]
["","","","읉","","읉","",{"$nulls":14},{"$f":"VLOOKUP(T450,$S$2:$U$850,3,0)","v":{"$error":"#N/A"}}]
["","","","읉","","읉","",{"$nulls":14},{"$f":"VLOOKUP(T451,$S$2:$U$850,3,0)","v":{"$error":"#N/A"}}]
["","","","읉","","읉","",{"$nulls":14},{"$f":"VLOOKUP(T452,$S$2:$U$850,3,0)","v":{"$error":"#N/A"}}]
["","","","읉","","읉","",{"$nulls":14},{"$f":"VLOOKUP(T453,$S$2:$U$850,3,0)","v":{"$error":"#N/A"}}]
["","","","읉","","읉","",{"$nulls":14},{"$f":"VLOOKUP(T454,$S$2:$U$850,3,0)","v":{"$error":"#N/A"}}]
["","","","읉","","읉","",{"$nulls":14},{"$f":"VLOOKUP(T455,$S$2:$U$850,3,0)","v":{"$error":"#N/A"}}]
["","","","읉","","읉","",{"$nulls":14},{"$f":"VLOOKUP(T456,$S$2:$U$850,3,0)","v":{"$error":"#N/A"}}]
["","","","읉","","읉","",{"$nulls":14},{"$f":"VLOOKUP(T457,$S$2:$U$850,3,0)","v":{"$error":"#N/A"}}]
["","","","읉","","읉","",{"$nulls":14},{"$f":"VLOOKUP(T458,$S$2:$U$850,3,0)","v":{"$error":"#N/A"}}]
["","","","읉","","읉","",{"$nulls":14},{"$f":"VLOOKUP(T459,$S$2:$U$850,3,0)","v":{"$error":"#N/A"}}]
["","","","읉","","읉","",{"$nulls":14},{"$f":"VLOOKUP(T460,$S$2:$U$850,3,0)","v":{"$error":"#N/A"}}]
["","","","읉","","읉","",{"$nulls":14},{"$f":"VLOOKUP(T461,$S$2:$U$850,3,0)","v":{"$error":"#N/A"}}]
["","","","읉","","읉","",{"$nulls":14},{"$f":"VLOOKUP(T462,$S$2:$U$850,3,0)","v":{"$error":"#N/A"}}]
["","","","읉","","읉","",{"$nulls":14},{"$f":"VLOOKUP(T463,$S$2:$U$850,3,0)","v":{"$error":"#N/A"}}]
["","","","읉","","읉","",{"$nulls":14},{"$f":"VLOOKUP(T464,$S$2:$U$850,3,0)","v":{"$error":"#N/A"}}]
["","","","읉","","읉","",{"$nulls":14},{"$f":"VLOOKUP(T465,$S$2:$U$850,3,0)","v":{"$error":"#N/A"}}]
["","","","읉","","읉","",{"$nulls":14},{"$f":"VLOOKUP(T466,$S$2:$U$850,3,0)","v":{"$error":"#N/A"}}]
["","","","읉","","읉","",{"$nulls":14},{"$f":"VLOOKUP(T467,$S$2:$U$850,3,0)","v":{"$error":"#N/A"}}]
["","","","읉","","읉","",{"$nulls":14},{"$f":"VLOOKUP(T468,$S$2:$U$850,3,0)","v":{"$error":"#N/A"}}]
["","","","읉","","읉","",{"$nulls":14},{"$f":"VLOOKUP(T469,$S$2:$U$850,3,0)","v":{"$error":"#N/A"}}]
["","","","읉","","읉","",{"$nulls":14},{"$f":"VLOOKUP(T470,$S$2:$U$850,3,0)","v":{"$error":"#N/A"}}]
["","","","읉","","읉","",{"$nulls":14},{"$f":"VLOOKUP(T471,$S$2:$U$850,3,0)","v":{"$error":"#N/A"}}]
["","","","읉","","읉","",{"$nulls":14},{"$f":"VLOOKUP(T472,$S$2:$U$850,3,0)","v":{"$error":"#N/A"}}]
["","","","읉","","읉","",{"$nulls":14},{"$f":"VLOOKUP(T473,$S$2:$U$850,3,0)","v":{"$error":"#N/A"}}]
["","","","읉","","읉","",{"$nulls":14},{"$f":"VLOOKUP(T474,$S$2:$U$850,3,0)","v":{"$error":"#N/A"}}]
["","","","읉","","읉","",{"$nulls":14},{"$f":"VLOOKUP(T475,$S$2:$U$850,3,0)","v":{"$error":"#N/A"}}]
["","","","읉","","읉","",{"$nulls":14},{"$f":"VLOOKUP(T476,$S$2:$U$850,3,0)","v":{"$error":"#N/A"}}]
["","","","읉","","읉","",{"$nulls":14},{"$f":"VLOOKUP(T477,$S$2:$U$850,3,0)","v":{"$error":"#N/A"}}]
["","","","읉","","읉","",{"$nulls":14},{"$f":"VLOOKUP(T478,$S$2:$U$850,3,0)","v":{"$error":"#N/A"}}]
["","","","읉","","읉","",{"$nulls":14},{"$f":"VLOOKUP(T479,$S$2:$U$850,3,0)","v":{"$error":"#N/A"}}]
["","","","읉","","읉","",{"$nulls":14},{"$f":"VLOOKUP(T480,$S$2:$U$850,3,0)","v":{"$error":"#N/A"}}]
["","","","읉","","읉","",{"$nulls":14},{"$f":"VLOOKUP(T481,$S$2:$U$850,3,0)","v":{"$error":"#N/A"}}]
["","","","읉","","읉","",{"$nulls":14},{"$f":"VLOOKUP(T482,$S$2:$U$850,3,0)","v":{"$error":"#N/A"}}]
["","","","읉","","읉","",{"$nulls":14},{"$f":"VLOOKUP(T483,$S$2:$U$850,3,0)","v":{"$error":"#N/A"}}]
["","","","읉","","읉","",{"$nulls":14},{"$f":"VLOOKUP(T484,$S$2:$U$850,3,0)","v":{"$error":"#N/A"}}]
["","","","읉","","읉","",{"$nulls":14},{"$f":"VLOOKUP(T485,$S$2:$U$850,3,0)","v":{"$error":"#N/A"}}]
["","","","읉","","읉","",{"$nulls":14},{"$f":"VLOOKUP(T486,$S$2:$U$850,3,0)","v":{"$error":"#N/A"}}]
["","","","읉","","읉","",{"$nulls":14},{"$f":"VLOOKUP(T487,$S$2:$U$850,3,0)","v":{"$error":"#N/A"}}]
["","","","읉","","읉","",{"$nulls":14},{"$f":"VLOOKUP(T488,$S$2:$U$850,3,0)","v":{"$error":"#N/A"}}]
["","","","읉","","읉","",{"$nulls":14},{"$f":"VLOOKUP(T489,$S$2:$U$850,3,0)","v":{"$error":"#N/A"}}]
["","","","읉","","읉","",{"$nulls":14},{"$f":"VLOOKUP(T490,$S$2:$U$850,3,0)","v":{"$error":"#N/A"}}]
["","","","읉","","읉","",{"$nulls":14},{"$f":"VLOOKUP(T491,$S$2:$U$850,3,0)","v":{"$error":"#N/A"}}]
["","","","읉","","읉","",{"$nulls":14},{"$f":"VLOOKUP(T492,$S$2:$U$850,3,0)","v":{"$error":"#N/A"}}]
["","","","읉","","읉","",{"$nulls":14},{"$f":"VLOOKUP(T493,$S$2:$U$850,3,0)","v":{"$error":"#N/A"}}]
["","","","읉","","읉","",{"$nulls":14},{"$f":"VLOOKUP(T494,$S$2:$U$850,3,0)","v":{"$error":"#N/A"}}]
["","","","읉","","읉","",{"$nulls":14},{"$f":"VLOOKUP(T495,$S$2:$U$850,3,0)","v":{"$error":"#N/A"}}]
["","","","읉","","읉","",{"$nulls":14},{"$f":"VLOOKUP(T496,$S$2:$U$850,3,0)","v":{"$error":"#N/A"}}]
["","","","읉","","읉","",{"$nulls":14},{"$f":"VLOOKUP(T497,$S$2:$U$850,3,0)","v":{"$error":"#N/A"}}]
["","","","읉","","읉","",{"$nulls":14},{"$f":"VLOOKUP(T498,$S$2:$U$850,3,0)","v":{"$error":"#N/A"}}]
["","","","읉","","읉","",{"$nulls":14},{"$f":"VLOOKUP(T499,$S$2:$U$850,3,0)","v":{"$error":"#N/A"}}]
["","","","읉","","읉","",{"$nulls":14},{"$f":"VLOOKUP(T500,$S$2:$U$850,3,0)","v":{"$error":"#N/A"}}]
["","","","읉","","읉","",{"$nulls":14},{"$f":"VLOOKUP(T501,$S$2:$U$850,3,0)","v":{"$error":"#N/A"}}]
["","","","읉","","읉","",{"$nulls":14},{"$f":"VLOOKUP(T502,$S$2:$U$850,3,0)","v":{"$error":"#N/A"}}]
["","","","읉","","읉","",{"$nulls":14},{"$f":"VLOOKUP(T503,$S$2:$U$850,3,0)","v":{"$error":"#N/A"}}]
["","","","읉","","읉","",{"$nulls":14},{"$f":"VLOOKUP(T504,$S$2:$U$850,3,0)","v":{"$error":"#N/A"}}]
["","","","읉","","읉","",{"$nulls":14},{"$f":"VLOOKUP(T505,$S$2:$U$850,3,0)","v":{"$error":"#N/A"}}]
["","","","읉","","읉","",{"$nulls":14},{"$f":"VLOOKUP(T506,$S$2:$U$850,3,0)","v":{"$error":"#N/A"}}]
["","","","읉","","읉","",{"$nulls":14},{"$f":"VLOOKUP(T507,$S$2:$U$850,3,0)","v":{"$error":"#N/A"}}]
["","","","읉","","읉","",{"$nulls":14},{"$f":"VLOOKUP(T508,$S$2:$U$850,3,0)","v":{"$error":"#N/A"}}]
["","","","읉","","읉","",{"$nulls":14},{"$f":"VLOOKUP(T509,$S$2:$U$850,3,0)","v":{"$error":"#N/A"}}]
["","","","읉","","읉","",{"$nulls":14},{"$f":"VLOOKUP(T510,$S$2:$U$850,3,0)","v":{"$error":"#N/A"}}]
["","","","읉","","읉","",{"$nulls":14},{"$f":"VLOOKUP(T511,$S$2:$U$850,3,0)","v":{"$error":"#N/A"}}]
["","","","읉","","읉","",{"$nulls":14},{"$f":"VLOOKUP(T512,$S$2:$U$850,3,0)","v":{"$error":"#N/A"}}]
["","","","읉","","읉","",{"$nulls":14},{"$f":"VLOOKUP(T513,$S$2:$U$850,3,0)","v":{"$error":"#N/A"}}]
["","","","읉","","읉","",{"$nulls":14},{"$f":"VLOOKUP(T514,$S$2:$U$850,3,0)","v":{"$error":"#N/A"}}]
["","","","읉","","읉","",{"$nulls":14},{"$f":"VLOOKUP(T515,$S$2:$U$850,3,0)","v":{"$error":"#N/A"}}]
["","","","읉","","읉","",{"$nulls":14},{"$f":"VLOOKUP(T516,$S$2:$U$850,3,0)","v":{"$error":"#N/A"}}]
["","","","읉","","읉","",{"$nulls":14},{"$f":"VLOOKUP(T517,$S$2:$U$850,3,0)","v":{"$error":"#N/A"}}]
["","","","읉","","읉","",{"$nulls":14},{"$f":"VLOOKUP(T518,$S$2:$U$850,3,0)","v":{"$error":"#N/A"}}]
["","","","읉","","읉","",{"$nulls":14},{"$f":"VLOOKUP(T519,$S$2:$U$850,3,0)","v":{"$error":"#N/A"}}]
["","","","읉","","읉","",{"$nulls":14},{"$f":"VLOOKUP(T520,$S$2:$U$850,3,0)","v":{"$error":"#N/A"}}]
["","","","읉","","읉","",{"$nulls":14},{"$f":"VLOOKUP(T521,$S$2:$U$850,3,0)","v":{"$error":"#N/A"}}]
["","","","읉","","읉","",{"$nulls":14},{"$f":"VLOOKUP(T522,$S$2:$U$850,3,0)","v":{"$error":"#N/A"}}]
["","","","읉","","읉","",{"$nulls":14},{"$f":"VLOOKUP(T523,$S$2:$U$850,3,0)","v":{"$error":"#N/A"}}]
["","","","읉","","읉","",{"$nulls":14},{"$f":"VLOOKUP(T524,$S$2:$U$850,3,0)","v":{"$error":"#N/A"}}]
["","","","읉","","읉","",{"$nulls":14},{"$f":"VLOOKUP(T525,$S$2:$U$850,3,0)","v":{"$error":"#N/A"}}]
["","","","읉","","읉","",{"$nulls":14},{"$f":"VLOOKUP(T526,$S$2:$U$850,3,0)","v":{"$error":"#N/A"}}]
["","","","읉","","읉","",{"$nulls":14},{"$f":"VLOOKUP(T527,$S$2:$U$850,3,0)","v":{"$error":"#N/A"}}]
["","","","읉","","읉","",{"$nulls":14},{"$f":"VLOOKUP(T528,$S$2:$U$850,3,0)","v":{"$error":"#N/A"}}]
["","","","읉","","읉","",{"$nulls":14},{"$f":"VLOOKUP(T529,$S$2:$U$850,3,0)","v":{"$error":"#N/A"}}]
["","","","읉","","읉","",{"$nulls":14},{"$f":"VLOOKUP(T530,$S$2:$U$850,3,0)","v":{"$error":"#N/A"}}]
["","","","읉","","읉","",{"$nulls":14},{"$f":"VLOOKUP(T531,$S$2:$U$850,3,0)","v":{"$error":"#N/A"}}]
["","","","읉","","읉","",{"$nulls":14},{"$f":"VLOOKUP(T532,$S$2:$U$850,3,0)","v":{"$error":"#N/A"}}]
["","","","읉","","읉","",{"$nulls":14},{"$f":"VLOOKUP(T533,$S$2:$U$850,3,0)","v":{"$error":"#N/A"}}]
["","","","읉","","읉","",{"$nulls":14},{"$f":"VLOOKUP(T534,$S$2:$U$850,3,0)","v":{"$error":"#N/A"}}]
["","","","읉","","읉","",{"$nulls":14},{"$f":"VLOOKUP(T535,$S$2:$U$850,3,0)","v":{"$error":"#N/A"}}]
["","","","읉","","읉","",{"$nulls":14},{"$f":"VLOOKUP(T536,$S$2:$U$850,3,0)","v":{"$error":"#N/A"}}]
["","","","읉","","읉","",{"$nulls":14},{"$f":"VLOOKUP(T537,$S$2:$U$850,3,0)","v":{"$error":"#N/A"}}]
["","","","읉","","읉","",{"$nulls":14},{"$f":"VLOOKUP(T538,$S$2:$U$850,3,0)","v":{"$error":"#N/A"}}]
["","","","읉","","읉","",{"$nulls":14},{"$f":"VLOOKUP(T539,$S$2:$U$850,3,0)","v":{"$error":"#N/A"}}]
["","","","읉","","읉","",{"$nulls":14},{"$f":"VLOOKUP(T540,$S$2:$U$850,3,0)","v":{"$error":"#N/A"}}]
["","","","읉","","읉","",{"$nulls":14},{"$f":"VLOOKUP(T541,$S$2:$U$850,3,0)","v":{"$error":"#N/A"}}]
["","","","읉","","읉","",{"$nulls":14},{"$f":"VLOOKUP(T542,$S$2:$U$850,3,0)","v":{"$error":"#N/A"}}]
["","","","읉","","읉","",{"$nulls":14},{"$f":"VLOOKUP(T543,$S$2:$U$850,3,0)","v":{"$error":"#N/A"}}]
["","","","읉","","읉","",{"$nulls":14},{"$f":"VLOOKUP(T544,$S$2:$U$850,3,0)","v":{"$error":"#N/A"}}]
["","","","읉","","읉","",{"$nulls":14},{"$f":"VLOOKUP(T545,$S$2:$U$850,3,0)","v":{"$error":"#N/A"}}]
["","","","읉","","읉","",{"$nulls":14},{"$f":"VLOOKUP(T546,$S$2:$U$850,3,0)","v":{"$error":"#N/A"}}]
["","","","읉","","읉","",{"$nulls":14},{"$f":"VLOOKUP(T547,$S$2:$U$850,3,0)","v":{"$error":"#N/A"}}]
["","","","읉","","읉","",{"$nulls":14},{"$f":"VLOOKUP(T548,$S$2:$U$850,3,0)","v":{"$error":"#N/A"}}]
["","","","읉","","읉","",{"$nulls":14},{"$f":"VLOOKUP(T549,$S$2:$U$850,3,0)","v":{"$error":"#N/A"}}]
["","","","읉","","읉","",{"$nulls":14},{"$f":"VLOOKUP(T550,$S$2:$U$850,3,0)","v":{"$error":"#N/A"}}]
["","","","읉","","읉","",{"$nulls":14},{"$f":"VLOOKUP(T551,$S$2:$U$850,3,0)","v":{"$error":"#N/A"}}]
["","","","읉","","읉","",{"$nulls":14},{"$f":"VLOOKUP(T552,$S$2:$U$850,3,0)","v":{"$error":"#N/A"}}]
["","","","읉","","읉","",{"$nulls":14},{"$f":"VLOOKUP(T553,$S$2:$U$850,3,0)","v":{"$error":"#N/A"}}]
["","","","읉","","읉","",{"$nulls":14},{"$f":"VLOOKUP(T554,$S$2:$U$850,3,0)","v":{"$error":"#N/A"}}]
["","","","읉","","읉","",{"$nulls":14},{"$f":"VLOOKUP(T555,$S$2:$U$850,3,0)","v":{"$error":"#N/A"}}]
["","","","읉","","읉","",{"$nulls":14},{"$f":"VLOOKUP(T556,$S$2:$U$850,3,0)","v":{"$error":"#N/A"}}]
["","","","읉","","읉","",{"$nulls":14},{"$f":"VLOOKUP(T557,$S$2:$U$850,3,0)","v":{"$error":"#N/A"}}]
["","","","읉","","읉","",{"$nulls":14},{"$f":"VLOOKUP(T558,$S$2:$U$850,3,0)","v":{"$error":"#N/A"}}]
["","","","읉","","읉","",{"$nulls":14},{"$f":"VLOOKUP(T559,$S$2:$U$850,3,0)","v":{"$error":"#N/A"}}]
["","","","읉","","읉","",{"$nulls":14},{"$f":"VLOOKUP(T560,$S$2:$U$850,3,0)","v":{"$error":"#N/A"}}]
["","","","읉","","읉","",{"$nulls":14},{"$f":"VLOOKUP(T561,$S$2:$U$850,3,0)","v":{"$error":"#N/A"}}]
["","","","읉","","읉","",{"$nulls":14},{"$f":"VLOOKUP(T562,$S$2:$U$850,3,0)","v":{"$error":"#N/A"}}]
["","","","읉","","읉","",{"$nulls":14},{"$f":"VLOOKUP(T563,$S$2:$U$850,3,0)","v":{"$error":"#N/A"}}]
["","","","읉","","읉","",{"$nulls":14},{"$f":"VLOOKUP(T564,$S$2:$U$850,3,0)","v":{"$error":"#N/A"}}]
["","","","읉","","읉","",{"$nulls":14},{"$f":"VLOOKUP(T565,$S$2:$U$850,3,0)","v":{"$error":"#N/A"}}]
["","","","읉","","읉","",{"$nulls":14},{"$f":"VLOOKUP(T566,$S$2:$U$850,3,0)","v":{"$error":"#N/A"}}]
["","","","읉","","읉","",{"$nulls":14},{"$f":"VLOOKUP(T567,$S$2:$U$850,3,0)","v":{"$error":"#N/A"}}]
["","","","읉","","읉","",{"$nulls":14},{"$f":"VLOOKUP(T568,$S$2:$U$850,3,0)","v":{"$error":"#N/A"}}]
["","","","읉","","읉","",{"$nulls":14},{"$f":"VLOOKUP(T569,$S$2:$U$850,3,0)","v":{"$error":"#N/A"}}]
["","","","읉","","읉","",{"$nulls":14},{"$f":"VLOOKUP(T570,$S$2:$U$850,3,0)","v":{"$error":"#N/A"}}]
["","","","읉","","읉","",{"$nulls":14},{"$f":"VLOOKUP(T571,$S$2:$U$850,3,0)","v":{"$error":"#N/A"}}]
["","","","읉","","읉","",{"$nulls":14},{"$f":"VLOOKUP(T572,$S$2:$U$850,3,0)","v":{"$error":"#N/A"}}]
["","","","읉","","읉","",{"$nulls":14},{"$f":"VLOOKUP(T573,$S$2:$U$850,3,0)","v":{"$error":"#N/A"}}]
["","","","읉","","읉","",{"$nulls":14},{"$f":"VLOOKUP(T574,$S$2:$U$850,3,0)","v":{"$error":"#N/A"}}]
["","","","읉","","읉","",{"$nulls":14},{"$f":"VLOOKUP(T575,$S$2:$U$850,3,0)","v":{"$error":"#N/A"}}]
["","","","읉","","읉","",{"$nulls":14},{"$f":"VLOOKUP(T576,$S$2:$U$850,3,0)","v":{"$error":"#N/A"}}]
["","","","읉","","읉","",{"$nulls":14},{"$f":"VLOOKUP(T577,$S$2:$U$850,3,0)","v":{"$error":"#N/A"}}]
["","","","읉","","읉","",{"$nulls":14},{"$f":"VLOOKUP(T578,$S$2:$U$850,3,0)","v":{"$error":"#N/A"}}]
["","","","읉","","읉","",{"$nulls":14},{"$f":"VLOOKUP(T579,$S$2:$U$850,3,0)","v":{"$error":"#N/A"}}]
["","","","읉","","읉","",{"$nulls":14},{"$f":"VLOOKUP(T580,$S$2:$U$850,3,0)","v":{"$error":"#N/A"}}]
["","","","읉","","읉","",{"$nulls":14},{"$f":"VLOOKUP(T581,$S$2:$U$850,3,0)","v":{"$error":"#N/A"}}]
["","","","읉","","읉","",{"$nulls":14},{"$f":"VLOOKUP(T582,$S$2:$U$850,3,0)","v":{"$error":"#N/A"}}]
["","","","읉","","읉","",{"$nulls":14},{"$f":"VLOOKUP(T583,$S$2:$U$850,3,0)","v":{"$error":"#N/A"}}]
["","","","읉","","읉","",{"$nulls":14},{"$f":"VLOOKUP(T584,$S$2:$U$850,3,0)","v":{"$error":"#N/A"}}]
["","","","읉","","읉","",{"$nulls":14},{"$f":"VLOOKUP(T585,$S$2:$U$850,3,0)","v":{"$error":"#N/A"}}]
["","","","읉","","읉","",{"$nulls":14},{"$f":"VLOOKUP(T586,$S$2:$U$850,3,0)","v":{"$error":"#N/A"}}]
["","","","읉","","읉","",{"$nulls":14},{"$f":"VLOOKUP(T587,$S$2:$U$850,3,0)","v":{"$error":"#N/A"}}]
["","","","읉","","읉","",{"$nulls":14},{"$f":"VLOOKUP(T588,$S$2:$U$850,3,0)","v":{"$error":"#N/A"}}]
["","","","읉","","읉","",{"$nulls":14},{"$f":"VLOOKUP(T589,$S$2:$U$850,3,0)","v":{"$error":"#N/A"}}]
["","","","읉","","읉","",{"$nulls":14},{"$f":"VLOOKUP(T590,$S$2:$U$850,3,0)","v":{"$error":"#N/A"}}]
["","","","읉","","읉","",{"$nulls":14},{"$f":"VLOOKUP(T591,$S$2:$U$850,3,0)","v":{"$error":"#N/A"}}]
["","","","읉","","읉","",{"$nulls":14},{"$f":"VLOOKUP(T592,$S$2:$U$850,3,0)","v":{"$error":"#N/A"}}]
["","","","읉","","읉","",{"$nulls":14},{"$f":"VLOOKUP(T593,$S$2:$U$850,3,0)","v":{"$error":"#N/A"}}]
["","","","읉","","읉","",{"$nulls":14},{"$f":"VLOOKUP(T594,$S$2:$U$850,3,0)","v":{"$error":"#N/A"}}]
["","","","읉","","읉","",{"$nulls":14},{"$f":"VLOOKUP(T595,$S$2:$U$850,3,0)","v":{"$error":"#N/A"}}]
["","","","읉","","읉","",{"$nulls":14},{"$f":"VLOOKUP(T596,$S$2:$U$850,3,0)","v":{"$error":"#N/A"}}]
["","","","읉","","읉","",{"$nulls":14},{"$f":"VLOOKUP(T597,$S$2:$U$850,3,0)","v":{"$error":"#N/A"}}]
["","","","읉","","읉","",{"$nulls":14},{"$f":"VLOOKUP(T598,$S$2:$U$850,3,0)","v":{"$error":"#N/A"}}]
["","","","읉","","읉","",{"$nulls":14},{"$f":"VLOOKUP(T599,$S$2:$U$850,3,0)","v":{"$error":"#N/A"}}]
["","","","읉","","읉","",{"$nulls":14},{"$f":"VLOOKUP(T600,$S$2:$U$850,3,0)","v":{"$error":"#N/A"}}]
["","","","읉","","읉","",{"$nulls":14},{"$f":"VLOOKUP(T601,$S$2:$U$850,3,0)","v":{"$error":"#N/A"}}]
["","","","읉","","읉","",{"$nulls":14},{"$f":"VLOOKUP(T602,$S$2:$U$850,3,0)","v":{"$error":"#N/A"}}]
["","","","읉","","읉","",{"$nulls":14},{"$f":"VLOOKUP(T603,$S$2:$U$850,3,0)","v":{"$error":"#N/A"}}]
["","","","읉","","읉","",{"$nulls":14},{"$f":"VLOOKUP(T604,$S$2:$U$850,3,0)","v":{"$error":"#N/A"}}]
["","","","읉","","읉","",{"$nulls":14},{"$f":"VLOOKUP(T605,$S$2:$U$850,3,0)","v":{"$error":"#N/A"}}]
["","","","읉","","읉","",{"$nulls":14},{"$f":"VLOOKUP(T606,$S$2:$U$850,3,0)","v":{"$error":"#N/A"}}]
["","","","읉","","읉","",{"$nulls":14},{"$f":"VLOOKUP(T607,$S$2:$U$850,3,0)","v":{"$error":"#N/A"}}]
["","","","읉","","읉","",{"$nulls":14},{"$f":"VLOOKUP(T608,$S$2:$U$850,3,0)","v":{"$error":"#N/A"}}]
["","","","읉","","읉","",{"$nulls":14},{"$f":"VLOOKUP(T609,$S$2:$U$850,3,0)","v":{"$error":"#N/A"}}]
["","","","읉","","읉","",{"$nulls":14},{"$f":"VLOOKUP(T610,$S$2:$U$850,3,0)","v":{"$error":"#N/A"}}]
["","","","읉","","읉","",{"$nulls":14},{"$f":"VLOOKUP(T611,$S$2:$U$850,3,0)","v":{"$error":"#N/A"}}]
["","","","읉","","읉","",{"$nulls":14},{"$f":"VLOOKUP(T612,$S$2:$U$850,3,0)","v":{"$error":"#N/A"}}]
["","","","읉","","읉","",{"$nulls":14},{"$f":"VLOOKUP(T613,$S$2:$U$850,3,0)","v":{"$error":"#N/A"}}]
["","","","읉","","읉","",{"$nulls":14},{"$f":"VLOOKUP(T614,$S$2:$U$850,3,0)","v":{"$error":"#N/A"}}]
["","","","읉","","읉","",{"$nulls":14},{"$f":"VLOOKUP(T615,$S$2:$U$850,3,0)","v":{"$error":"#N/A"}}]
["","","","읉","","읉","",{"$nulls":14},{"$f":"VLOOKUP(T616,$S$2:$U$850,3,0)","v":{"$error":"#N/A"}}]
["","","","읉","","읉","",{"$nulls":14},{"$f":"VLOOKUP(T617,$S$2:$U$850,3,0)","v":{"$error":"#N/A"}}]
["","","","읉","","읉","",{"$nulls":14},{"$f":"VLOOKUP(T618,$S$2:$U$850,3,0)","v":{"$error":"#N/A"}}]
["","","","읉","","읉","",{"$nulls":14},{"$f":"VLOOKUP(T619,$S$2:$U$850,3,0)","v":{"$error":"#N/A"}}]
["","","","읉","","읉","",{"$nulls":14},{"$f":"VLOOKUP(T620,$S$2:$U$850,3,0)","v":{"$error":"#N/A"}}]
["","","","읉","","읉","",{"$nulls":14},{"$f":"VLOOKUP(T621,$S$2:$U$850,3,0)","v":{"$error":"#N/A"}}]
["","","","읉","","읉","",{"$nulls":14},{"$f":"VLOOKUP(T622,$S$2:$U$850,3,0)","v":{"$error":"#N/A"}}]
["","","","읉","","읉","",{"$nulls":14},{"$f":"VLOOKUP(T623,$S$2:$U$850,3,0)","v":{"$error":"#N/A"}}]
["","","","읉","","읉","",{"$nulls":14},{"$f":"VLOOKUP(T624,$S$2:$U$850,3,0)","v":{"$error":"#N/A"}}]
["","","","읉","","읉","",{"$nulls":14},{"$f":"VLOOKUP(T625,$S$2:$U$850,3,0)","v":{"$error":"#N/A"}}]
["","","","읉","","읉","",{"$nulls":14},{"$f":"VLOOKUP(T626,$S$2:$U$850,3,0)","v":{"$error":"#N/A"}}]
["","","","읉","","읉","",{"$nulls":14},{"$f":"VLOOKUP(T627,$S$2:$U$850,3,0)","v":{"$error":"#N/A"}}]
["","","","읉","","읉","",{"$nulls":14},{"$f":"VLOOKUP(T628,$S$2:$U$850,3,0)","v":{"$error":"#N/A"}}]
["","","","읉","","읉","",{"$nulls":14},{"$f":"VLOOKUP(T629,$S$2:$U$850,3,0)","v":{"$error":"#N/A"}}]
["","","","읉","","읉","",{"$nulls":14},{"$f":"VLOOKUP(T630,$S$2:$U$850,3,0)","v":{"$error":"#N/A"}}]
["","","","읉","","읉","",{"$nulls":14},{"$f":"VLOOKUP(T631,$S$2:$U$850,3,0)","v":{"$error":"#N/A"}}]
["","","","읉","","읉","",{"$nulls":14},{"$f":"VLOOKUP(T632,$S$2:$U$850,3,0)","v":{"$error":"#N/A"}}]
["","","","읉","","읉","",{"$nulls":14},{"$f":"VLOOKUP(T633,$S$2:$U$850,3,0)","v":{"$error":"#N/A"}}]
["","","","읉","","읉","",{"$nulls":14},{"$f":"VLOOKUP(T634,$S$2:$U$850,3,0)","v":{"$error":"#N/A"}}]
["","","","읉","","읉","",{"$nulls":14},{"$f":"VLOOKUP(T635,$S$2:$U$850,3,0)","v":{"$error":"#N/A"}}]
["","","","읉","","읉","",{"$nulls":14},{"$f":"VLOOKUP(T636,$S$2:$U$850,3,0)","v":{"$error":"#N/A"}}]
["","","","읉","","읉","",{"$nulls":14},{"$f":"VLOOKUP(T637,$S$2:$U$850,3,0)","v":{"$error":"#N/A"}}]
["","","","읉","","읉","",{"$nulls":14},{"$f":"VLOOKUP(T638,$S$2:$U$850,3,0)","v":{"$error":"#N/A"}}]
["","","","읉","","읉","",{"$nulls":14},{"$f":"VLOOKUP(T639,$S$2:$U$850,3,0)","v":{"$error":"#N/A"}}]
["","","","읉","","읉","",{"$nulls":14},{"$f":"VLOOKUP(T640,$S$2:$U$850,3,0)","v":{"$error":"#N/A"}}]
["","","","읉","","읉","",{"$nulls":14},{"$f":"VLOOKUP(T641,$S$2:$U$850,3,0)","v":{"$error":"#N/A"}}]
["","","","읉","","읉","",{"$nulls":14},{"$f":"VLOOKUP(T642,$S$2:$U$850,3,0)","v":{"$error":"#N/A"}}]
["","","","읉","","읉","",{"$nulls":14},{"$f":"VLOOKUP(T643,$S$2:$U$850,3,0)","v":{"$error":"#N/A"}}]
["","","","읉","","읉","",{"$nulls":14},{"$f":"VLOOKUP(T644,$S$2:$U$850,3,0)","v":{"$error":"#N/A"}}]
["","","","읉","","읉","",{"$nulls":14},{"$f":"VLOOKUP(T645,$S$2:$U$850,3,0)","v":{"$error":"#N/A"}}]
["","","","읉","","읉","",{"$nulls":14},{"$f":"VLOOKUP(T646,$S$2:$U$850,3,0)","v":{"$error":"#N/A"}}]
["","","","읉","","읉","",{"$nulls":14},{"$f":"VLOOKUP(T647,$S$2:$U$850,3,0)","v":{"$error":"#N/A"}}]
["","","","읉","","읉","",{"$nulls":14},{"$f":"VLOOKUP(T648,$S$2:$U$850,3,0)","v":{"$error":"#N/A"}}]
["","","","읉","","읉","",{"$nulls":14},{"$f":"VLOOKUP(T649,$S$2:$U$850,3,0)","v":{"$error":"#N/A"}}]
["","","","읉","","읉","",{"$nulls":14},{"$f":"VLOOKUP(T650,$S$2:$U$850,3,0)","v":{"$error":"#N/A"}}]
["","","","읉","","읉","",{"$nulls":14},{"$f":"VLOOKUP(T651,$S$2:$U$850,3,0)","v":{"$error":"#N/A"}}]
["","","","읉","","읉","",{"$nulls":14},{"$f":"VLOOKUP(T652,$S$2:$U$850,3,0)","v":{"$error":"#N/A"}}]
["","","","읉","","읉","",{"$nulls":14},{"$f":"VLOOKUP(T653,$S$2:$U$850,3,0)","v":{"$error":"#N/A"}}]
["","","","읉","","읉","",{"$nulls":14},{"$f":"VLOOKUP(T654,$S$2:$U$850,3,0)","v":{"$error":"#N/A"}}]
["","","","읉","","읉","",{"$nulls":14},{"$f":"VLOOKUP(T655,$S$2:$U$850,3,0)","v":{"$error":"#N/A"}}]
["","","","읉","","읉","",{"$nulls":14},{"$f":"VLOOKUP(T656,$S$2:$U$850,3,0)","v":{"$error":"#N/A"}}]
["","","","읉","","읉","",{"$nulls":14},{"$f":"VLOOKUP(T657,$S$2:$U$850,3,0)","v":{"$error":"#N/A"}}]
["","","","읉","","읉","",{"$nulls":14},{"$f":"VLOOKUP(T658,$S$2:$U$850,3,0)","v":{"$error":"#N/A"}}]
["","","","읉","","읉","",{"$nulls":14},{"$f":"VLOOKUP(T659,$S$2:$U$850,3,0)","v":{"$error":"#N/A"}}]
["","","","읉","","읉","",{"$nulls":14},{"$f":"VLOOKUP(T660,$S$2:$U$850,3,0)","v":{"$error":"#N/A"}}]
["","","","읉","","읉","",{"$nulls":14},{"$f":"VLOOKUP(T661,$S$2:$U$850,3,0)","v":{"$error":"#N/A"}}]
["","","","읉","","읉","",{"$nulls":14},{"$f":"VLOOKUP(T662,$S$2:$U$850,3,0)","v":{"$error":"#N/A"}}]
["","","","읉","","읉","",{"$nulls":14},{"$f":"VLOOKUP(T663,$S$2:$U$850,3,0)","v":{"$error":"#N/A"}}]
["","","","읉","","읉","",{"$nulls":14},{"$f":"VLOOKUP(T664,$S$2:$U$850,3,0)","v":{"$error":"#N/A"}}]
["","","","읉","","읉","",{"$nulls":14},{"$f":"VLOOKUP(T665,$S$2:$U$850,3,0)","v":{"$error":"#N/A"}}]
["","","","읉","","읉","",{"$nulls":14},{"$f":"VLOOKUP(T666,$S$2:$U$850,3,0)","v":{"$error":"#N/A"}}]
["","","","읉","","읉","",{"$nulls":14},{"$f":"VLOOKUP(T667,$S$2:$U$850,3,0)","v":{"$error":"#N/A"}}]
["","","","읉","","읉","",{"$nulls":14},{"$f":"VLOOKUP(T668,$S$2:$U$850,3,0)","v":{"$error":"#N/A"}}]
["","","","읉","","읉","",{"$nulls":14},{"$f":"VLOOKUP(T669,$S$2:$U$850,3,0)","v":{"$error":"#N/A"}}]
["","","","읉","","읉","",{"$nulls":14},{"$f":"VLOOKUP(T670,$S$2:$U$850,3,0)","v":{"$error":"#N/A"}}]
["","","","읉","","읉","",{"$nulls":14},{"$f":"VLOOKUP(T671,$S$2:$U$850,3,0)","v":{"$error":"#N/A"}}]
["","","","읉","","읉","",{"$nulls":14},{"$f":"VLOOKUP(T672,$S$2:$U$850,3,0)","v":{"$error":"#N/A"}}]
["","","","읉","","읉","",{"$nulls":14},{"$f":"VLOOKUP(T673,$S$2:$U$850,3,0)","v":{"$error":"#N/A"}}]
["","","","읉","","읉","",{"$nulls":14},{"$f":"VLOOKUP(T674,$S$2:$U$850,3,0)","v":{"$error":"#N/A"}}]
["","","","읉","","읉","",{"$nulls":14},{"$f":"VLOOKUP(T675,$S$2:$U$850,3,0)","v":{"$error":"#N/A"}}]
["","","","읉","","읉","",{"$nulls":14},{"$f":"VLOOKUP(T676,$S$2:$U$850,3,0)","v":{"$error":"#N/A"}}]
["","","","읉","","읉","",{"$nulls":14},{"$f":"VLOOKUP(T677,$S$2:$U$850,3,0)","v":{"$error":"#N/A"}}]
["","","","읉","","읉","",{"$nulls":14},{"$f":"VLOOKUP(T678,$S$2:$U$850,3,0)","v":{"$error":"#N/A"}}]
["","","","읉","","읉","",{"$nulls":14},{"$f":"VLOOKUP(T679,$S$2:$U$850,3,0)","v":{"$error":"#N/A"}}]
["","","","읉","","읉","",{"$nulls":14},{"$f":"VLOOKUP(T680,$S$2:$U$850,3,0)","v":{"$error":"#N/A"}}]
["","","","읉","","읉","",{"$nulls":14},{"$f":"VLOOKUP(T681,$S$2:$U$850,3,0)","v":{"$error":"#N/A"}}]
["","","","읉","","읉","",{"$nulls":14},{"$f":"VLOOKUP(T682,$S$2:$U$850,3,0)","v":{"$error":"#N/A"}}]
["","","","읉","","읉","",{"$nulls":14},{"$f":"VLOOKUP(T683,$S$2:$U$850,3,0)","v":{"$error":"#N/A"}}]
["","","","읉","","읉","",{"$nulls":14},{"$f":"VLOOKUP(T684,$S$2:$U$850,3,0)","v":{"$error":"#N/A"}}]
["","","","읉","","읉","",{"$nulls":14},{"$f":"VLOOKUP(T685,$S$2:$U$850,3,0)","v":{"$error":"#N/A"}}]
["","","","읉","","읉","",{"$nulls":14},{"$f":"VLOOKUP(T686,$S$2:$U$850,3,0)","v":{"$error":"#N/A"}}]
["","","","읉","","읉","",{"$nulls":14},{"$f":"VLOOKUP(T687,$S$2:$U$850,3,0)","v":{"$error":"#N/A"}}]
["","","","읉","","읉","",{"$nulls":14},{"$f":"VLOOKUP(T688,$S$2:$U$850,3,0)","v":{"$error":"#N/A"}}]
["","","","읉","","읉","",{"$nulls":14},{"$f":"VLOOKUP(T689,$S$2:$U$850,3,0)","v":{"$error":"#N/A"}}]
["","","","읉","","읉","",{"$nulls":14},{"$f":"VLOOKUP(T690,$S$2:$U$850,3,0)","v":{"$error":"#N/A"}}]
["","","","읉","","읉","",{"$nulls":14},{"$f":"VLOOKUP(T691,$S$2:$U$850,3,0)","v":{"$error":"#N/A"}}]
["","","","읉","","읉","",{"$nulls":14},{"$f":"VLOOKUP(T692,$S$2:$U$850,3,0)","v":{"$error":"#N/A"}}]
["","","","읉","","읉","",{"$nulls":14},{"$f":"VLOOKUP(T693,$S$2:$U$850,3,0)","v":{"$error":"#N/A"}}]
["","","","읉","","읉","",{"$nulls":14},{"$f":"VLOOKUP(T694,$S$2:$U$850,3,0)","v":{"$error":"#N/A"}}]
["","","","읉","","읉","",{"$nulls":14},{"$f":"VLOOKUP(T695,$S$2:$U$850,3,0)","v":{"$error":"#N/A"}}]
["","","","읉","","읉","",{"$nulls":14},{"$f":"VLOOKUP(T696,$S$2:$U$850,3,0)","v":{"$error":"#N/A"}}]
["","","","읉","","읉","",{"$nulls":14},{"$f":"VLOOKUP(T697,$S$2:$U$850,3,0)","v":{"$error":"#N/A"}}]
["","","","읉","","읉","",{"$nulls":14},{"$f":"VLOOKUP(T698,$S$2:$U$850,3,0)","v":{"$error":"#N/A"}}]
["","","","읉","","읉","",{"$nulls":14},{"$f":"VLOOKUP(T699,$S$2:$U$850,3,0)","v":{"$error":"#N/A"}}]
["","","","읉","","읉","",{"$nulls":14},{"$f":"VLOOKUP(T700,$S$2:$U$850,3,0)","v":{"$error":"#N/A"}}]
["","","","읉","","읉","",{"$nulls":14},{"$f":"VLOOKUP(T701,$S$2:$U$850,3,0)","v":{"$error":"#N/A"}}]
["","","","읉","","읉","",{"$nulls":14},{"$f":"VLOOKUP(T702,$S$2:$U$850,3,0)","v":{"$error":"#N/A"}}]
["","","","읉","","읉","",{"$nulls":14},{"$f":"VLOOKUP(T703,$S$2:$U$850,3,0)","v":{"$error":"#N/A"}}]
["","","","읉","","읉","",{"$nulls":14},{"$f":"VLOOKUP(T704,$S$2:$U$850,3,0)","v":{"$error":"#N/A"}}]
["","","","읉","","읉","",{"$nulls":14},{"$f":"VLOOKUP(T705,$S$2:$U$850,3,0)","v":{"$error":"#N/A"}}]
["","","","읉","","읉","",{"$nulls":14},{"$f":"VLOOKUP(T706,$S$2:$U$850,3,0)","v":{"$error":"#N/A"}}]
["","","","읉","","읉","",{"$nulls":14},{"$f":"VLOOKUP(T707,$S$2:$U$850,3,0)","v":{"$error":"#N/A"}}]
["","","","읉","","읉","",{"$nulls":14},{"$f":"VLOOKUP(T708,$S$2:$U$850,3,0)","v":{"$error":"#N/A"}}]
["","","","읉","","읉","",{"$nulls":14},{"$f":"VLOOKUP(T709,$S$2:$U$850,3,0)","v":{"$error":"#N/A"}}]
["","","","읉","","읉","",{"$nulls":14},{"$f":"VLOOKUP(T710,$S$2:$U$850,3,0)","v":{"$error":"#N/A"}}]
["","","","읉","","읉","",{"$nulls":14},{"$f":"VLOOKUP(T711,$S$2:$U$850,3,0)","v":{"$error":"#N/A"}}]
["","","","읉","","읉","",{"$nulls":14},{"$f":"VLOOKUP(T712,$S$2:$U$850,3,0)","v":{"$error":"#N/A"}}]
["","","","읉","","읉","",{"$nulls":14},{"$f":"VLOOKUP(T713,$S$2:$U$850,3,0)","v":{"$error":"#N/A"}}]
["","","","읉","","읉","",{"$nulls":14},{"$f":"VLOOKUP(T714,$S$2:$U$850,3,0)","v":{"$error":"#N/A"}}]
["","","","읉","","읉","",{"$nulls":14},{"$f":"VLOOKUP(T715,$S$2:$U$850,3,0)","v":{"$error":"#N/A"}}]
["","","","읉","","읉","",{"$nulls":14},{"$f":"VLOOKUP(T716,$S$2:$U$850,3,0)","v":{"$error":"#N/A"}}]
["","","","읉","","읉","",{"$nulls":14},{"$f":"VLOOKUP(T717,$S$2:$U$850,3,0)","v":{"$error":"#N/A"}}]
["","","","읉","","읉","",{"$nulls":14},{"$f":"VLOOKUP(T718,$S$2:$U$850,3,0)","v":{"$error":"#N/A"}}]
["","","","읉","","읉","",{"$nulls":14},{"$f":"VLOOKUP(T719,$S$2:$U$850,3,0)","v":{"$error":"#N/A"}}]
["","","","읉","","읉","",{"$nulls":14},{"$f":"VLOOKUP(T720,$S$2:$U$850,3,0)","v":{"$error":"#N/A"}}]
["","","","읉","","읉","",{"$nulls":14},{"$f":"VLOOKUP(T721,$S$2:$U$850,3,0)","v":{"$error":"#N/A"}}]
["","","","읉","","읉","",{"$nulls":14},{"$f":"VLOOKUP(T722,$S$2:$U$850,3,0)","v":{"$error":"#N/A"}}]
["","","","읉","","읉","",{"$nulls":14},{"$f":"VLOOKUP(T723,$S$2:$U$850,3,0)","v":{"$error":"#N/A"}}]
["","","","읉","","읉","",{"$nulls":14},{"$f":"VLOOKUP(T724,$S$2:$U$850,3,0)","v":{"$error":"#N/A"}}]
["","","","읉","","읉","",{"$nulls":14},{"$f":"VLOOKUP(T725,$S$2:$U$850,3,0)","v":{"$error":"#N/A"}}]
["","","","읉","","읉","",{"$nulls":14},{"$f":"VLOOKUP(T726,$S$2:$U$850,3,0)","v":{"$error":"#N/A"}}]
["","","","읉","","읉","",{"$nulls":14},{"$f":"VLOOKUP(T727,$S$2:$U$850,3,0)","v":{"$error":"#N/A"}}]
["","","","읉","","읉","",{"$nulls":14},{"$f":"VLOOKUP(T728,$S$2:$U$850,3,0)","v":{"$error":"#N/A"}}]
["","","","읉","","읉","",{"$nulls":14},{"$f":"VLOOKUP(T729,$S$2:$U$850,3,0)","v":{"$error":"#N/A"}}]
["","","","읉","","읉","",{"$nulls":14},{"$f":"VLOOKUP(T730,$S$2:$U$850,3,0)","v":{"$error":"#N/A"}}]
["","","","읉","","읉","",{"$nulls":14},{"$f":"VLOOKUP(T731,$S$2:$U$850,3,0)","v":{"$error":"#N/A"}}]
["","","","읉","","읉","",{"$nulls":14},{"$f":"VLOOKUP(T732,$S$2:$U$850,3,0)","v":{"$error":"#N/A"}}]
["","","","읉","","읉","",{"$nulls":14},{"$f":"VLOOKUP(T733,$S$2:$U$850,3,0)","v":{"$error":"#N/A"}}]
["","","","읉","","읉","",{"$nulls":14},{"$f":"VLOOKUP(T734,$S$2:$U$850,3,0)","v":{"$error":"#N/A"}}]
["","","","읉","","읉","",{"$nulls":14},{"$f":"VLOOKUP(T735,$S$2:$U$850,3,0)","v":{"$error":"#N/A"}}]
["","","","읉","","읉","",{"$nulls":14},{"$f":"VLOOKUP(T736,$S$2:$U$850,3,0)","v":{"$error":"#N/A"}}]
["","","","읉","","읉","",{"$nulls":14},{"$f":"VLOOKUP(T737,$S$2:$U$850,3,0)","v":{"$error":"#N/A"}}]
["","","","읉","","읉","",{"$nulls":14},{"$f":"VLOOKUP(T738,$S$2:$U$850,3,0)","v":{"$error":"#N/A"}}]
["","","","읉","","읉","",{"$nulls":14},{"$f":"VLOOKUP(T739,$S$2:$U$850,3,0)","v":{"$error":"#N/A"}}]
["","","","읉","","읉","",{"$nulls":14},{"$f":"VLOOKUP(T740,$S$2:$U$850,3,0)","v":{"$error":"#N/A"}}]
["","","","읉","","읉","",{"$nulls":14},{"$f":"VLOOKUP(T741,$S$2:$U$850,3,0)","v":{"$error":"#N/A"}}]
["","","","읉","","읉","",{"$nulls":14},{"$f":"VLOOKUP(T742,$S$2:$U$850,3,0)","v":{"$error":"#N/A"}}]
["","","","읉","","읉","",{"$nulls":14},{"$f":"VLOOKUP(T743,$S$2:$U$850,3,0)","v":{"$error":"#N/A"}}]
["","","","읉","","읉","",{"$nulls":14},{"$f":"VLOOKUP(T744,$S$2:$U$850,3,0)","v":{"$error":"#N/A"}}]
[{"$nulls":21},{"$f":"VLOOKUP(T745,$S$2:$U$850,3,0)","v":{"$error":"#N/A"}}]
[{"$nulls":21},{"$f":"VLOOKUP(T746,$S$2:$U$850,3,0)","v":{"$error":"#N/A"}}]
[{"$nulls":21},{"$f":"VLOOKUP(T747,$S$2:$U$850,3,0)","v":{"$error":"#N/A"}}]
[{"$nulls":21},{"$f":"VLOOKUP(T748,$S$2:$U$850,3,0)","v":{"$error":"#N/A"}}]
[{"$nulls":21},{"$f":"VLOOKUP(T749,$S$2:$U$850,3,0)","v":{"$error":"#N/A"}}]
[{"$nulls":21},{"$f":"VLOOKUP(T750,$S$2:$U$850,3,0)","v":{"$error":"#N/A"}}]
[{"$nulls":21},{"$f":"VLOOKUP(T751,$S$2:$U$850,3,0)","v":{"$error":"#N/A"}}]
[{"$nulls":21},{"$f":"VLOOKUP(T752,$S$2:$U$850,3,0)","v":{"$error":"#N/A"}}]
[{"$nulls":21},{"$f":"VLOOKUP(T753,$S$2:$U$850,3,0)","v":{"$error":"#N/A"}}]
[{"$nulls":21},{"$f":"VLOOKUP(T754,$S$2:$U$850,3,0)","v":{"$error":"#N/A"}}]
[{"$nulls":21},{"$f":"VLOOKUP(T755,$S$2:$U$850,3,0)","v":{"$error":"#N/A"}}]
[{"$nulls":21},{"$f":"VLOOKUP(T756,$S$2:$U$850,3,0)","v":{"$error":"#N/A"}}]
[{"$nulls":21},{"$f":"VLOOKUP(T757,$S$2:$U$850,3,0)","v":{"$error":"#N/A"}}]
[{"$nulls":21},{"$f":"VLOOKUP(T758,$S$2:$U$850,3,0)","v":{"$error":"#N/A"}}]
[{"$nulls":21},{"$f":"VLOOKUP(T759,$S$2:$U$850,3,0)","v":{"$error":"#N/A"}}]
[{"$nulls":21},{"$f":"VLOOKUP(T760,$S$2:$U$850,3,0)","v":{"$error":"#N/A"}}]
[{"$nulls":21},{"$f":"VLOOKUP(T761,$S$2:$U$850,3,0)","v":{"$error":"#N/A"}}]
[{"$nulls":21},{"$f":"VLOOKUP(T762,$S$2:$U$850,3,0)","v":{"$error":"#N/A"}}]
[{"$nulls":21},{"$f":"VLOOKUP(T763,$S$2:$U$850,3,0)","v":{"$error":"#N/A"}}]
[{"$nulls":21},{"$f":"VLOOKUP(T764,$S$2:$U$850,3,0)","v":{"$error":"#N/A"}}]
[{"$nulls":21},{"$f":"VLOOKUP(T765,$S$2:$U$850,3,0)","v":{"$error":"#N/A"}}]
[{"$nulls":21},{"$f":"VLOOKUP(T766,$S$2:$U$850,3,0)","v":{"$error":"#N/A"}}]
[{"$nulls":21},{"$f":"VLOOKUP(T767,$S$2:$U$850,3,0)","v":{"$error":"#N/A"}}]
[{"$nulls":21},{"$f":"VLOOKUP(T768,$S$2:$U$850,3,0)","v":{"$error":"#N/A"}}]
[{"$nulls":21},{"$f":"VLOOKUP(T769,$S$2:$U$850,3,0)","v":{"$error":"#N/A"}}]
[{"$nulls":21},{"$f":"VLOOKUP(T770,$S$2:$U$850,3,0)","v":{"$error":"#N/A"}}]
[{"$nulls":21},{"$f":"VLOOKUP(T771,$S$2:$U$850,3,0)","v":{"$error":"#N/A"}}]
[{"$nulls":21},{"$f":"VLOOKUP(T772,$S$2:$U$850,3,0)","v":{"$error":"#N/A"}}]
[{"$nulls":21},{"$f":"VLOOKUP(T773,$S$2:$U$850,3,0)","v":{"$error":"#N/A"}}]
[{"$nulls":21},{"$f":"VLOOKUP(T774,$S$2:$U$850,3,0)","v":{"$error":"#N/A"}}]
[{"$nulls":21},{"$f":"VLOOKUP(T775,$S$2:$U$850,3,0)","v":{"$error":"#N/A"}}]
[{"$nulls":21},{"$f":"VLOOKUP(T776,$S$2:$U$850,3,0)","v":{"$error":"#N/A"}}]
[{"$nulls":21},{"$f":"VLOOKUP(T777,$S$2:$U$850,3,0)","v":{"$error":"#N/A"}}]
[{"$nulls":21},{"$f":"VLOOKUP(T778,$S$2:$U$850,3,0)","v":{"$error":"#N/A"}}]
[{"$nulls":21},{"$f":"VLOOKUP(T779,$S$2:$U$850,3,0)","v":{"$error":"#N/A"}}]
[{"$nulls":21},{"$f":"VLOOKUP(T780,$S$2:$U$850,3,0)","v":{"$error":"#N/A"}}]
[{"$nulls":21},{"$f":"VLOOKUP(T781,$S$2:$U$850,3,0)","v":{"$error":"#N/A"}}]
[{"$nulls":21},{"$f":"VLOOKUP(T782,$S$2:$U$850,3,0)","v":{"$error":"#N/A"}}]
[{"$nulls":21},{"$f":"VLOOKUP(T783,$S$2:$U$850,3,0)","v":{"$error":"#N/A"}}]
[{"$nulls":21},{"$f":"VLOOKUP(T784,$S$2:$U$850,3,0)","v":{"$error":"#N/A"}}]
[{"$nulls":21},{"$f":"VLOOKUP(T785,$S$2:$U$850,3,0)","v":{"$error":"#N/A"}}]
[{"$nulls":21},{"$f":"VLOOKUP(T786,$S$2:$U$850,3,0)","v":{"$error":"#N/A"}}]
[{"$nulls":21},{"$f":"VLOOKUP(T787,$S$2:$U$850,3,0)","v":{"$error":"#N/A"}}]
[{"$nulls":21},{"$f":"VLOOKUP(T788,$S$2:$U$850,3,0)","v":{"$error":"#N/A"}}]
[{"$nulls":21},{"$f":"VLOOKUP(T789,$S$2:$U$850,3,0)","v":{"$error":"#N/A"}}]
[{"$nulls":21},{"$f":"VLOOKUP(T790,$S$2:$U$850,3,0)","v":{"$error":"#N/A"}}]
[{"$nulls":21},{"$f":"VLOOKUP(T791,$S$2:$U$850,3,0)","v":{"$error":"#N/A"}}]
[{"$nulls":21},{"$f":"VLOOKUP(T792,$S$2:$U$850,3,0)","v":{"$error":"#N/A"}}]
[{"$nulls":21},{"$f":"VLOOKUP(T793,$S$2:$U$850,3,0)","v":{"$error":"#N/A"}}]
[{"$nulls":21},{"$f":"VLOOKUP(T794,$S$2:$U$850,3,0)","v":{"$error":"#N/A"}}]
[{"$nulls":21},{"$f":"VLOOKUP(T795,$S$2:$U$850,3,0)","v":{"$error":"#N/A"}}]
[{"$nulls":21},{"$f":"VLOOKUP(T796,$S$2:$U$850,3,0)","v":{"$error":"#N/A"}}]
[{"$nulls":21},{"$f":"VLOOKUP(T797,$S$2:$U$850,3,0)","v":{"$error":"#N/A"}}]
[{"$nulls":21},{"$f":"VLOOKUP(T798,$S$2:$U$850,3,0)","v":{"$error":"#N/A"}}]
[{"$nulls":21},{"$f":"VLOOKUP(T799,$S$2:$U$850,3,0)","v":{"$error":"#N/A"}}]
[{"$nulls":21},{"$f":"VLOOKUP(T800,$S$2:$U$850,3,0)","v":{"$error":"#N/A"}}]
[{"$nulls":21},{"$f":"VLOOKUP(T801,$S$2:$U$850,3,0)","v":{"$error":"#N/A"}}]
[{"$nulls":21},{"$f":"VLOOKUP(T802,$S$2:$U$850,3,0)","v":{"$error":"#N/A"}}]
[{"$nulls":21},{"$f":"VLOOKUP(T803,$S$2:$U$850,3,0)","v":{"$error":"#N/A"}}]
[{"$nulls":21},{"$f":"VLOOKUP(T804,$S$2:$U$850,3,0)","v":{"$error":"#N/A"}}]
[{"$nulls":21},{"$f":"VLOOKUP(T805,$S$2:$U$850,3,0)","v":{"$error":"#N/A"}}]
[{"$nulls":21},{"$f":"VLOOKUP(T806,$S$2:$U$850,3,0)","v":{"$error":"#N/A"}}]
[{"$nulls":21},{"$f":"VLOOKUP(T807,$S$2:$U$850,3,0)","v":{"$error":"#N/A"}}]
[{"$nulls":21},{"$f":"VLOOKUP(T808,$S$2:$U$850,3,0)","v":{"$error":"#N/A"}}]
[{"$nulls":21},{"$f":"VLOOKUP(T809,$S$2:$U$850,3,0)","v":{"$error":"#N/A"}}]
[{"$nulls":21},{"$f":"VLOOKUP(T810,$S$2:$U$850,3,0)","v":{"$error":"#N/A"}}]
[{"$nulls":21},{"$f":"VLOOKUP(T811,$S$2:$U$850,3,0)","v":{"$error":"#N/A"}}]
[{"$nulls":21},{"$f":"VLOOKUP(T812,$S$2:$U$850,3,0)","v":{"$error":"#N/A"}}]
[{"$nulls":21},{"$f":"VLOOKUP(T813,$S$2:$U$850,3,0)","v":{"$error":"#N/A"}}]
[{"$nulls":21},{"$f":"VLOOKUP(T814,$S$2:$U$850,3,0)","v":{"$error":"#N/A"}}]
[{"$nulls":21},{"$f":"VLOOKUP(T815,$S$2:$U$850,3,0)","v":{"$error":"#N/A"}}]
[{"$nulls":21},{"$f":"VLOOKUP(T816,$S$2:$U$850,3,0)","v":{"$error":"#N/A"}}]
[{"$nulls":21},{"$f":"VLOOKUP(T817,$S$2:$U$850,3,0)","v":{"$error":"#N/A"}}]
[{"$nulls":21},{"$f":"VLOOKUP(T818,$S$2:$U$850,3,0)","v":{"$error":"#N/A"}}]
[{"$nulls":21},{"$f":"VLOOKUP(T819,$S$2:$U$850,3,0)","v":{"$error":"#N/A"}}]
[{"$nulls":21},{"$f":"VLOOKUP(T820,$S$2:$U$850,3,0)","v":{"$error":"#N/A"}}]
[{"$nulls":21},{"$f":"VLOOKUP(T821,$S$2:$U$850,3,0)","v":{"$error":"#N/A"}}]
[{"$nulls":21},{"$f":"VLOOKUP(T822,$S$2:$U$850,3,0)","v":{"$error":"#N/A"}}]
[{"$nulls":21},{"$f":"VLOOKUP(T823,$S$2:$U$850,3,0)","v":{"$error":"#N/A"}}]
[{"$nulls":21},{"$f":"VLOOKUP(T824,$S$2:$U$850,3,0)","v":{"$error":"#N/A"}}]
[{"$nulls":21},{"$f":"VLOOKUP(T825,$S$2:$U$850,3,0)","v":{"$error":"#N/A"}}]
[{"$nulls":21},{"$f":"VLOOKUP(T826,$S$2:$U$850,3,0)","v":{"$error":"#N/A"}}]
[{"$nulls":21},{"$f":"VLOOKUP(T827,$S$2:$U$850,3,0)","v":{"$error":"#N/A"}}]
[{"$nulls":21},{"$f":"VLOOKUP(T828,$S$2:$U$850,3,0)","v":{"$error":"#N/A"}}]
[{"$nulls":21},{"$f":"VLOOKUP(T829,$S$2:$U$850,3,0)","v":{"$error":"#N/A"}}]
[{"$nulls":21},{"$f":"VLOOKUP(T830,$S$2:$U$850,3,0)","v":{"$error":"#N/A"}}]
[{"$nulls":21},{"$f":"VLOOKUP(T831,$S$2:$U$850,3,0)","v":{"$error":"#N/A"}}]
[{"$nulls":21},{"$f":"VLOOKUP(T832,$S$2:$U$850,3,0)","v":{"$error":"#N/A"}}]
[{"$nulls":21},{"$f":"VLOOKUP(T833,$S$2:$U$850,3,0)","v":{"$error":"#N/A"}}]
[{"$nulls":21},{"$f":"VLOOKUP(T834,$S$2:$U$850,3,0)","v":{"$error":"#N/A"}}]
[{"$nulls":21},{"$f":"VLOOKUP(T835,$S$2:$U$850,3,0)","v":{"$error":"#N/A"}}]
[{"$nulls":21},{"$f":"VLOOKUP(T836,$S$2:$U$850,3,0)","v":{"$error":"#N/A"}}]
[{"$nulls":21},{"$f":"VLOOKUP(T837,$S$2:$U$850,3,0)","v":{"$error":"#N/A"}}]
[{"$nulls":21},{"$f":"VLOOKUP(T838,$S$2:$U$850,3,0)","v":{"$error":"#N/A"}}]
[{"$nulls":21},{"$f":"VLOOKUP(T839,$S$2:$U$850,3,0)","v":{"$error":"#N/A"}}]
[{"$nulls":21},{"$f":"VLOOKUP(T840,$S$2:$U$850,3,0)","v":{"$error":"#N/A"}}]
[{"$nulls":21},{"$f":"VLOOKUP(T841,$S$2:$U$850,3,0)","v":{"$error":"#N/A"}}]
[{"$nulls":21},{"$f":"VLOOKUP(T842,$S$2:$U$850,3,0)","v":{"$error":"#N/A"}}]
[{"$nulls":21},{"$f":"VLOOKUP(T843,$S$2:$U$850,3,0)","v":{"$error":"#N/A"}}]
[{"$nulls":21},{"$f":"VLOOKUP(T844,$S$2:$U$850,3,0)","v":{"$error":"#N/A"}}]
[{"$nulls":21},{"$f":"VLOOKUP(T845,$S$2:$U$850,3,0)","v":{"$error":"#N/A"}}]
[{"$nulls":21},{"$f":"VLOOKUP(T846,$S$2:$U$850,3,0)","v":{"$error":"#N/A"}}]
[{"$nulls":21},{"$f":"VLOOKUP(T847,$S$2:$U$850,3,0)","v":{"$error":"#N/A"}}]
[{"$nulls":21},{"$f":"VLOOKUP(T848,$S$2:$U$850,3,0)","v":{"$error":"#N/A"}}]
[{"$nulls":21},{"$f":"VLOOKUP(T849,$S$2:$U$850,3,0)","v":{"$error":"#N/A"}}]
[{"$nulls":21},{"$f":"VLOOKUP(T850,$S$2:$U$850,3,0)","v":{"$error":"#N/A"}}]

{"sheet":"یادداشت‌ها","index":4,"n_rows":1,"n_cols":7,"rows_kept":1}
["نسخه ۲.۹",{"$nulls":5},"یادداشت‌ها"]