{"text_format":"3","workbook":"xlsx","n_sheets":5,"sheets":["Бюджет","Запишите расходы","Круговая диаграмма","Сгруппированные расходы","Примечания"],"not_rendered":{"charts":2,"defined_names":1,"comments":1},"read":"whole","date_system":"1900"}

{"sheet":"Бюджет","index":0,"n_rows":55,"n_cols":7,"rows_kept":55,"merged":[[1,4,1,5]]}
[]
[{"$nulls":3},"Месячный бюджет на ","месяц год"]
[]
[]
[{"$nulls":3},"Доступные средства"]
[{"$nulls":3},"Описание",{"v":125,"d":"125.00"},null,"Заполните жёлтые поля."]
[{"$nulls":6},"См. следующую вкладку для расходов."]
[]
[]
[]
[]
[{"$nulls":3},"Итого доступно:",{"$f":"SUM(E6:E11)","v":{"v":125,"d":"125.00"}}]
[]
[]
[{"$nulls":4},"Итого доступно","Итого потрачено","Итого осталось"]
[{"$nulls":4},{"$f":"E12","v":{"v":125,"d":"125.00"}},{"$f":"SUM(F19:F53)","v":{"v":1.1,"d":"1.10"}},{"$f":"E16-ABS(F16)","v":{"v":123.9,"d":"123.90"}}]
[]
[{"$nulls":3},"Категория","Указанная сумма","Потрачено","Итого осталось"]
[null,null,1,"Пример категории",{"v":2,"d":"2.00"},{"$f":"IF(D19=\"\",\"\",SUMIF('Запишите расходы'!A:A,D19,'Запишите расходы'!C:C))","v":{"v":1.1,"d":"1.10"}},{"$f":"IF(D19=\"\",\"\",E19-ABS(F19))","v":{"v":0.9,"d":"0.90"}}]
[null,null,2,"ипотека",null,{"$f":"IF(D20=\"\",\"\",SUMIF('Запишите расходы'!A:A,D20,'Запишите расходы'!C:C))","v":{"v":0,"d":"0.00"}},{"$f":"IF(D20=\"\",\"\",E20-ABS(F20))","v":{"v":0,"d":"0.00"}}]
[null,null,3,"Бензин",null,{"$f":"IF(D21=\"\",\"\",SUMIF('Запишите расходы'!A:A,D21,'Запишите расходы'!C:C))","v":{"v":0,"d":"0.00"}},{"$f":"IF(D21=\"\",\"\",E21-ABS(F21))","v":{"v":0,"d":"0.00"}}]
[null,null,4,"Продукты питания",null,{"$f":"IF(D22=\"\",\"\",SUMIF('Запишите расходы'!A:A,D22,'Запишите расходы'!C:C))","v":{"v":0,"d":"0.00"}},{"$f":"IF(D22=\"\",\"\",E22-ABS(F22))","v":{"v":0,"d":"0.00"}}]
[null,null,5,"Рестораны",null,{"$f":"IF(D23=\"\",\"\",SUMIF('Запишите расходы'!A:A,D23,'Запишите расходы'!C:C))","v":{"v":0,"d":"0.00"}},{"$f":"IF(D23=\"\",\"\",E23-ABS(F23))","v":{"v":0,"d":"0.00"}}]
[null,null,6,null,null,{"$f":"IF(D24=\"\",\"\",SUMIF('Запишите расходы'!A:A,D24,'Запишите расходы'!C:C))","v":""},{"$f":"IF(D24=\"\",\"\",E24-ABS(F24))","v":""}]
[null,null,7,null,null,{"$f":"IF(D25=\"\",\"\",SUMIF('Запишите расходы'!A:A,D25,'Запишите расходы'!C:C))","v":""},{"$f":"IF(D25=\"\",\"\",E25-ABS(F25))","v":""}]
[null,null,8,null,null,{"$f":"IF(D26=\"\",\"\",SUMIF('Запишите расходы'!A:A,D26,'Запишите расходы'!C:C))","v":""},{"$f":"IF(D26=\"\",\"\",E26-ABS(F26))","v":""}]
[null,null,9,null,null,{"$f":"IF(D27=\"\",\"\",SUMIF('Запишите расходы'!A:A,D27,'Запишите расходы'!C:C))","v":""},{"$f":"IF(D27=\"\",\"\",E27-ABS(F27))","v":""}]
[null,null,10,null,null,{"$f":"IF(D28=\"\",\"\",SUMIF('Запишите расходы'!A:A,D28,'Запишите расходы'!C:C))","v":""},{"$f":"IF(D28=\"\",\"\",E28-ABS(F28))","v":""}]
[null,null,11,null,null,{"$f":"IF(D29=\"\",\"\",SUMIF('Запишите расходы'!A:A,D29,'Запишите расходы'!C:C))","v":""},{"$f":"IF(D29=\"\",\"\",E29-ABS(F29))","v":""}]
[null,null,12,null,null,{"$f":"IF(D30=\"\",\"\",SUMIF('Запишите расходы'!A:A,D30,'Запишите расходы'!C:C))","v":""},{"$f":"IF(D30=\"\",\"\",E30-ABS(F30))","v":""}]
[null,null,13,null,null,{"$f":"IF(D31=\"\",\"\",SUMIF('Запишите расходы'!A:A,D31,'Запишите расходы'!C:C))","v":""},{"$f":"IF(D31=\"\",\"\",E31-ABS(F31))","v":""}]
[null,null,14,null,null,{"$f":"IF(D32=\"\",\"\",SUMIF('Запишите расходы'!A:A,D32,'Запишите расходы'!C:C))","v":""},{"$f":"IF(D32=\"\",\"\",E32-ABS(F32))","v":""}]
[null,null,15,null,null,{"$f":"IF(D33=\"\",\"\",SUMIF('Запишите расходы'!A:A,D33,'Запишите расходы'!C:C))","v":""},{"$f":"IF(D33=\"\",\"\",E33-ABS(F33))","v":""}]
[null,null,16,null,null,{"$f":"IF(D34=\"\",\"\",SUMIF('Запишите расходы'!A:A,D34,'Запишите расходы'!C:C))","v":""},{"$f":"IF(D34=\"\",\"\",E34-ABS(F34))","v":""}]
[null,null,17,null,null,{"$f":"IF(D35=\"\",\"\",SUMIF('Запишите расходы'!A:A,D35,'Запишите расходы'!C:C))","v":""},{"$f":"IF(D35=\"\",\"\",E35-ABS(F35))","v":""}]
[null,null,18,null,null,{"$f":"IF(D36=\"\",\"\",SUMIF('Запишите расходы'!A:A,D36,'Запишите расходы'!C:C))","v":""},{"$f":"IF(D36=\"\",\"\",E36-ABS(F36))","v":""}]
[null,null,19,null,null,{"$f":"IF(D37=\"\",\"\",SUMIF('Запишите расходы'!A:A,D37,'Запишите расходы'!C:C))","v":""},{"$f":"IF(D37=\"\",\"\",E37-ABS(F37))","v":""}]
[null,null,20,null,null,{"$f":"IF(D38=\"\",\"\",SUMIF('Запишите расходы'!A:A,D38,'Запишите расходы'!C:C))","v":""},{"$f":"IF(D38=\"\",\"\",E38-ABS(F38))","v":""}]
[null,null,21,null,null,{"$f":"IF(D39=\"\",\"\",SUMIF('Запишите расходы'!A:A,D39,'Запишите расходы'!C:C))","v":""},{"$f":"IF(D39=\"\",\"\",E39-ABS(F39))","v":""}]
[null,null,22,null,null,{"$f":"IF(D40=\"\",\"\",SUMIF('Запишите расходы'!A:A,D40,'Запишите расходы'!C:C))","v":""},{"$f":"IF(D40=\"\",\"\",E40-ABS(F40))","v":""}]
[null,null,23,null,null,{"$f":"IF(D41=\"\",\"\",SUMIF('Запишите расходы'!A:A,D41,'Запишите расходы'!C:C))","v":""},{"$f":"IF(D41=\"\",\"\",E41-ABS(F41))","v":""}]
[null,null,24,null,null,{"$f":"IF(D42=\"\",\"\",SUMIF('Запишите расходы'!A:A,D42,'Запишите расходы'!C:C))","v":""},{"$f":"IF(D42=\"\",\"\",E42-ABS(F42))","v":""}]
[null,null,25,null,null,{"$f":"IF(D43=\"\",\"\",SUMIF('Запишите расходы'!A:A,D43,'Запишите расходы'!C:C))","v":""},{"$f":"IF(D43=\"\",\"\",E43-ABS(F43))","v":""}]
[null,null,26,null,null,{"$f":"IF(D44=\"\",\"\",SUMIF('Запишите расходы'!A:A,D44,'Запишите расходы'!C:C))","v":""},{"$f":"IF(D44=\"\",\"\",E44-ABS(F44))","v":""}]
[null,null,27,null,null,{"$f":"IF(D45=\"\",\"\",SUMIF('Запишите расходы'!A:A,D45,'Запишите расходы'!C:C))","v":""},{"$f":"IF(D45=\"\",\"\",E45-ABS(F45))","v":""}]
[null,null,28,null,null,{"$f":"IF(D46=\"\",\"\",SUMIF('Запишите расходы'!A:A,D46,'Запишите расходы'!C:C))","v":""},{"$f":"IF(D46=\"\",\"\",E46-ABS(F46))","v":""}]
[null,null,29,null,null,{"$f":"IF(D47=\"\",\"\",SUMIF('Запишите расходы'!A:A,D47,'Запишите расходы'!C:C))","v":""},{"$f":"IF(D47=\"\",\"\",E47-ABS(F47))","v":""}]
[null,null,30,null,null,{"$f":"IF(D48=\"\",\"\",SUMIF('Запишите расходы'!A:A,D48,'Запишите расходы'!C:C))","v":""},{"$f":"IF(D48=\"\",\"\",E48-ABS(F48))","v":""}]
[null,null,31,null,null,{"$f":"IF(D49=\"\",\"\",SUMIF('Запишите расходы'!A:A,D49,'Запишите расходы'!C:C))","v":""},{"$f":"IF(D49=\"\",\"\",E49-ABS(F49))","v":""}]
[null,null,32,null,null,{"$f":"IF(D50=\"\",\"\",SUMIF('Запишите расходы'!A:A,D50,'Запишите расходы'!C:C))","v":""},{"$f":"IF(D50=\"\",\"\",E50-ABS(F50))","v":""}]
[null,null,33,null,null,{"$f":"IF(D51=\"\",\"\",SUMIF('Запишите расходы'!A:A,D51,'Запишите расходы'!C:C))","v":""},{"$f":"IF(D51=\"\",\"\",E51-ABS(F51))","v":""}]
[null,null,34,null,null,{"$f":"IF(D52=\"\",\"\",SUMIF('Запишите расходы'!A:A,D52,'Запишите расходы'!C:C))","v":""},{"$f":"IF(D52=\"\",\"\",E52-ABS(F52))","v":""}]
[null,null,35,null," ",{"$f":"IF(D53=\"\",\"\",SUMIF('Запишите расходы'!A:A,D53,'Запишите расходы'!C:C))","v":""},{"$f":"IF(D53=\"\",\"\",E53-ABS(F53))","v":""}]
[]
[{"$nulls":3},"Итого назначено:",{"$f":"SUM(E19:E53)","v":{"v":2,"d":"2.00"}}]

{"sheet":"Запишите расходы","index":1,"n_rows":750,"n_cols":7,"rows_kept":750,"merged":[[0,2,1,3]]}
["Запишите расходы",null,"1) Введите сумму для каждого расхода (или скопируйте и вставьте из вашего банка)"]
[]
["2) Выберите категорию для каждого расхода ниже"]
[null,"Expenses","Суммы расходов","Описание / примечания","Expenses","Expenses","Expenses"]
[]
["Пример категории",null,{"v":1.1,"d":"1.10"}]
{"$rows_empty":743}
[null," "]

{"sheet":"Круговая диаграмма","index":2,"n_rows":36,"n_cols":10,"rows_kept":36}
["Rank","Rank + tiebreaker","true rank","Category","Expense Totals","Percent",null,"Категория","Итого расходов","Процент"]
[{"$f":"IF(E2=\"\",\"\",RANK(E2,$E$2:$E$36))","v":1},{"$f":"IF(A2=\"\",\"\",A2+ROW()/1000)","v":1.002},{"$f":"IF(B2=\"\",\"\",RANK(B2,$B$2:$B$36,1))","v":1},{"$f":"IF(Бюджет!D19=\"\",\"\",Бюджет!D19)","v":"Пример категории"},{"$f":"IF(D2=\"\",\"\",ABS(Бюджет!F19))","v":{"v":1.1,"d":"1.10"}},{"$f":"IF(E2=\"\",\"\",E2/SUM($E$2:$E$36))","v":{"v":1,"d":"100.00%"}},null,{"$f":"IFERROR(VLOOKUP(ROW()-1,$C$2:$F$36,2,0),\"\")","v":"Пример категории"},{"$f":"IFERROR(VLOOKUP(ROW()-1,$C$2:$F$36,3,0),\"\")","v":{"v":1.1,"d":"1.10"}},{"$f":"IFERROR(VLOOKUP(ROW()-1,$C$2:$F$36,4,0),\"\")","v":{"v":1,"d":"100.0%"}}]
[{"$f":"IF(E3=\"\",\"\",RANK(E3,$E$2:$E$36))","v":2},{"$f":"IF(A3=\"\",\"\",A3+ROW()/1000)","v":2.003},{"$f":"IF(B3=\"\",\"\",RANK(B3,$B$2:$B$36,1))","v":2},{"$f":"IF(Бюджет!D20=\"\",\"\",Бюджет!D20)","v":"ипотека"},{"$f":"IF(D3=\"\",\"\",ABS(Бюджет!F20))","v":{"v":0,"d":"0.00"}},{"$f":"IF(E3=\"\",\"\",E3/SUM($E$2:$E$36))","v":{"v":0,"d":"0.0%"}},null,{"$f":"IFERROR(VLOOKUP(ROW()-1,$C$2:$F$36,2,0),\"\")","v":"ипотека"},{"$f":"IFERROR(VLOOKUP(ROW()-1,$C$2:$F$36,3,0),\"\")","v":{"v":0,"d":"0.00"}},{"$f":"IFERROR(VLOOKUP(ROW()-1,$C$2:$F$36,4,0),\"\")","v":{"v":0,"d":"0.0%"}}]
[{"$f":"IF(E4=\"\",\"\",RANK(E4,$E$2:$E$36))","v":2},{"$f":"IF(A4=\"\",\"\",A4+ROW()/1000)","v":2.004},{"$f":"IF(B4=\"\",\"\",RANK(B4,$B$2:$B$36,1))","v":3},{"$f":"IF(Бюджет!D21=\"\",\"\",Бюджет!D21)","v":"Бензин"},{"$f":"IF(D4=\"\",\"\",ABS(Бюджет!F21))","v":{"v":0,"d":"0.00"}},{"$f":"IF(E4=\"\",\"\",E4/SUM($E$2:$E$36))","v":{"v":0,"d":"0.0%"}},null,{"$f":"IFERROR(VLOOKUP(ROW()-1,$C$2:$F$36,2,0),\"\")","v":"Бензин"},{"$f":"IFERROR(VLOOKUP(ROW()-1,$C$2:$F$36,3,0),\"\")","v":{"v":0,"d":"0.00"}},{"$f":"IFERROR(VLOOKUP(ROW()-1,$C$2:$F$36,4,0),\"\")","v":{"v":0,"d":"0.0%"}}]
[{"$f":"IF(E5=\"\",\"\",RANK(E5,$E$2:$E$36))","v":2},{"$f":"IF(A5=\"\",\"\",A5+ROW()/1000)","v":2.005},{"$f":"IF(B5=\"\",\"\",RANK(B5,$B$2:$B$36,1))","v":4},{"$f":"IF(Бюджет!D22=\"\",\"\",Бюджет!D22)","v":"Продукты питания"},{"$f":"IF(D5=\"\",\"\",ABS(Бюджет!F22))","v":{"v":0,"d":"0.00"}},{"$f":"IF(E5=\"\",\"\",E5/SUM($E$2:$E$36))","v":{"v":0,"d":"0.0%"}},null,{"$f":"IFERROR(VLOOKUP(ROW()-1,$C$2:$F$36,2,0),\"\")","v":"Продукты питания"},{"$f":"IFERROR(VLOOKUP(ROW()-1,$C$2:$F$36,3,0),\"\")","v":{"v":0,"d":"0.00"}},{"$f":"IFERROR(VLOOKUP(ROW()-1,$C$2:$F$36,4,0),\"\")","v":{"v":0,"d":"0.0%"}}]
[{"$f":"IF(E6=\"\",\"\",RANK(E6,$E$2:$E$36))","v":2},{"$f":"IF(A6=\"\",\"\",A6+ROW()/1000)","v":2.006},{"$f":"IF(B6=\"\",\"\",RANK(B6,$B$2:$B$36,1))","v":5},{"$f":"IF(Бюджет!D23=\"\",\"\",Бюджет!D23)","v":"Рестораны"},{"$f":"IF(D6=\"\",\"\",ABS(Бюджет!F23))","v":{"v":0,"d":"0.00"}},{"$f":"IF(E6=\"\",\"\",E6/SUM($E$2:$E$36))","v":{"v":0,"d":"0.0%"}},null,{"$f":"IFERROR(VLOOKUP(ROW()-1,$C$2:$F$36,2,0),\"\")","v":"Рестораны"},{"$f":"IFERROR(VLOOKUP(ROW()-1,$C$2:$F$36,3,0),\"\")","v":{"v":0,"d":"0.00"}},{"$f":"IFERROR(VLOOKUP(ROW()-1,$C$2:$F$36,4,0),\"\")","v":{"v":0,"d":"0.0%"}}]
[{"$f":"IF(E7=\"\",\"\",RANK(E7,$E$2:$E$36))","v":""},{"$f":"IF(A7=\"\",\"\",A7+ROW()/1000)","v":""},{"$f":"IF(B7=\"\",\"\",RANK(B7,$B$2:$B$36,1))","v":""},{"$f":"IF(Бюджет!D24=\"\",\"\",Бюджет!D24)","v":""},{"$f":"IF(D7=\"\",\"\",ABS(Бюджет!F24))","v":""},{"$f":"IF(E7=\"\",\"\",E7/SUM($E$2:$E$36))","v":""},null,{"$f":"IFERROR(VLOOKUP(ROW()-1,$C$2:$F$36,2,0),\"\")","v":""},{"$f":"IFERROR(VLOOKUP(ROW()-1,$C$2:$F$36,3,0),\"\")","v":""},{"$f":"IFERROR(VLOOKUP(ROW()-1,$C$2:$F$36,4,0),\"\")","v":""}]
[{"$f":"IF(E8=\"\",\"\",RANK(E8,$E$2:$E$36))","v":""},{"$f":"IF(A8=\"\",\"\",A8+ROW()/1000)","v":""},{"$f":"IF(B8=\"\",\"\",RANK(B8,$B$2:$B$36,1))","v":""},{"$f":"IF(Бюджет!D25=\"\",\"\",Бюджет!D25)","v":""},{"$f":"IF(D8=\"\",\"\",ABS(Бюджет!F25))","v":""},{"$f":"IF(E8=\"\",\"\",E8/SUM($E$2:$E$36))","v":""},null,{"$f":"IFERROR(VLOOKUP(ROW()-1,$C$2:$F$36,2,0),\"\")","v":""},{"$f":"IFERROR(VLOOKUP(ROW()-1,$C$2:$F$36,3,0),\"\")","v":""},{"$f":"IFERROR(VLOOKUP(ROW()-1,$C$2:$F$36,4,0),\"\")","v":""}]
[{"$f":"IF(E9=\"\",\"\",RANK(E9,$E$2:$E$36))","v":""},{"$f":"IF(A9=\"\",\"\",A9+ROW()/1000)","v":""},{"$f":"IF(B9=\"\",\"\",RANK(B9,$B$2:$B$36,1))","v":""},{"$f":"IF(Бюджет!D26=\"\",\"\",Бюджет!D26)","v":""},{"$f":"IF(D9=\"\",\"\",ABS(Бюджет!F26))","v":""},{"$f":"IF(E9=\"\",\"\",E9/SUM($E$2:$E$36))","v":""},null,{"$f":"IFERROR(VLOOKUP(ROW()-1,$C$2:$F$36,2,0),\"\")","v":""},{"$f":"IFERROR(VLOOKUP(ROW()-1,$C$2:$F$36,3,0),\"\")","v":""},{"$f":"IFERROR(VLOOKUP(ROW()-1,$C$2:$F$36,4,0),\"\")","v":""}]
[{"$f":"IF(E10=\"\",\"\",RANK(E10,$E$2:$E$36))","v":""},{"$f":"IF(A10=\"\",\"\",A10+ROW()/1000)","v":""},{"$f":"IF(B10=\"\",\"\",RANK(B10,$B$2:$B$36,1))","v":""},{"$f":"IF(Бюджет!D27=\"\",\"\",Бюджет!D27)","v":""},{"$f":"IF(D10=\"\",\"\",ABS(Бюджет!F27))","v":""},{"$f":"IF(E10=\"\",\"\",E10/SUM($E$2:$E$36))","v":""},null,{"$f":"IFERROR(VLOOKUP(ROW()-1,$C$2:$F$36,2,0),\"\")","v":""},{"$f":"IFERROR(VLOOKUP(ROW()-1,$C$2:$F$36,3,0),\"\")","v":""},{"$f":"IFERROR(VLOOKUP(ROW()-1,$C$2:$F$36,4,0),\"\")","v":""}]
[{"$f":"IF(E11=\"\",\"\",RANK(E11,$E$2:$E$36))","v":""},{"$f":"IF(A11=\"\",\"\",A11+ROW()/1000)","v":""},{"$f":"IF(B11=\"\",\"\",RANK(B11,$B$2:$B$36,1))","v":""},{"$f":"IF(Бюджет!D28=\"\",\"\",Бюджет!D28)","v":""},{"$f":"IF(D11=\"\",\"\",ABS(Бюджет!F28))","v":""},{"$f":"IF(E11=\"\",\"\",E11/SUM($E$2:$E$36))","v":""},null,{"$f":"IFERROR(VLOOKUP(ROW()-1,$C$2:$F$36,2,0),\"\")","v":""},{"$f":"IFERROR(VLOOKUP(ROW()-1,$C$2:$F$36,3,0),\"\")","v":""},{"$f":"IFERROR(VLOOKUP(ROW()-1,$C$2:$F$36,4,0),\"\")","v":""}]
[{"$f":"IF(E12=\"\",\"\",RANK(E12,$E$2:$E$36))","v":""},{"$f":"IF(A12=\"\",\"\",A12+ROW()/1000)","v":""},{"$f":"IF(B12=\"\",\"\",RANK(B12,$B$2:$B$36,1))","v":""},{"$f":"IF(Бюджет!D29=\"\",\"\",Бюджет!D29)","v":""},{"$f":"IF(D12=\"\",\"\",ABS(Бюджет!F29))","v":""},{"$f":"IF(E12=\"\",\"\",E12/SUM($E$2:$E$36))","v":""},null,{"$f":"IFERROR(VLOOKUP(ROW()-1,$C$2:$F$36,2,0),\"\")","v":""},{"$f":"IFERROR(VLOOKUP(ROW()-1,$C$2:$F$36,3,0),\"\")","v":""},{"$f":"IFERROR(VLOOKUP(ROW()-1,$C$2:$F$36,4,0),\"\")","v":""}]
[{"$f":"IF(E13=\"\",\"\",RANK(E13,$E$2:$E$36))","v":""},{"$f":"IF(A13=\"\",\"\",A13+ROW()/1000)","v":""},{"$f":"IF(B13=\"\",\"\",RANK(B13,$B$2:$B$36,1))","v":""},{"$f":"IF(Бюджет!D30=\"\",\"\",Бюджет!D30)","v":""},{"$f":"IF(D13=\"\",\"\",ABS(Бюджет!F30))","v":""},{"$f":"IF(E13=\"\",\"\",E13/SUM($E$2:$E$36))","v":""},null,{"$f":"IFERROR(VLOOKUP(ROW()-1,$C$2:$F$36,2,0),\"\")","v":""},{"$f":"IFERROR(VLOOKUP(ROW()-1,$C$2:$F$36,3,0),\"\")","v":""},{"$f":"IFERROR(VLOOKUP(ROW()-1,$C$2:$F$36,4,0),\"\")","v":""}]
[{"$f":"IF(E14=\"\",\"\",RANK(E14,$E$2:$E$36))","v":""},{"$f":"IF(A14=\"\",\"\",A14+ROW()/1000)","v":""},{"$f":"IF(B14=\"\",\"\",RANK(B14,$B$2:$B$36,1))","v":""},{"$f":"IF(Бюджет!D31=\"\",\"\",Бюджет!D31)","v":""},{"$f":"IF(D14=\"\",\"\",ABS(Бюджет!F31))","v":""},{"$f":"IF(E14=\"\",\"\",E14/SUM($E$2:$E$36))","v":""},null,{"$f":"IFERROR(VLOOKUP(ROW()-1,$C$2:$F$36,2,0),\"\")","v":""},{"$f":"IFERROR(VLOOKUP(ROW()-1,$C$2:$F$36,3,0),\"\")","v":""},{"$f":"IFERROR(VLOOKUP(ROW()-1,$C$2:$F$36,4,0),\"\")","v":""}]
[{"$f":"IF(E15=\"\",\"\",RANK(E15,$E$2:$E$36))","v":""},{"$f":"IF(A15=\"\",\"\",A15+ROW()/1000)","v":""},{"$f":"IF(B15=\"\",\"\",RANK(B15,$B$2:$B$36,1))","v":""},{"$f":"IF(Бюджет!D32=\"\",\"\",Бюджет!D32)","v":""},{"$f":"IF(D15=\"\",\"\",ABS(Бюджет!F32))","v":""},{"$f":"IF(E15=\"\",\"\",E15/SUM($E$2:$E$36))","v":""},null,{"$f":"IFERROR(VLOOKUP(ROW()-1,$C$2:$F$36,2,0),\"\")","v":""},{"$f":"IFERROR(VLOOKUP(ROW()-1,$C$2:$F$36,3,0),\"\")","v":""},{"$f":"IFERROR(VLOOKUP(ROW()-1,$C$2:$F$36,4,0),\"\")","v":""}]
[{"$f":"IF(E16=\"\",\"\",RANK(E16,$E$2:$E$36))","v":""},{"$f":"IF(A16=\"\",\"\",A16+ROW()/1000)","v":""},{"$f":"IF(B16=\"\",\"\",RANK(B16,$B$2:$B$36,1))","v":""},{"$f":"IF(Бюджет!D33=\"\",\"\",Бюджет!D33)","v":""},{"$f":"IF(D16=\"\",\"\",ABS(Бюджет!F33))","v":""},{"$f":"IF(E16=\"\",\"\",E16/SUM($E$2:$E$36))","v":""},null,{"$f":"IFERROR(VLOOKUP(ROW()-1,$C$2:$F$36,2,0),\"\")","v":""},{"$f":"IFERROR(VLOOKUP(ROW()-1,$C$2:$F$36,3,0),\"\")","v":""},{"$f":"IFERROR(VLOOKUP(ROW()-1,$C$2:$F$36,4,0),\"\")","v":""}]
[{"$f":"IF(E17=\"\",\"\",RANK(E17,$E$2:$E$36))","v":""},{"$f":"IF(A17=\"\",\"\",A17+ROW()/1000)","v":""},{"$f":"IF(B17=\"\",\"\",RANK(B17,$B$2:$B$36,1))","v":""},{"$f":"IF(Бюджет!D34=\"\",\"\",Бюджет!D34)","v":""},{"$f":"IF(D17=\"\",\"\",ABS(Бюджет!F34))","v":""},{"$f":"IF(E17=\"\",\"\",E17/SUM($E$2:$E$36))","v":""},null,{"$f":"IFERROR(VLOOKUP(ROW()-1,$C$2:$F$36,2,0),\"\")","v":""},{"$f":"IFERROR(VLOOKUP(ROW()-1,$C$2:$F$36,3,0),\"\")","v":""},{"$f":"IFERROR(VLOOKUP(ROW()-1,$C$2:$F$36,4,0),\"\")","v":""}]
[{"$f":"IF(E18=\"\",\"\",RANK(E18,$E$2:$E$36))","v":""},{"$f":"IF(A18=\"\",\"\",A18+ROW()/1000)","v":""},{"$f":"IF(B18=\"\",\"\",RANK(B18,$B$2:$B$36,1))","v":""},{"$f":"IF(Бюджет!D35=\"\",\"\",Бюджет!D35)","v":""},{"$f":"IF(D18=\"\",\"\",ABS(Бюджет!F35))","v":""},{"$f":"IF(E18=\"\",\"\",E18/SUM($E$2:$E$36))","v":""},null,{"$f":"IFERROR(VLOOKUP(ROW()-1,$C$2:$F$36,2,0),\"\")","v":""},{"$f":"IFERROR(VLOOKUP(ROW()-1,$C$2:$F$36,3,0),\"\")","v":""},{"$f":"IFERROR(VLOOKUP(ROW()-1,$C$2:$F$36,4,0),\"\")","v":""}]
[{"$f":"IF(E19=\"\",\"\",RANK(E19,$E$2:$E$36))","v":""},{"$f":"IF(A19=\"\",\"\",A19+ROW()/1000)","v":""},{"$f":"IF(B19=\"\",\"\",RANK(B19,$B$2:$B$36,1))","v":""},{"$f":"IF(Бюджет!D36=\"\",\"\",Бюджет!D36)","v":""},{"$f":"IF(D19=\"\",\"\",ABS(Бюджет!F36))","v":""},{"$f":"IF(E19=\"\",\"\",E19/SUM($E$2:$E$36))","v":""},null,{"$f":"IFERROR(VLOOKUP(ROW()-1,$C$2:$F$36,2,0),\"\")","v":""},{"$f":"IFERROR(VLOOKUP(ROW()-1,$C$2:$F$36,3,0),\"\")","v":""},{"$f":"IFERROR(VLOOKUP(ROW()-1,$C$2:$F$36,4,0),\"\")","v":""}]
[{"$f":"IF(E20=\"\",\"\",RANK(E20,$E$2:$E$36))","v":""},{"$f":"IF(A20=\"\",\"\",A20+ROW()/1000)","v":""},{"$f":"IF(B20=\"\",\"\",RANK(B20,$B$2:$B$36,1))","v":""},{"$f":"IF(Бюджет!D37=\"\",\"\",Бюджет!D37)","v":""},{"$f":"IF(D20=\"\",\"\",ABS(Бюджет!F37))","v":""},{"$f":"IF(E20=\"\",\"\",E20/SUM($E$2:$E$36))","v":""},null,{"$f":"IFERROR(VLOOKUP(ROW()-1,$C$2:$F$36,2,0),\"\")","v":""},{"$f":"IFERROR(VLOOKUP(ROW()-1,$C$2:$F$36,3,0),\"\")","v":""},{"$f":"IFERROR(VLOOKUP(ROW()-1,$C$2:$F$36,4,0),\"\")","v":""}]
[{"$f":"IF(E21=\"\",\"\",RANK(E21,$E$2:$E$36))","v":""},{"$f":"IF(A21=\"\",\"\",A21+ROW()/1000)","v":""},{"$f":"IF(B21=\"\",\"\",RANK(B21,$B$2:$B$36,1))","v":""},{"$f":"IF(Бюджет!D38=\"\",\"\",Бюджет!D38)","v":""},{"$f":"IF(D21=\"\",\"\",ABS(Бюджет!F38))","v":""},{"$f":"IF(E21=\"\",\"\",E21/SUM($E$2:$E$36))","v":""},null,{"$f":"IFERROR(VLOOKUP(ROW()-1,$C$2:$F$36,2,0),\"\")","v":""},{"$f":"IFERROR(VLOOKUP(ROW()-1,$C$2:$F$36,3,0),\"\")","v":""},{"$f":"IFERROR(VLOOKUP(ROW()-1,$C$2:$F$36,4,0),\"\")","v":""}]
[{"$f":"IF(E22=\"\",\"\",RANK(E22,$E$2:$E$36))","v":""},{"$f":"IF(A22=\"\",\"\",A22+ROW()/1000)","v":""},{"$f":"IF(B22=\"\",\"\",RANK(B22,$B$2:$B$36,1))","v":""},{"$f":"IF(Бюджет!D39=\"\",\"\",Бюджет!D39)","v":""},{"$f":"IF(D22=\"\",\"\",ABS(Бюджет!F39))","v":""},{"$f":"IF(E22=\"\",\"\",E22/SUM($E$2:$E$36))","v":""},null,{"$f":"IFERROR(VLOOKUP(ROW()-1,$C$2:$F$36,2,0),\"\")","v":""},{"$f":"IFERROR(VLOOKUP(ROW()-1,$C$2:$F$36,3,0),\"\")","v":""},{"$f":"IFERROR(VLOOKUP(ROW()-1,$C$2:$F$36,4,0),\"\")","v":""}]
[{"$f":"IF(E23=\"\",\"\",RANK(E23,$E$2:$E$36))","v":""},{"$f":"IF(A23=\"\",\"\",A23+ROW()/1000)","v":""},{"$f":"IF(B23=\"\",\"\",RANK(B23,$B$2:$B$36,1))","v":""},{"$f":"IF(Бюджет!D40=\"\",\"\",Бюджет!D40)","v":""},{"$f":"IF(D23=\"\",\"\",ABS(Бюджет!F40))","v":""},{"$f":"IF(E23=\"\",\"\",E23/SUM($E$2:$E$36))","v":""},null,{"$f":"IFERROR(VLOOKUP(ROW()-1,$C$2:$F$36,2,0),\"\")","v":""},{"$f":"IFERROR(VLOOKUP(ROW()-1,$C$2:$F$36,3,0),\"\")","v":""},{"$f":"IFERROR(VLOOKUP(ROW()-1,$C$2:$F$36,4,0),\"\")","v":""}]
[{"$f":"IF(E24=\"\",\"\",RANK(E24,$E$2:$E$36))","v":""},{"$f":"IF(A24=\"\",\"\",A24+ROW()/1000)","v":""},{"$f":"IF(B24=\"\",\"\",RANK(B24,$B$2:$B$36,1))","v":""},{"$f":"IF(Бюджет!D41=\"\",\"\",Бюджет!D41)","v":""},{"$f":"IF(D24=\"\",\"\",ABS(Бюджет!F41))","v":""},{"$f":"IF(E24=\"\",\"\",E24/SUM($E$2:$E$36))","v":""},null,{"$f":"IFERROR(VLOOKUP(ROW()-1,$C$2:$F$36,2,0),\"\")","v":""},{"$f":"IFERROR(VLOOKUP(ROW()-1,$C$2:$F$36,3,0),\"\")","v":""},{"$f":"IFERROR(VLOOKUP(ROW()-1,$C$2:$F$36,4,0),\"\")","v":""}]
[{"$f":"IF(E25=\"\",\"\",RANK(E25,$E$2:$E$36))","v":""},{"$f":"IF(A25=\"\",\"\",A25+ROW()/1000)","v":""},{"$f":"IF(B25=\"\",\"\",RANK(B25,$B$2:$B$36,1))","v":""},{"$f":"IF(Бюджет!D42=\"\",\"\",Бюджет!D42)","v":""},{"$f":"IF(D25=\"\",\"\",ABS(Бюджет!F42))","v":""},{"$f":"IF(E25=\"\",\"\",E25/SUM($E$2:$E$36))","v":""},null,{"$f":"IFERROR(VLOOKUP(ROW()-1,$C$2:$F$36,2,0),\"\")","v":""},{"$f":"IFERROR(VLOOKUP(ROW()-1,$C$2:$F$36,3,0),\"\")","v":""},{"$f":"IFERROR(VLOOKUP(ROW()-1,$C$2:$F$36,4,0),\"\")","v":""}]
[{"$f":"IF(E26=\"\",\"\",RANK(E26,$E$2:$E$36))","v":""},{"$f":"IF(A26=\"\",\"\",A26+ROW()/1000)","v":""},{"$f":"IF(B26=\"\",\"\",RANK(B26,$B$2:$B$36,1))","v":""},{"$f":"IF(Бюджет!D43=\"\",\"\",Бюджет!D43)","v":""},{"$f":"IF(D26=\"\",\"\",ABS(Бюджет!F43))","v":""},{"$f":"IF(E26=\"\",\"\",E26/SUM($E$2:$E$36))","v":""},null,{"$f":"IFERROR(VLOOKUP(ROW()-1,$C$2:$F$36,2,0),\"\")","v":""},{"$f":"IFERROR(VLOOKUP(ROW()-1,$C$2:$F$36,3,0),\"\")","v":""},{"$f":"IFERROR(VLOOKUP(ROW()-1,$C$2:$F$36,4,0),\"\")","v":""}]
[{"$f":"IF(E27=\"\",\"\",RANK(E27,$E$2:$E$36))","v":""},{"$f":"IF(A27=\"\",\"\",A27+ROW()/1000)","v":""},{"$f":"IF(B27=\"\",\"\",RANK(B27,$B$2:$B$36,1))","v":""},{"$f":"IF(Бюджет!D44=\"\",\"\",Бюджет!D44)","v":""},{"$f":"IF(D27=\"\",\"\",ABS(Бюджет!F44))","v":""},{"$f":"IF(E27=\"\",\"\",E27/SUM($E$2:$E$36))","v":""},null,{"$f":"IFERROR(VLOOKUP(ROW()-1,$C$2:$F$36,2,0),\"\")","v":""},{"$f":"IFERROR(VLOOKUP(ROW()-1,$C$2:$F$36,3,0),\"\")","v":""},{"$f":"IFERROR(VLOOKUP(ROW()-1,$C$2:$F$36,4,0),\"\")","v":""}]
[{"$f":"IF(E28=\"\",\"\",RANK(E28,$E$2:$E$36))","v":""},{"$f":"IF(A28=\"\",\"\",A28+ROW()/1000)","v":""},{"$f":"IF(B28=\"\",\"\",RANK(B28,$B$2:$B$36,1))","v":""},{"$f":"IF(Бюджет!D45=\"\",\"\",Бюджет!D45)","v":""},{"$f":"IF(D28=\"\",\"\",ABS(Бюджет!F45))","v":""},{"$f":"IF(E28=\"\",\"\",E28/SUM($E$2:$E$36))","v":""},null,{"$f":"IFERROR(VLOOKUP(ROW()-1,$C$2:$F$36,2,0),\"\")","v":""},{"$f":"IFERROR(VLOOKUP(ROW()-1,$C$2:$F$36,3,0),\"\")","v":""},{"$f":"IFERROR(VLOOKUP(ROW()-1,$C$2:$F$36,4,0),\"\")","v":""}]
[{"$f":"IF(E29=\"\",\"\",RANK(E29,$E$2:$E$36))","v":""},{"$f":"IF(A29=\"\",\"\",A29+ROW()/1000)","v":""},{"$f":"IF(B29=\"\",\"\",RANK(B29,$B$2:$B$36,1))","v":""},{"$f":"IF(Бюджет!D46=\"\",\"\",Бюджет!D46)","v":""},{"$f":"IF(D29=\"\",\"\",ABS(Бюджет!F46))","v":""},{"$f":"IF(E29=\"\",\"\",E29/SUM($E$2:$E$36))","v":""},null,{"$f":"IFERROR(VLOOKUP(ROW()-1,$C$2:$F$36,2,0),\"\")","v":""},{"$f":"IFERROR(VLOOKUP(ROW()-1,$C$2:$F$36,3,0),\"\")","v":""},{"$f":"IFERROR(VLOOKUP(ROW()-1,$C$2:$F$36,4,0),\"\")","v":""}]
[{"$f":"IF(E30=\"\",\"\",RANK(E30,$E$2:$E$36))","v":""},{"$f":"IF(A30=\"\",\"\",A30+ROW()/1000)","v":""},{"$f":"IF(B30=\"\",\"\",RANK(B30,$B$2:$B$36,1))","v":""},{"$f":"IF(Бюджет!D47=\"\",\"\",Бюджет!D47)","v":""},{"$f":"IF(D30=\"\",\"\",ABS(Бюджет!F47))","v":""},{"$f":"IF(E30=\"\",\"\",E30/SUM($E$2:$E$36))","v":""},null,{"$f":"IFERROR(VLOOKUP(ROW()-1,$C$2:$F$36,2,0),\"\")","v":""},{"$f":"IFERROR(VLOOKUP(ROW()-1,$C$2:$F$36,3,0),\"\")","v":""},{"$f":"IFERROR(VLOOKUP(ROW()-1,$C$2:$F$36,4,0),\"\")","v":""}]
[{"$f":"IF(E31=\"\",\"\",RANK(E31,$E$2:$E$36))","v":""},{"$f":"IF(A31=\"\",\"\",A31+ROW()/1000)","v":""},{"$f":"IF(B31=\"\",\"\",RANK(B31,$B$2:$B$36,1))","v":""},{"$f":"IF(Бюджет!D48=\"\",\"\",Бюджет!D48)","v":""},{"$f":"IF(D31=\"\",\"\",ABS(Бюджет!F48))","v":""},{"$f":"IF(E31=\"\",\"\",E31/SUM($E$2:$E$36))","v":""},null,{"$f":"IFERROR(VLOOKUP(ROW()-1,$C$2:$F$36,2,0),\"\")","v":""},{"$f":"IFERROR(VLOOKUP(ROW()-1,$C$2:$F$36,3,0),\"\")","v":""},{"$f":"IFERROR(VLOOKUP(ROW()-1,$C$2:$F$36,4,0),\"\")","v":""}]
[{"$f":"IF(E32=\"\",\"\",RANK(E32,$E$2:$E$36))","v":""},{"$f":"IF(A32=\"\",\"\",A32+ROW()/1000)","v":""},{"$f":"IF(B32=\"\",\"\",RANK(B32,$B$2:$B$36,1))","v":""},{"$f":"IF(Бюджет!D49=\"\",\"\",Бюджет!D49)","v":""},{"$f":"IF(D32=\"\",\"\",ABS(Бюджет!F49))","v":""},{"$f":"IF(E32=\"\",\"\",E32/SUM($E$2:$E$36))","v":""},null,{"$f":"IFERROR(VLOOKUP(ROW()-1,$C$2:$F$36,2,0),\"\")","v":""},{"$f":"IFERROR(VLOOKUP(ROW()-1,$C$2:$F$36,3,0),\"\")","v":""},{"$f":"IFERROR(VLOOKUP(ROW()-1,$C$2:$F$36,4,0),\"\")","v":""}]
[{"$f":"IF(E33=\"\",\"\",RANK(E33,$E$2:$E$36))","v":""},{"$f":"IF(A33=\"\",\"\",A33+ROW()/1000)","v":""},{"$f":"IF(B33=\"\",\"\",RANK(B33,$B$2:$B$36,1))","v":""},{"$f":"IF(Бюджет!D50=\"\",\"\",Бюджет!D50)","v":""},{"$f":"IF(D33=\"\",\"\",ABS(Бюджет!F50))","v":""},{"$f":"IF(E33=\"\",\"\",E33/SUM($E$2:$E$36))","v":""},null,{"$f":"IFERROR(VLOOKUP(ROW()-1,$C$2:$F$36,2,0),\"\")","v":""},{"$f":"IFERROR(VLOOKUP(ROW()-1,$C$2:$F$36,3,0),\"\")","v":""},{"$f":"IFERROR(VLOOKUP(ROW()-1,$C$2:$F$36,4,0),\"\")","v":""}]
[{"$f":"IF(E34=\"\",\"\",RANK(E34,$E$2:$E$36))","v":""},{"$f":"IF(A34=\"\",\"\",A34+ROW()/1000)","v":""},{"$f":"IF(B34=\"\",\"\",RANK(B34,$B$2:$B$36,1))","v":""},{"$f":"IF(Бюджет!D51=\"\",\"\",Бюджет!D51)","v":""},{"$f":"IF(D34=\"\",\"\",ABS(Бюджет!F51))","v":""},{"$f":"IF(E34=\"\",\"\",E34/SUM($E$2:$E$36))","v":""},null,{"$f":"IFERROR(VLOOKUP(ROW()-1,$C$2:$F$36,2,0),\"\")","v":""},{"$f":"IFERROR(VLOOKUP(ROW()-1,$C$2:$F$36,3,0),\"\")","v":""},{"$f":"IFERROR(VLOOKUP(ROW()-1,$C$2:$F$36,4,0),\"\")","v":""}]
[{"$f":"IF(E35=\"\",\"\",RANK(E35,$E$2:$E$36))","v":""},{"$f":"IF(A35=\"\",\"\",A35+ROW()/1000)","v":""},{"$f":"IF(B35=\"\",\"\",RANK(B35,$B$2:$B$36,1))","v":""},{"$f":"IF(Бюджет!D52=\"\",\"\",Бюджет!D52)","v":""},{"$f":"IF(D35=\"\",\"\",ABS(Бюджет!F52))","v":""},{"$f":"IF(E35=\"\",\"\",E35/SUM($E$2:$E$36))","v":""},null,{"$f":"IFERROR(VLOOKUP(ROW()-1,$C$2:$F$36,2,0),\"\")","v":""},{"$f":"IFERROR(VLOOKUP(ROW()-1,$C$2:$F$36,3,0),\"\")","v":""},{"$f":"IFERROR(VLOOKUP(ROW()-1,$C$2:$F$36,4,0),\"\")","v":""}]
[{"$f":"IF(E36=\"\",\"\",RANK(E36,$E$2:$E$36))","v":""},{"$f":"IF(A36=\"\",\"\",A36+ROW()/1000)","v":""},{"$f":"IF(B36=\"\",\"\",RANK(B36,$B$2:$B$36,1))","v":""},{"$f":"IF(Бюджет!D53=\"\",\"\",Бюджет!D53)","v":""},{"$f":"IF(D36=\"\",\"\",ABS(Бюджет!F53))","v":""},{"$f":"IF(E36=\"\",\"\",E36/SUM($E$2:$E$36))","v":""},null,{"$f":"IFERROR(VLOOKUP(ROW()-1,$C$2:$F$36,2,0),\"\")","v":""},{"$f":"IFERROR(VLOOKUP(ROW()-1,$C$2:$F$36,3,0),\"\")","v":""},{"$f":"IFERROR(VLOOKUP(ROW()-1,$C$2:$F$36,4,0),\"\")","v":""}]

{"sheet":"Сгруппированные расходы","index":3,"n_rows":744,"n_cols":7,"rows_kept":744}
[]
[{"$f":"IF('Запишите расходы'!C6:C750=\"\",\"\",'Запишите расходы'!A6:A750 & \"     \" & TEXT('Запишите расходы'!C6:C750, \".00\") & \"          \")","v":"Пример категории     1.10          "},{"$f":"IF('Запишите расходы'!C6:C750=\"\",\"\", IF('Запишите расходы'!B6:B750 = \"\", \"\",  'Запишите расходы'!B6:B750 & \"     \") &  IF('Запишите расходы'!D6:D750 = \"\", \"\",  'Запишите расходы'!D6:D750 & \"     \") & IF('Запишите расходы'!E6:E750 = \"\", \"\",  'Запишите расходы'!E6:E750 & \"     \") & IF('Запишите расходы'!F6:F750 = \"\", \"\",  'Запишите расходы'!F6:F750 & \"     \") & IF('Запишите расходы'!G6:G750 = \"\", \"\",  'Запишите расходы'!G6:G750 & \"     \") & IF('Запишите расходы'!H6:H750 = \"\", \"\",  'Запишите расходы'!H6:H750 & \"     \") & IF('Запишите расходы'!I6:I750 = \"\", \"\",  'Запишите расходы'!I6:I750 & \"     \") & IF('Запишите расходы'!J6:J750 = \"\", \"\",  'Запишите расходы'!J6:J750 & \"     \") & IF('Запишите расходы'!K6:K750 = \"\", \"\",  'Запишите расходы'!K6:K750 & \"     \") & IF('Запишите расходы'!L6:L750 = \"\", \"\",  'Запишите расходы'!L6:L750 & \"     \") & IF('Запишите расходы'!M6:M750 = \"\", \"\",  'Запишите расходы'!M6:M750 & \"     \") & IF('Запишите расходы'!N6:N750 = \"\", \"\",  'Запишите расходы'!N6:N750 & \"     \") & IF('Запишите расходы'!O6:O750 = \"\", \"\",  'Запишите расходы'!O6:O750 & \"     \") & IF('Запишите расходы'!P6:P750 = \"\", \"\",  'Запишите расходы'!P6:P750 & \"     \") & IF('Запишите расходы'!Q6:Q750 = \"\", \"\",  'Запишите расходы'!Q6:Q750 & \"     \") & IF('Запишите расходы'!R6:R750 = \"\", \"\",  'Запишите расходы'!R6:R750 & \"     \") & IF('Запишите расходы'!S6:S750 = \"\", \"\",  'Запишите расходы'!S6:S750 & \"     \") & IF('Запишите расходы'!T6:T750 = \"\", \"\",  'Запишите расходы'!T6:T750 & \"     \") & IF('Запишите расходы'!U6:U750 = \"\", \"\",  'Запишите расходы'!U6:U750 & \"     \") & IF('Запишите расходы'!V6:V750 = \"\", \"\",  'Запишите расходы'!V6:V750 & \"     \") & IF('Запишите расходы'!W6:W750 = \"\", \"\",  'Запишите расходы'!W6:W750 & \"     \") & IF('Запишите расходы'!X6:X750 = \"\", \"\",  'Запишите расходы'!X6:X750 & \"     \") & IF('Запишите расходы'!Y6:Y750 = \"\", \"\",  'Запишите расходы'!Y6:Y750 & \"     \") & IF('Запишите расходы'!Z6:Z750 = \"\", \"\",  'Запишите расходы'!Z6:Z750 & \"     \")  )","v":""},{"$f":"A2:A744 & B2:B744","v":"Пример категории     1.10          "},{"$f":"IF(C2:C744 = \"\",\"𬺓𬺓𬺓\",C2:C744)","v":"Пример категории     1.10          "},{"$f":"_xlfn._xlws.SORT(C2:D744,2)","v":"Пример категории     1.10          "},"Пример категории     1.10          ",{"$f":"E2:E744","v":"Пример категории     1.10          "}]
["","","","𬺓𬺓𬺓","","𬺓𬺓𬺓",""]
["","","","𬺓𬺓𬺓","","𬺓𬺓𬺓",""]
["","","","𬺓𬺓𬺓","","𬺓𬺓𬺓",""]
["","","","𬺓𬺓𬺓","","𬺓𬺓𬺓",""]
["","","","𬺓𬺓𬺓","","𬺓𬺓𬺓",""]
["","","","𬺓𬺓𬺓","","𬺓𬺓𬺓",""]
["","","","𬺓𬺓𬺓","","𬺓𬺓𬺓",""]
["","","","𬺓𬺓𬺓","","𬺓𬺓𬺓",""]
["","","","𬺓𬺓𬺓","","𬺓𬺓𬺓",""]
["","","","𬺓𬺓𬺓","","𬺓𬺓𬺓",""]
["","","","𬺓𬺓𬺓","","𬺓𬺓𬺓",""]
["","","","𬺓𬺓𬺓","","𬺓𬺓𬺓",""]
["","","","𬺓𬺓𬺓","","𬺓𬺓𬺓",""]
["","","","𬺓𬺓𬺓","","𬺓𬺓𬺓",""]
["","","","𬺓𬺓𬺓","","𬺓𬺓𬺓",""]
["","","","𬺓𬺓𬺓","","𬺓𬺓𬺓",""]
["","","","𬺓𬺓𬺓","","𬺓𬺓𬺓",""]
["","","","𬺓𬺓𬺓","","𬺓𬺓𬺓",""]
["","","","𬺓𬺓𬺓","","𬺓𬺓𬺓",""]
["","","","𬺓𬺓𬺓","","𬺓𬺓𬺓",""]
["","","","𬺓𬺓𬺓","","𬺓𬺓𬺓",""]
["","","","𬺓𬺓𬺓","","𬺓𬺓𬺓",""]
["","","","𬺓𬺓𬺓","","𬺓𬺓𬺓",""]
["","","","𬺓𬺓𬺓","","𬺓𬺓𬺓",""]
["","","","𬺓𬺓𬺓","","𬺓𬺓𬺓",""]
["","","","𬺓𬺓𬺓","","𬺓𬺓𬺓",""]
["","","","𬺓𬺓𬺓","","𬺓𬺓𬺓",""]
["","","","𬺓𬺓𬺓","","𬺓𬺓𬺓",""]
["","","","𬺓𬺓𬺓","","𬺓𬺓𬺓",""]
["","","","𬺓𬺓𬺓","","𬺓𬺓𬺓",""]
["","","","𬺓𬺓𬺓","","𬺓𬺓𬺓",""]
["","","","𬺓𬺓𬺓","","𬺓𬺓𬺓",""]
["","","","𬺓𬺓𬺓","","𬺓𬺓𬺓",""]
["","","","𬺓𬺓𬺓","","𬺓𬺓𬺓",""]
["","","","𬺓𬺓𬺓","","𬺓𬺓𬺓",""]
["","","","𬺓𬺓𬺓","","𬺓𬺓𬺓",""]
["","","","𬺓𬺓𬺓","","𬺓𬺓𬺓",""]
["","","","𬺓𬺓𬺓","","𬺓𬺓𬺓",""]
["","","","𬺓𬺓𬺓","","𬺓𬺓𬺓",""]
["","","","𬺓𬺓𬺓","","𬺓𬺓𬺓",""]
["","","","𬺓𬺓𬺓","","𬺓𬺓𬺓",""]
["","","","𬺓𬺓𬺓","","𬺓𬺓𬺓",""]
["","","","𬺓𬺓𬺓","","𬺓𬺓𬺓",""]
["","","","𬺓𬺓𬺓","","𬺓𬺓𬺓",""]
["","","","𬺓𬺓𬺓","","𬺓𬺓𬺓",""]
["","","","𬺓𬺓𬺓","","𬺓𬺓𬺓",""]
["","","","𬺓𬺓𬺓","","𬺓𬺓𬺓",""]
["","","","𬺓𬺓𬺓","","𬺓𬺓𬺓",""]
["","","","𬺓𬺓𬺓","","𬺓𬺓𬺓",""]
["","","","𬺓𬺓𬺓","","𬺓𬺓𬺓",""]
["","","","𬺓𬺓𬺓","","𬺓𬺓𬺓",""]
["","","","𬺓𬺓𬺓","","𬺓𬺓𬺓",""]
["","","","𬺓𬺓𬺓","","𬺓𬺓𬺓",""]
["","","","𬺓𬺓𬺓","","𬺓𬺓𬺓",""]
["","","","𬺓𬺓𬺓","","𬺓𬺓𬺓",""]
["","","","𬺓𬺓𬺓","","𬺓𬺓𬺓",""]
["","","","𬺓𬺓𬺓","","𬺓𬺓𬺓",""]
["","","","𬺓𬺓𬺓","","𬺓𬺓𬺓",""]
["","","","𬺓𬺓𬺓","","𬺓𬺓𬺓",""]
["","","","𬺓𬺓𬺓","","𬺓𬺓𬺓",""]
["","","","𬺓𬺓𬺓","","𬺓𬺓𬺓",""]
["","","","𬺓𬺓𬺓","","𬺓𬺓𬺓",""]
["","","","𬺓𬺓𬺓","","𬺓𬺓𬺓",""]
["","","","𬺓𬺓𬺓","","𬺓𬺓𬺓",""]
["","","","𬺓𬺓𬺓","","𬺓𬺓𬺓",""]
["","","","𬺓𬺓𬺓","","𬺓𬺓𬺓",""]
["","","","𬺓𬺓𬺓","","𬺓𬺓𬺓",""]
["","","","𬺓𬺓𬺓","","𬺓𬺓𬺓",""]
["","","","𬺓𬺓𬺓","","𬺓𬺓𬺓",""]
["","","","𬺓𬺓𬺓","","𬺓𬺓𬺓",""]
["","","","𬺓𬺓𬺓","","𬺓𬺓𬺓",""]
["","","","𬺓𬺓𬺓","","𬺓𬺓𬺓",""]
["","","","𬺓𬺓𬺓","","𬺓𬺓𬺓",""]
["","","","𬺓𬺓𬺓","","𬺓𬺓𬺓",""]
["","","","𬺓𬺓𬺓","","𬺓𬺓𬺓",""]
["","","","𬺓𬺓𬺓","","𬺓𬺓𬺓",""]
["","","","𬺓𬺓𬺓","","𬺓𬺓𬺓",""]
["","","","𬺓𬺓𬺓","","𬺓𬺓𬺓",""]
["","","","𬺓𬺓𬺓","","𬺓𬺓𬺓",""]
["","","","𬺓𬺓𬺓","","𬺓𬺓𬺓",""]
["","","","𬺓𬺓𬺓","","𬺓𬺓𬺓",""]
["","","","𬺓𬺓𬺓","","𬺓𬺓𬺓",""]
["","","","𬺓𬺓𬺓","","𬺓𬺓𬺓",""]
["","","","𬺓𬺓𬺓","","𬺓𬺓𬺓",""]
["","","","𬺓𬺓𬺓","","𬺓𬺓𬺓",""]
["","","","𬺓𬺓𬺓","","𬺓𬺓𬺓",""]
["","","","𬺓𬺓𬺓","","𬺓𬺓𬺓",""]
["","","","𬺓𬺓𬺓","","𬺓𬺓𬺓",""]
["","","","𬺓𬺓𬺓","","𬺓𬺓𬺓",""]
["","","","𬺓𬺓𬺓","","𬺓𬺓𬺓",""]
["","","","𬺓𬺓𬺓","","𬺓𬺓𬺓",""]
["","","","𬺓𬺓𬺓","","𬺓𬺓𬺓",""]
["","","","𬺓𬺓𬺓","","𬺓𬺓𬺓",""]
["","","","𬺓𬺓𬺓","","𬺓𬺓𬺓",""]
["","","","𬺓𬺓𬺓","","𬺓𬺓𬺓",""]
["","","","𬺓𬺓𬺓","","𬺓𬺓𬺓",""]
["","","","𬺓𬺓𬺓","","𬺓𬺓𬺓",""]
["","","","𬺓𬺓𬺓","","𬺓𬺓𬺓",""]
["","","","𬺓𬺓𬺓","","𬺓𬺓𬺓",""]
["","","","𬺓𬺓𬺓","","𬺓𬺓𬺓",""]
["","","","𬺓𬺓𬺓","","𬺓𬺓𬺓",""]
["","","","𬺓𬺓𬺓","","𬺓𬺓𬺓",""]
["","","","𬺓𬺓𬺓","","𬺓𬺓𬺓",""]
["","","","𬺓𬺓𬺓","","𬺓𬺓𬺓",""]
["","","","𬺓𬺓𬺓","","𬺓𬺓𬺓",""]
["","","","𬺓𬺓𬺓","","𬺓𬺓𬺓",""]
["","","","𬺓𬺓𬺓","","𬺓𬺓𬺓",""]
["","","","𬺓𬺓𬺓","","𬺓𬺓𬺓",""]
["","","","𬺓𬺓𬺓","","𬺓𬺓𬺓",""]
["","","","𬺓𬺓𬺓","","𬺓𬺓𬺓",""]
["","","","𬺓𬺓𬺓","","𬺓𬺓𬺓",""]
["","","","𬺓𬺓𬺓","","𬺓𬺓𬺓",""]
["","","","𬺓𬺓𬺓","","𬺓𬺓𬺓",""]
["","","","𬺓𬺓𬺓","","𬺓𬺓𬺓",""]
["","","","𬺓𬺓𬺓","","𬺓𬺓𬺓",""]
["","","","𬺓𬺓𬺓","","𬺓𬺓𬺓",""]
["","","","𬺓𬺓𬺓","","𬺓𬺓𬺓",""]
["","","","𬺓𬺓𬺓","","𬺓𬺓𬺓",""]
["","","","𬺓𬺓𬺓","","𬺓𬺓𬺓",""]
["","","","𬺓𬺓𬺓","","𬺓𬺓𬺓",""]
["","","","𬺓𬺓𬺓","","𬺓𬺓𬺓",""]
["","","","𬺓𬺓𬺓","","𬺓𬺓𬺓",""]
["","","","𬺓𬺓𬺓","","𬺓𬺓𬺓",""]
["","","","𬺓𬺓𬺓","","𬺓𬺓𬺓",""]
["","","","𬺓𬺓𬺓","","𬺓𬺓𬺓",""]
["","","","𬺓𬺓𬺓","","𬺓𬺓𬺓",""]
["","","","𬺓𬺓𬺓","","𬺓𬺓𬺓",""]
["","","","𬺓𬺓𬺓","","𬺓𬺓𬺓",""]
["","","","𬺓𬺓𬺓","","𬺓𬺓𬺓",""]
["","","","𬺓𬺓𬺓","","𬺓𬺓𬺓",""]
["","","","𬺓𬺓𬺓","","𬺓𬺓𬺓",""]
["","","","𬺓𬺓𬺓","","𬺓𬺓𬺓",""]
["","","","𬺓𬺓𬺓","","𬺓𬺓𬺓",""]
["","","","𬺓𬺓𬺓","","𬺓𬺓𬺓",""]
["","","","𬺓𬺓𬺓","","𬺓𬺓𬺓",""]
["","","","𬺓𬺓𬺓","","𬺓𬺓𬺓",""]
["","","","𬺓𬺓𬺓","","𬺓𬺓𬺓",""]
["","","","𬺓𬺓𬺓","","𬺓𬺓𬺓",""]
["","","","𬺓𬺓𬺓","","𬺓𬺓𬺓",""]
["","","","𬺓𬺓𬺓","","𬺓𬺓𬺓",""]
["","","","𬺓𬺓𬺓","","𬺓𬺓𬺓",""]
["","","","𬺓𬺓𬺓","","𬺓𬺓𬺓",""]
["","","","𬺓𬺓𬺓","","𬺓𬺓𬺓",""]
["","","","𬺓𬺓𬺓","","𬺓𬺓𬺓",""]
["","","","𬺓𬺓𬺓","","𬺓𬺓𬺓",""]
["","","","𬺓𬺓𬺓","","𬺓𬺓𬺓",""]
["","","","𬺓𬺓𬺓","","𬺓𬺓𬺓",""]
["","","","𬺓𬺓𬺓","","𬺓𬺓𬺓",""]
["","","","𬺓𬺓𬺓","","𬺓𬺓𬺓",""]
["","","","𬺓𬺓𬺓","","𬺓𬺓𬺓",""]
["","","","𬺓𬺓𬺓","","𬺓𬺓𬺓",""]
["","","","𬺓𬺓𬺓","","𬺓𬺓𬺓",""]
["","","","𬺓𬺓𬺓","","𬺓𬺓𬺓",""]
["","","","𬺓𬺓𬺓","","𬺓𬺓𬺓",""]
["","","","𬺓𬺓𬺓","","𬺓𬺓𬺓",""]
["","","","𬺓𬺓𬺓","","𬺓𬺓𬺓",""]
["","","","𬺓𬺓𬺓","","𬺓𬺓𬺓",""]
["","","","𬺓𬺓𬺓","","𬺓𬺓𬺓",""]
["","","","𬺓𬺓𬺓","","𬺓𬺓𬺓",""]
["","","","𬺓𬺓𬺓","","𬺓𬺓𬺓",""]
["","","","𬺓𬺓𬺓","","𬺓𬺓𬺓",""]
["","","","𬺓𬺓𬺓","","𬺓𬺓𬺓",""]
["","","","𬺓𬺓𬺓","","𬺓𬺓𬺓",""]
["","","","𬺓𬺓𬺓","","𬺓𬺓𬺓",""]
["","","","𬺓𬺓𬺓","","𬺓𬺓𬺓",""]
["","","","𬺓𬺓𬺓","","𬺓𬺓𬺓",""]
["","","","𬺓𬺓𬺓","","𬺓𬺓𬺓",""]
["","","","𬺓𬺓𬺓","","𬺓𬺓𬺓",""]
["","","","𬺓𬺓𬺓","","𬺓𬺓𬺓",""]
["","","","𬺓𬺓𬺓","","𬺓𬺓𬺓",""]
["","","","𬺓𬺓𬺓","","𬺓𬺓𬺓",""]
["","","","𬺓𬺓𬺓","","𬺓𬺓𬺓",""]
["","","","𬺓𬺓𬺓","","𬺓𬺓𬺓",""]
["","","","𬺓𬺓𬺓","","𬺓𬺓𬺓",""]
["","","","𬺓𬺓𬺓","","𬺓𬺓𬺓",""]
["","","","𬺓𬺓𬺓","","𬺓𬺓𬺓",""]
["","","","𬺓𬺓𬺓","","𬺓𬺓𬺓",""]
["","","","𬺓𬺓𬺓","","𬺓𬺓𬺓",""]
["","","","𬺓𬺓𬺓","","𬺓𬺓𬺓",""]
["","","","𬺓𬺓𬺓","","𬺓𬺓𬺓",""]
["","","","𬺓𬺓𬺓","","𬺓𬺓𬺓",""]
["","","","𬺓𬺓𬺓","","𬺓𬺓𬺓",""]
["","","","𬺓𬺓𬺓","","𬺓𬺓𬺓",""]
["","","","𬺓𬺓𬺓","","𬺓𬺓𬺓",""]
["","","","𬺓𬺓𬺓","","𬺓𬺓𬺓",""]
["","","","𬺓𬺓𬺓","","𬺓𬺓𬺓",""]
["","","","𬺓𬺓𬺓","","𬺓𬺓𬺓",""]
["","","","𬺓𬺓𬺓","","𬺓𬺓𬺓",""]
["","","","𬺓𬺓𬺓","","𬺓𬺓𬺓",""]
["","","","𬺓𬺓𬺓","","𬺓𬺓𬺓",""]
["","","","𬺓𬺓𬺓","","𬺓𬺓𬺓",""]
["","","","𬺓𬺓𬺓","","𬺓𬺓𬺓",""]
["","","","𬺓𬺓𬺓","","𬺓𬺓𬺓",""]
["","","","𬺓𬺓𬺓","","𬺓𬺓𬺓",""]
["","","","𬺓𬺓𬺓","","𬺓𬺓𬺓",""]
["","","","𬺓𬺓𬺓","","𬺓𬺓𬺓",""]
["","","","𬺓𬺓𬺓","","𬺓𬺓𬺓",""]
["","","","𬺓𬺓𬺓","","𬺓𬺓𬺓",""]
["","","","𬺓𬺓𬺓","","𬺓𬺓𬺓",""]
["","","","𬺓𬺓𬺓","","𬺓𬺓𬺓",""]
["","","","𬺓𬺓𬺓","","𬺓𬺓𬺓",""]
["","","","𬺓𬺓𬺓","","𬺓𬺓𬺓",""]
["","","","𬺓𬺓𬺓","","𬺓𬺓𬺓",""]
["","","","𬺓𬺓𬺓","","𬺓𬺓𬺓",""]
["","","","𬺓𬺓𬺓","","𬺓𬺓𬺓",""]
["","","","𬺓𬺓𬺓","","𬺓𬺓𬺓",""]
["","","","𬺓𬺓𬺓","","𬺓𬺓𬺓",""]
["","","","𬺓𬺓𬺓","","𬺓𬺓𬺓",""]
["","","","𬺓𬺓𬺓","","𬺓𬺓𬺓",""]
["","","","𬺓𬺓𬺓","","𬺓𬺓𬺓",""]
["","","","𬺓𬺓𬺓","","𬺓𬺓𬺓",""]
["","","","𬺓𬺓𬺓","","𬺓𬺓𬺓",""]
["","","","𬺓𬺓𬺓","","𬺓𬺓𬺓",""]
["","","","𬺓𬺓𬺓","","𬺓𬺓𬺓",""]
["","","","𬺓𬺓𬺓","","𬺓𬺓𬺓",""]
["","","","𬺓𬺓𬺓","","𬺓𬺓𬺓",""]
["","","","𬺓𬺓𬺓","","𬺓𬺓𬺓",""]
["","","","𬺓𬺓𬺓","","𬺓𬺓𬺓",""]
["","","","𬺓𬺓𬺓","","𬺓𬺓𬺓",""]
["","","","𬺓𬺓𬺓","","𬺓𬺓𬺓",""]
["","","","𬺓𬺓𬺓","","𬺓𬺓𬺓",""]
["","","","𬺓𬺓𬺓","","𬺓𬺓𬺓",""]
["","","","𬺓𬺓𬺓","","𬺓𬺓𬺓",""]
["","","","𬺓𬺓𬺓","","𬺓𬺓𬺓",""]
["","","","𬺓𬺓𬺓","","𬺓𬺓𬺓",""]
["","","","𬺓𬺓𬺓","","𬺓𬺓𬺓",""]
["","","","𬺓𬺓𬺓","","𬺓𬺓𬺓",""]
["","","","𬺓𬺓𬺓","","𬺓𬺓𬺓",""]
["","","","𬺓𬺓𬺓","","𬺓𬺓𬺓",""]
["","","","𬺓𬺓𬺓","","𬺓𬺓𬺓",""]
["","","","𬺓𬺓𬺓","","𬺓𬺓𬺓",""]
["","","","𬺓𬺓𬺓","","𬺓𬺓𬺓",""]
["","","","𬺓𬺓𬺓","","𬺓𬺓𬺓",""]
["","","","𬺓𬺓𬺓","","𬺓𬺓𬺓",""]
["","","","𬺓𬺓𬺓","","𬺓𬺓𬺓",""]
["","","","𬺓𬺓𬺓","","𬺓𬺓𬺓",""]
["","","","𬺓𬺓𬺓","","𬺓𬺓𬺓",""]
["","","","𬺓𬺓𬺓","","𬺓𬺓𬺓",""]
["","","","𬺓𬺓𬺓","","𬺓𬺓𬺓",""]
["","","","𬺓𬺓𬺓","","𬺓𬺓𬺓",""]
["","","","𬺓𬺓𬺓","","𬺓𬺓𬺓",""]
["","","","𬺓𬺓𬺓","","𬺓𬺓𬺓",""]
["","","","𬺓𬺓𬺓","","𬺓𬺓𬺓",""]
["","","","𬺓𬺓𬺓","","𬺓𬺓𬺓",""]
["","","","𬺓𬺓𬺓","","𬺓𬺓𬺓",""]
["","","","𬺓𬺓𬺓","","𬺓𬺓𬺓",""]
["","","","𬺓𬺓𬺓","","𬺓𬺓𬺓",""]
["","","","𬺓𬺓𬺓","","𬺓𬺓𬺓",""]
["","","","𬺓𬺓𬺓","","𬺓𬺓𬺓",""]
["","","","𬺓𬺓𬺓","","𬺓𬺓𬺓",""]
["","","","𬺓𬺓𬺓","","𬺓𬺓𬺓",""]
["","","","𬺓𬺓𬺓","","𬺓𬺓𬺓",""]
["","","","𬺓𬺓𬺓","","𬺓𬺓𬺓",""]
["","","","𬺓𬺓𬺓","","𬺓𬺓𬺓",""]
["","","","𬺓𬺓𬺓","","𬺓𬺓𬺓",""]
["","","","𬺓𬺓𬺓","","𬺓𬺓𬺓",""]
["","","","𬺓𬺓𬺓","","𬺓𬺓𬺓",""]
["","","","𬺓𬺓𬺓","","𬺓𬺓𬺓",""]
["","","","𬺓𬺓𬺓","","𬺓𬺓𬺓",""]
["","","","𬺓𬺓𬺓","","𬺓𬺓𬺓",""]
["","","","𬺓𬺓𬺓","","𬺓𬺓𬺓",""]
["","","","𬺓𬺓𬺓","","𬺓𬺓𬺓",""]
["","","","𬺓𬺓𬺓","","𬺓𬺓𬺓",""]
["","","","𬺓𬺓𬺓","","𬺓𬺓𬺓",""]
["","","","𬺓𬺓𬺓","","𬺓𬺓𬺓",""]
["","","","𬺓𬺓𬺓","","𬺓𬺓𬺓",""]
["","","","𬺓𬺓𬺓","","𬺓𬺓𬺓",""]
["","","","𬺓𬺓𬺓","","𬺓𬺓𬺓",""]
["","","","𬺓𬺓𬺓","","𬺓𬺓𬺓",""]
["","","","𬺓𬺓𬺓","","𬺓𬺓𬺓",""]
["","","","𬺓𬺓𬺓","","𬺓𬺓𬺓",""]
["","","","𬺓𬺓𬺓","","𬺓𬺓𬺓",""]
["","","","𬺓𬺓𬺓","","𬺓𬺓𬺓",""]
["","","","𬺓𬺓𬺓","","𬺓𬺓𬺓",""]
["","","","𬺓𬺓𬺓","","𬺓𬺓𬺓",""]
["","","","𬺓𬺓𬺓","","𬺓𬺓𬺓",""]
["","","","𬺓𬺓𬺓","","𬺓𬺓𬺓",""]
["","","","𬺓𬺓𬺓","","𬺓𬺓𬺓",""]
["","","","𬺓𬺓𬺓","","𬺓𬺓𬺓",""]
["","","","𬺓𬺓𬺓","","𬺓𬺓𬺓",""]
["","","","𬺓𬺓𬺓","","𬺓𬺓𬺓",""]
["","","","𬺓𬺓𬺓","","𬺓𬺓𬺓",""]
["","","","𬺓𬺓𬺓","","𬺓𬺓𬺓",""]
["","","","𬺓𬺓𬺓","","𬺓𬺓𬺓",""]
["","","","𬺓𬺓𬺓","","𬺓𬺓𬺓",""]
["","","","𬺓𬺓𬺓","","𬺓𬺓𬺓",""]
["","","","𬺓𬺓𬺓","","𬺓𬺓𬺓",""]
["","","","𬺓𬺓𬺓","","𬺓𬺓𬺓",""]
["","","","𬺓𬺓𬺓","","𬺓𬺓𬺓",""]
["","","","𬺓𬺓𬺓","","𬺓𬺓𬺓",""]
["","","","𬺓𬺓𬺓","","𬺓𬺓𬺓",""]
["","","","𬺓𬺓𬺓","","𬺓𬺓𬺓",""]
["","","","𬺓𬺓𬺓","","𬺓𬺓𬺓",""]
["","","","𬺓𬺓𬺓","","𬺓𬺓𬺓",""]
["","","","𬺓𬺓𬺓","","𬺓𬺓𬺓",""]
["","","","𬺓𬺓𬺓","","𬺓𬺓𬺓",""]
["","","","𬺓𬺓𬺓","","𬺓𬺓𬺓",""]
["","","","𬺓𬺓𬺓","","𬺓𬺓𬺓",""]
["","","","𬺓𬺓𬺓","","𬺓𬺓𬺓",""]
["","","","𬺓𬺓𬺓","","𬺓𬺓𬺓",""]
["","","","𬺓𬺓𬺓","","𬺓𬺓𬺓",""]
["","","","𬺓𬺓𬺓","","𬺓𬺓𬺓",""]
["","","","𬺓𬺓𬺓","","𬺓𬺓𬺓",""]
["","","","𬺓𬺓𬺓","","𬺓𬺓𬺓",""]
["","","","𬺓𬺓𬺓","","𬺓𬺓𬺓",""]
["","","","𬺓𬺓𬺓","","𬺓𬺓𬺓",""]
["","","","𬺓𬺓𬺓","","𬺓𬺓𬺓",""]
["","","","𬺓𬺓𬺓","","𬺓𬺓𬺓",""]
["","","","𬺓𬺓𬺓","","𬺓𬺓𬺓",""]
["","","","𬺓𬺓𬺓","","𬺓𬺓𬺓",""]
["","","","𬺓𬺓𬺓","","𬺓𬺓𬺓",""]
["","","","𬺓𬺓𬺓","","𬺓𬺓𬺓",""]
["","","","𬺓𬺓𬺓","","𬺓𬺓𬺓",""]
["","","","𬺓𬺓𬺓","","𬺓𬺓𬺓",""]
["","","","𬺓𬺓𬺓","","𬺓𬺓𬺓",""]
["","","","𬺓𬺓𬺓","","𬺓𬺓𬺓",""]
["","","","𬺓𬺓𬺓","","𬺓𬺓𬺓",""]
["","","","𬺓𬺓𬺓","","𬺓𬺓𬺓",""]
["","","","𬺓𬺓𬺓","","𬺓𬺓𬺓",""]
["","","","𬺓𬺓𬺓","","𬺓𬺓𬺓",""]
["","","","𬺓𬺓𬺓","","𬺓𬺓𬺓",""]
["","","","𬺓𬺓𬺓","","𬺓𬺓𬺓",""]
["","","","𬺓𬺓𬺓","","𬺓𬺓𬺓",""]
["","","","𬺓𬺓𬺓","","𬺓𬺓𬺓",""]
["","","","𬺓𬺓𬺓","","𬺓𬺓𬺓",""]
["","","","𬺓𬺓𬺓","","𬺓𬺓𬺓",""]
["","","","𬺓𬺓𬺓","","𬺓𬺓𬺓",""]
["","","","𬺓𬺓𬺓","","𬺓𬺓𬺓",""]
["","","","𬺓𬺓𬺓","","𬺓𬺓𬺓",""]
["","","","𬺓𬺓𬺓","","𬺓𬺓𬺓",""]
["","","","𬺓𬺓𬺓","","𬺓𬺓𬺓",""]
["","","","𬺓𬺓𬺓","","𬺓𬺓𬺓",""]
["","","","𬺓𬺓𬺓","","𬺓𬺓𬺓",""]
["","","","𬺓𬺓𬺓","","𬺓𬺓𬺓",""]
["","","","𬺓𬺓𬺓","","𬺓𬺓𬺓",""]
["","","","𬺓𬺓𬺓","","𬺓𬺓𬺓",""]
["","","","𬺓𬺓𬺓","","𬺓𬺓𬺓",""]
["","","","𬺓𬺓𬺓","","𬺓𬺓𬺓",""]
["","","","𬺓𬺓𬺓","","𬺓𬺓𬺓",""]
["","","","𬺓𬺓𬺓","","𬺓𬺓𬺓",""]
["","","","𬺓𬺓𬺓","","𬺓𬺓𬺓",""]
["","","","𬺓𬺓𬺓","","𬺓𬺓𬺓",""]
["","","","𬺓𬺓𬺓","","𬺓𬺓𬺓",""]
["","","","𬺓𬺓𬺓","","𬺓𬺓𬺓",""]
["","","","𬺓𬺓𬺓","","𬺓𬺓𬺓",""]
["","","","𬺓𬺓𬺓","","𬺓𬺓𬺓",""]
["","","","𬺓𬺓𬺓","","𬺓𬺓𬺓",""]
["","","","𬺓𬺓𬺓","","𬺓𬺓𬺓",""]
["","","","𬺓𬺓𬺓","","𬺓𬺓𬺓",""]
["","","","𬺓𬺓𬺓","","𬺓𬺓𬺓",""]
["","","","𬺓𬺓𬺓","","𬺓𬺓𬺓",""]
["","","","𬺓𬺓𬺓","","𬺓𬺓𬺓",""]
["","","","𬺓𬺓𬺓","","𬺓𬺓𬺓",""]
["","","","𬺓𬺓𬺓","","𬺓𬺓𬺓",""]
["","","","𬺓𬺓𬺓","","𬺓𬺓𬺓",""]
["","","","𬺓𬺓𬺓","","𬺓𬺓𬺓",""]
["","","","𬺓𬺓𬺓","","𬺓𬺓𬺓",""]
["","","","𬺓𬺓𬺓","","𬺓𬺓𬺓",""]
["","","","𬺓𬺓𬺓","","𬺓𬺓𬺓",""]
["","","","𬺓𬺓𬺓","","𬺓𬺓𬺓",""]
["","","","𬺓𬺓𬺓","","𬺓𬺓𬺓",""]
["","","","𬺓𬺓𬺓","","𬺓𬺓𬺓",""]
["","","","𬺓𬺓𬺓","","𬺓𬺓𬺓",""]
["","","","𬺓𬺓𬺓","","𬺓𬺓𬺓",""]
["","","","𬺓𬺓𬺓","","𬺓𬺓𬺓",""]
["","","","𬺓𬺓𬺓","","𬺓𬺓𬺓",""]
["","","","𬺓𬺓𬺓","","𬺓𬺓𬺓",""]
["","","","𬺓𬺓𬺓","","𬺓𬺓𬺓",""]
["","","","𬺓𬺓𬺓","","𬺓𬺓𬺓",""]
["","","","𬺓𬺓𬺓","","𬺓𬺓𬺓",""]
["","","","𬺓𬺓𬺓","","𬺓𬺓𬺓",""]
["","","","𬺓𬺓𬺓","","𬺓𬺓𬺓",""]
["","","","𬺓𬺓𬺓","","𬺓𬺓𬺓",""]
["","","","𬺓𬺓𬺓","","𬺓𬺓𬺓",""]
["","","","𬺓𬺓𬺓","","𬺓𬺓𬺓",""]
["","","","𬺓𬺓𬺓","","𬺓𬺓𬺓",""]
["","","","𬺓𬺓𬺓","","𬺓𬺓𬺓",""]
["","","","𬺓𬺓𬺓","","𬺓𬺓𬺓",""]
["","","","𬺓𬺓𬺓","","𬺓𬺓𬺓",""]
["","","","𬺓𬺓𬺓","","𬺓𬺓𬺓",""]
["","","","𬺓𬺓𬺓","","𬺓𬺓𬺓",""]
["","","","𬺓𬺓𬺓","","𬺓𬺓𬺓",""]
["","","","𬺓𬺓𬺓","","𬺓𬺓𬺓",""]
["","","","𬺓𬺓𬺓","","𬺓𬺓𬺓",""]
["","","","𬺓𬺓𬺓","","𬺓𬺓𬺓",""]
["","","","𬺓𬺓𬺓","","𬺓𬺓𬺓",""]
["","","","𬺓𬺓𬺓","","𬺓𬺓𬺓",""]
["","","","𬺓𬺓𬺓","","𬺓𬺓𬺓",""]
["","","","𬺓𬺓𬺓","","𬺓𬺓𬺓",""]
["","","","𬺓𬺓𬺓","","𬺓𬺓𬺓",""]
["","","","𬺓𬺓𬺓","","𬺓𬺓𬺓",""]
["","","","𬺓𬺓𬺓","","𬺓𬺓𬺓",""]
["","","","𬺓𬺓𬺓","","𬺓𬺓𬺓",""]
["","","","𬺓𬺓𬺓","","𬺓𬺓𬺓",""]
["","","","𬺓𬺓𬺓","","𬺓𬺓𬺓",""]
["","","","𬺓𬺓𬺓","","𬺓𬺓𬺓",""]
["","","","𬺓𬺓𬺓","","𬺓𬺓𬺓",""]
["","","","𬺓𬺓𬺓","","𬺓𬺓𬺓",""]
["","","","𬺓𬺓𬺓","","𬺓𬺓𬺓",""]
["","","","𬺓𬺓𬺓","","𬺓𬺓𬺓",""]
["","","","𬺓𬺓𬺓","","𬺓𬺓𬺓",""]
["","","","𬺓𬺓𬺓","","𬺓𬺓𬺓",""]
["","","","𬺓𬺓𬺓","","𬺓𬺓𬺓",""]
["","","","𬺓𬺓𬺓","","𬺓𬺓𬺓",""]
["","","","𬺓𬺓𬺓","","𬺓𬺓𬺓",""]
["","","","𬺓𬺓𬺓","","𬺓𬺓𬺓",""]
["","","","𬺓𬺓𬺓","","𬺓𬺓𬺓",""]
["","","","𬺓𬺓𬺓","","𬺓𬺓𬺓",""]
["","","","𬺓𬺓𬺓","","𬺓𬺓𬺓",""]
["","","","𬺓𬺓𬺓","","𬺓𬺓𬺓",""]
["","","","𬺓𬺓𬺓","","𬺓𬺓𬺓",""]
["","","","𬺓𬺓𬺓","","𬺓𬺓𬺓",""]
["","","","𬺓𬺓𬺓","","𬺓𬺓𬺓",""]
["","","","𬺓𬺓𬺓","","𬺓𬺓𬺓",""]
["","","","𬺓𬺓𬺓","","𬺓𬺓𬺓",""]
["","","","𬺓𬺓𬺓","","𬺓𬺓𬺓",""]
["","","","𬺓𬺓𬺓","","𬺓𬺓𬺓",""]
["","","","𬺓𬺓𬺓","","𬺓𬺓𬺓",""]
["","","","𬺓𬺓𬺓","","𬺓𬺓𬺓",""]
["","","","𬺓𬺓𬺓","","𬺓𬺓𬺓",""]
["","","","𬺓𬺓𬺓","","𬺓𬺓𬺓",""]
["","","","𬺓𬺓𬺓","","𬺓𬺓𬺓",""]
["","","","𬺓𬺓𬺓","","𬺓𬺓𬺓",""]
["","","","𬺓𬺓𬺓","","𬺓𬺓𬺓",""]
["","","","𬺓𬺓𬺓","","𬺓𬺓𬺓",""]
["","","","𬺓𬺓𬺓","","𬺓𬺓𬺓",""]
["","","","𬺓𬺓𬺓","","𬺓𬺓𬺓",""]
["","","","𬺓𬺓𬺓","","𬺓𬺓𬺓",""]
["","","","𬺓𬺓𬺓","","𬺓𬺓𬺓",""]
["","","","𬺓𬺓𬺓","","𬺓𬺓𬺓",""]
["","","","𬺓𬺓𬺓","","𬺓𬺓𬺓",""]
["","","","𬺓𬺓𬺓","","𬺓𬺓𬺓",""]
["","","","𬺓𬺓𬺓","","𬺓𬺓𬺓",""]
["","","","𬺓𬺓𬺓","","𬺓𬺓𬺓",""]
["","","","𬺓𬺓𬺓","","𬺓𬺓𬺓",""]
["","","","𬺓𬺓𬺓","","𬺓𬺓𬺓",""]
["","","","𬺓𬺓𬺓","","𬺓𬺓𬺓",""]
["","","","𬺓𬺓𬺓","","𬺓𬺓𬺓",""]
["","","","𬺓𬺓𬺓","","𬺓𬺓𬺓",""]
["","","","𬺓𬺓𬺓","","𬺓𬺓𬺓",""]
["","","","𬺓𬺓𬺓","","𬺓𬺓𬺓",""]
["","","","𬺓𬺓𬺓","","𬺓𬺓𬺓",""]
["","","","𬺓𬺓𬺓","","𬺓𬺓𬺓",""]
["","","","𬺓𬺓𬺓","","𬺓𬺓𬺓",""]
["","","","𬺓𬺓𬺓","","𬺓𬺓𬺓",""]
["","","","𬺓𬺓𬺓","","𬺓𬺓𬺓",""]
["","","","𬺓𬺓𬺓","","𬺓𬺓𬺓",""]
["","","","𬺓𬺓𬺓","","𬺓𬺓𬺓",""]
["","","","𬺓𬺓𬺓","","𬺓𬺓𬺓",""]
["","","","𬺓𬺓𬺓","","𬺓𬺓𬺓",""]
["","","","𬺓𬺓𬺓","","𬺓𬺓𬺓",""]
["","","","𬺓𬺓𬺓","","𬺓𬺓𬺓",""]
["","","","𬺓𬺓𬺓","","𬺓𬺓𬺓",""]
["","","","𬺓𬺓𬺓","","𬺓𬺓𬺓",""]
["","","","𬺓𬺓𬺓","","𬺓𬺓𬺓",""]
["","","","𬺓𬺓𬺓","","𬺓𬺓𬺓",""]
["","","","𬺓𬺓𬺓","","𬺓𬺓𬺓",""]
["","","","𬺓𬺓𬺓","","𬺓𬺓𬺓",""]
["","","","𬺓𬺓𬺓","","𬺓𬺓𬺓",""]
["","","","𬺓𬺓𬺓","","𬺓𬺓𬺓",""]
["","","","𬺓𬺓𬺓","","𬺓𬺓𬺓",""]
["","","","𬺓𬺓𬺓","","𬺓𬺓𬺓",""]
["","","","𬺓𬺓𬺓","","𬺓𬺓𬺓",""]
["","","","𬺓𬺓𬺓","","𬺓𬺓𬺓",""]
["","","","𬺓𬺓𬺓","","𬺓𬺓𬺓",""]
["","","","𬺓𬺓𬺓","","𬺓𬺓𬺓",""]
["","","","𬺓𬺓𬺓","","𬺓𬺓𬺓",""]
["","","","𬺓𬺓𬺓","","𬺓𬺓𬺓",""]
["","","","𬺓𬺓𬺓","","𬺓𬺓𬺓",""]
["","","","𬺓𬺓𬺓","","𬺓𬺓𬺓",""]
["","","","𬺓𬺓𬺓","","𬺓𬺓𬺓",""]
["","","","𬺓𬺓𬺓","","𬺓𬺓𬺓",""]
["","","","𬺓𬺓𬺓","","𬺓𬺓𬺓",""]
["","","","𬺓𬺓𬺓","","𬺓𬺓𬺓",""]
["","","","𬺓𬺓𬺓","","𬺓𬺓𬺓",""]
["","","","𬺓𬺓𬺓","","𬺓𬺓𬺓",""]
["","","","𬺓𬺓𬺓","","𬺓𬺓𬺓",""]
["","","","𬺓𬺓𬺓","","𬺓𬺓𬺓",""]
["","","","𬺓𬺓𬺓","","𬺓𬺓𬺓",""]
["","","","𬺓𬺓𬺓","","𬺓𬺓𬺓",""]
["","","","𬺓𬺓𬺓","","𬺓𬺓𬺓",""]
["","","","𬺓𬺓𬺓","","𬺓𬺓𬺓",""]
["","","","𬺓𬺓𬺓","","𬺓𬺓𬺓",""]
["","","","𬺓𬺓𬺓","","𬺓𬺓𬺓",""]
["","","","𬺓𬺓𬺓","","𬺓𬺓𬺓",""]
["","","","𬺓𬺓𬺓","","𬺓𬺓𬺓",""]
["","","","𬺓𬺓𬺓","","𬺓𬺓𬺓",""]
["","","","𬺓𬺓𬺓","","𬺓𬺓𬺓",""]
["","","","𬺓𬺓𬺓","","𬺓𬺓𬺓",""]
["","","","𬺓𬺓𬺓","","𬺓𬺓𬺓",""]
["","","","𬺓𬺓𬺓","","𬺓𬺓𬺓",""]
["","","","𬺓𬺓𬺓","","𬺓𬺓𬺓",""]
["","","","𬺓𬺓𬺓","","𬺓𬺓𬺓",""]
["","","","𬺓𬺓𬺓","","𬺓𬺓𬺓",""]
["","","","𬺓𬺓𬺓","","𬺓𬺓𬺓",""]
["","","","𬺓𬺓𬺓","","𬺓𬺓𬺓",""]
["","","","𬺓𬺓𬺓","","𬺓𬺓𬺓",""]
["","","","𬺓𬺓𬺓","","𬺓𬺓𬺓",""]
["","","","𬺓𬺓𬺓","","𬺓𬺓𬺓",""]
["","","","𬺓𬺓𬺓","","𬺓𬺓𬺓",""]
["","","","𬺓𬺓𬺓","","𬺓𬺓𬺓",""]
["","","","𬺓𬺓𬺓","","𬺓𬺓𬺓",""]
["","","","𬺓𬺓𬺓","","𬺓𬺓𬺓",""]
["","","","𬺓𬺓𬺓","","𬺓𬺓𬺓",""]
["","","","𬺓𬺓𬺓","","𬺓𬺓𬺓",""]
["","","","𬺓𬺓𬺓","","𬺓𬺓𬺓",""]
["","","","𬺓𬺓𬺓","","𬺓𬺓𬺓",""]
["","","","𬺓𬺓𬺓","","𬺓𬺓𬺓",""]
["","","","𬺓𬺓𬺓","","𬺓𬺓𬺓",""]
["","","","𬺓𬺓𬺓","","𬺓𬺓𬺓",""]
["","","","𬺓𬺓𬺓","","𬺓𬺓𬺓",""]
["","","","𬺓𬺓𬺓","","𬺓𬺓𬺓",""]
["","","","𬺓𬺓𬺓","","𬺓𬺓𬺓",""]
["","","","𬺓𬺓𬺓","","𬺓𬺓𬺓",""]
["","","","𬺓𬺓𬺓","","𬺓𬺓𬺓",""]
["","","","𬺓𬺓𬺓","","𬺓𬺓𬺓",""]
["","","","𬺓𬺓𬺓","","𬺓𬺓𬺓",""]
["","","","𬺓𬺓𬺓","","𬺓𬺓𬺓",""]
["","","","𬺓𬺓𬺓","","𬺓𬺓𬺓",""]
["","","","𬺓𬺓𬺓","","𬺓𬺓𬺓",""]
["","","","𬺓𬺓𬺓","","𬺓𬺓𬺓",""]
["","","","𬺓𬺓𬺓","","𬺓𬺓𬺓",""]
["","","","𬺓𬺓𬺓","","𬺓𬺓𬺓",""]
["","","","𬺓𬺓𬺓","","𬺓𬺓𬺓",""]
["","","","𬺓𬺓𬺓","","𬺓𬺓𬺓",""]
["","","","𬺓𬺓𬺓","","𬺓𬺓𬺓",""]
["","","","𬺓𬺓𬺓","","𬺓𬺓𬺓",""]
["","","","𬺓𬺓𬺓","","𬺓𬺓𬺓",""]
["","","","𬺓𬺓𬺓","","𬺓𬺓𬺓",""]
["","","","𬺓𬺓𬺓","","𬺓𬺓𬺓",""]
["","","","𬺓𬺓𬺓","","𬺓𬺓𬺓",""]
["","","","𬺓𬺓𬺓","","𬺓𬺓𬺓",""]
["","","","𬺓𬺓𬺓","","𬺓𬺓𬺓",""]
["","","","𬺓𬺓𬺓","","𬺓𬺓𬺓",""]
["","","","𬺓𬺓𬺓","","𬺓𬺓𬺓",""]
["","","","𬺓𬺓𬺓","","𬺓𬺓𬺓",""]
["","","","𬺓𬺓𬺓","","𬺓𬺓𬺓",""]
["","","","𬺓𬺓𬺓","","𬺓𬺓𬺓",""]
["","","","𬺓𬺓𬺓","","𬺓𬺓𬺓",""]
["","","","𬺓𬺓𬺓","","𬺓𬺓𬺓",""]
["","","","𬺓𬺓𬺓","","𬺓𬺓𬺓",""]
["","","","𬺓𬺓𬺓","","𬺓𬺓𬺓",""]
["","","","𬺓𬺓𬺓","","𬺓𬺓𬺓",""]
["","","","𬺓𬺓𬺓","","𬺓𬺓𬺓",""]
["","","","𬺓𬺓𬺓","","𬺓𬺓𬺓",""]
["","","","𬺓𬺓𬺓","","𬺓𬺓𬺓",""]
["","","","𬺓𬺓𬺓","","𬺓𬺓𬺓",""]
["","","","𬺓𬺓𬺓","","𬺓𬺓𬺓",""]
["","","","𬺓𬺓𬺓","","𬺓𬺓𬺓",""]
["","","","𬺓𬺓𬺓","","𬺓𬺓𬺓",""]
["","","","𬺓𬺓𬺓","","𬺓𬺓𬺓",""]
["","","","𬺓𬺓𬺓","","𬺓𬺓𬺓",""]
["","","","𬺓𬺓𬺓","","𬺓𬺓𬺓",""]
["","","","𬺓𬺓𬺓","","𬺓𬺓𬺓",""]
["","","","𬺓𬺓𬺓","","𬺓𬺓𬺓",""]
["","","","𬺓𬺓𬺓","","𬺓𬺓𬺓",""]
["","","","𬺓𬺓𬺓","","𬺓𬺓𬺓",""]
["","","","𬺓𬺓𬺓","","𬺓𬺓𬺓",""]
["","","","𬺓𬺓𬺓","","𬺓𬺓𬺓",""]
["","","","𬺓𬺓𬺓","","𬺓𬺓𬺓",""]
["","","","𬺓𬺓𬺓","","𬺓𬺓𬺓",""]
["","","","𬺓𬺓𬺓","","𬺓𬺓𬺓",""]
["","","","𬺓𬺓𬺓","","𬺓𬺓𬺓",""]
["","","","𬺓𬺓𬺓","","𬺓𬺓𬺓",""]
["","","","𬺓𬺓𬺓","","𬺓𬺓𬺓",""]
["","","","𬺓𬺓𬺓","","𬺓𬺓𬺓",""]
["","","","𬺓𬺓𬺓","","𬺓𬺓𬺓",""]
["","","","𬺓𬺓𬺓","","𬺓𬺓𬺓",""]
["","","","𬺓𬺓𬺓","","𬺓𬺓𬺓",""]
["","","","𬺓𬺓𬺓","","𬺓𬺓𬺓",""]
["","","","𬺓𬺓𬺓","","𬺓𬺓𬺓",""]
["","","","𬺓𬺓𬺓","","𬺓𬺓𬺓",""]
["","","","𬺓𬺓𬺓","","𬺓𬺓𬺓",""]
["","","","𬺓𬺓𬺓","","𬺓𬺓𬺓",""]
["","","","𬺓𬺓𬺓","","𬺓𬺓𬺓",""]
["","","","𬺓𬺓𬺓","","𬺓𬺓𬺓",""]
["","","","𬺓𬺓𬺓","","𬺓𬺓𬺓",""]
["","","","𬺓𬺓𬺓","","𬺓𬺓𬺓",""]
["","","","𬺓𬺓𬺓","","𬺓𬺓𬺓",""]
["","","","𬺓𬺓𬺓","","𬺓𬺓𬺓",""]
["","","","𬺓𬺓𬺓","","𬺓𬺓𬺓",""]
["","","","𬺓𬺓𬺓","","𬺓𬺓𬺓",""]
["","","","𬺓𬺓𬺓","","𬺓𬺓𬺓",""]
["","","","𬺓𬺓𬺓","","𬺓𬺓𬺓",""]
["","","","𬺓𬺓𬺓","","𬺓𬺓𬺓",""]
["","","","𬺓𬺓𬺓","","𬺓𬺓𬺓",""]
["","","","𬺓𬺓𬺓","","𬺓𬺓𬺓",""]
["","","","𬺓𬺓𬺓","","𬺓𬺓𬺓",""]
["","","","𬺓𬺓𬺓","","𬺓𬺓𬺓",""]
["","","","𬺓𬺓𬺓","","𬺓𬺓𬺓",""]
["","","","𬺓𬺓𬺓","","𬺓𬺓𬺓",""]
["","","","𬺓𬺓𬺓","","𬺓𬺓𬺓",""]
["","","","𬺓𬺓𬺓","","𬺓𬺓𬺓",""]
["","","","𬺓𬺓𬺓","","𬺓𬺓𬺓",""]
["","","","𬺓𬺓𬺓","","𬺓𬺓𬺓",""]
["","","","𬺓𬺓𬺓","","𬺓𬺓𬺓",""]
["","","","𬺓𬺓𬺓","","𬺓𬺓𬺓",""]
["","","","𬺓𬺓𬺓","","𬺓𬺓𬺓",""]
["","","","𬺓𬺓𬺓","","𬺓𬺓𬺓",""]
["","","","𬺓𬺓𬺓","","𬺓𬺓𬺓",""]
["","","","𬺓𬺓𬺓","","𬺓𬺓𬺓",""]
["","","","𬺓𬺓𬺓","","𬺓𬺓𬺓",""]
["","","","𬺓𬺓𬺓","","𬺓𬺓𬺓",""]
["","","","𬺓𬺓𬺓","","𬺓𬺓𬺓",""]
["","","","𬺓𬺓𬺓","","𬺓𬺓𬺓",""]
["","","","𬺓𬺓𬺓","","𬺓𬺓𬺓",""]
["","","","𬺓𬺓𬺓","","𬺓𬺓𬺓",""]
["","","","𬺓𬺓𬺓","","𬺓𬺓𬺓",""]
["","","","𬺓𬺓𬺓","","𬺓𬺓𬺓",""]
["","","","𬺓𬺓𬺓","","𬺓𬺓𬺓",""]
["","","","𬺓𬺓𬺓","","𬺓𬺓𬺓",""]
["","","","𬺓𬺓𬺓","","𬺓𬺓𬺓",""]
["","","","𬺓𬺓𬺓","","𬺓𬺓𬺓",""]
["","","","𬺓𬺓𬺓","","𬺓𬺓𬺓",""]
["","","","𬺓𬺓𬺓","","𬺓𬺓𬺓",""]
["","","","𬺓𬺓𬺓","","𬺓𬺓𬺓",""]
["","","","𬺓𬺓𬺓","","𬺓𬺓𬺓",""]
["","","","𬺓𬺓𬺓","","𬺓𬺓𬺓",""]
["","","","𬺓𬺓𬺓","","𬺓𬺓𬺓",""]
["","","","𬺓𬺓𬺓","","𬺓𬺓𬺓",""]
["","","","𬺓𬺓𬺓","","𬺓𬺓𬺓",""]
["","","","𬺓𬺓𬺓","","𬺓𬺓𬺓",""]
["","","","𬺓𬺓𬺓","","𬺓𬺓𬺓",""]
["","","","𬺓𬺓𬺓","","𬺓𬺓𬺓",""]
["","","","𬺓𬺓𬺓","","𬺓𬺓𬺓",""]
["","","","𬺓𬺓𬺓","","𬺓𬺓𬺓",""]
["","","","𬺓𬺓𬺓","","𬺓𬺓𬺓",""]
["","","","𬺓𬺓𬺓","","𬺓𬺓𬺓",""]
["","","","𬺓𬺓𬺓","","𬺓𬺓𬺓",""]
["","","","𬺓𬺓𬺓","","𬺓𬺓𬺓",""]
["","","","𬺓𬺓𬺓","","𬺓𬺓𬺓",""]
["","","","𬺓𬺓𬺓","","𬺓𬺓𬺓",""]
["","","","𬺓𬺓𬺓","","𬺓𬺓𬺓",""]
["","","","𬺓𬺓𬺓","","𬺓𬺓𬺓",""]
["","","","𬺓𬺓𬺓","","𬺓𬺓𬺓",""]
["","","","𬺓𬺓𬺓","","𬺓𬺓𬺓",""]
["","","","𬺓𬺓𬺓","","𬺓𬺓𬺓",""]
["","","","𬺓𬺓𬺓","","𬺓𬺓𬺓",""]
["","","","𬺓𬺓𬺓","","𬺓𬺓𬺓",""]
["","","","𬺓𬺓𬺓","","𬺓𬺓𬺓",""]
["","","","𬺓𬺓𬺓","","𬺓𬺓𬺓",""]
["","","","𬺓𬺓𬺓","","𬺓𬺓𬺓",""]
["","","","𬺓𬺓𬺓","","𬺓𬺓𬺓",""]
["","","","𬺓𬺓𬺓","","𬺓𬺓𬺓",""]
["","","","𬺓𬺓𬺓","","𬺓𬺓𬺓",""]
["","","","𬺓𬺓𬺓","","𬺓𬺓𬺓",""]
["","","","𬺓𬺓𬺓","","𬺓𬺓𬺓",""]
["","","","𬺓𬺓𬺓","","𬺓𬺓𬺓",""]
["","","","𬺓𬺓𬺓","","𬺓𬺓𬺓",""]
["","","","𬺓𬺓𬺓","","𬺓𬺓𬺓",""]
["","","","𬺓𬺓𬺓","","𬺓𬺓𬺓",""]
["","","","𬺓𬺓𬺓","","𬺓𬺓𬺓",""]
["","","","𬺓𬺓𬺓","","𬺓𬺓𬺓",""]
["","","","𬺓𬺓𬺓","","𬺓𬺓𬺓",""]
["","","","𬺓𬺓𬺓","","𬺓𬺓𬺓",""]
["","","","𬺓𬺓𬺓","","𬺓𬺓𬺓",""]
["","","","𬺓𬺓𬺓","","𬺓𬺓𬺓",""]
["","","","𬺓𬺓𬺓","","𬺓𬺓𬺓",""]
["","","","𬺓𬺓𬺓","","𬺓𬺓𬺓",""]
["","","","𬺓𬺓𬺓","","𬺓𬺓𬺓",""]
["","","","𬺓𬺓𬺓","","𬺓𬺓𬺓",""]
["","","","𬺓𬺓𬺓","","𬺓𬺓𬺓",""]
["","","","𬺓𬺓𬺓","","𬺓𬺓𬺓",""]
["","","","𬺓𬺓𬺓","","𬺓𬺓𬺓",""]
["","","","𬺓𬺓𬺓","","𬺓𬺓𬺓",""]
["","","","𬺓𬺓𬺓","","𬺓𬺓𬺓",""]
["","","","𬺓𬺓𬺓","","𬺓𬺓𬺓",""]
["","","","𬺓𬺓𬺓","","𬺓𬺓𬺓",""]
["","","","𬺓𬺓𬺓","","𬺓𬺓𬺓",""]
["","","","𬺓𬺓𬺓","","𬺓𬺓𬺓",""]
["","","","𬺓𬺓𬺓","","𬺓𬺓𬺓",""]
["","","","𬺓𬺓𬺓","","𬺓𬺓𬺓",""]
["","","","𬺓𬺓𬺓","","𬺓𬺓𬺓",""]
["","","","𬺓𬺓𬺓","","𬺓𬺓𬺓",""]
["","","","𬺓𬺓𬺓","","𬺓𬺓𬺓",""]
["","","","𬺓𬺓𬺓","","𬺓𬺓𬺓",""]
["","","","𬺓𬺓𬺓","","𬺓𬺓𬺓",""]
["","","","𬺓𬺓𬺓","","𬺓𬺓𬺓",""]
["","","","𬺓𬺓𬺓","","𬺓𬺓𬺓",""]
["","","","𬺓𬺓𬺓","","𬺓𬺓𬺓",""]
["","","","𬺓𬺓𬺓","","𬺓𬺓𬺓",""]
["","","","𬺓𬺓𬺓","","𬺓𬺓𬺓",""]
["","","","𬺓𬺓𬺓","","𬺓𬺓𬺓",""]
["","","","𬺓𬺓𬺓","","𬺓𬺓𬺓",""]
["","","","𬺓𬺓𬺓","","𬺓𬺓𬺓",""]
["","","","𬺓𬺓𬺓","","𬺓𬺓𬺓",""]
["","","","𬺓𬺓𬺓","","𬺓𬺓𬺓",""]
["","","","𬺓𬺓𬺓","","𬺓𬺓𬺓",""]
["","","","𬺓𬺓𬺓","","𬺓𬺓𬺓",""]
["","","","𬺓𬺓𬺓","","𬺓𬺓𬺓",""]
["","","","𬺓𬺓𬺓","","𬺓𬺓𬺓",""]
["","","","𬺓𬺓𬺓","","𬺓𬺓𬺓",""]
["","","","𬺓𬺓𬺓","","𬺓𬺓𬺓",""]
["","","","𬺓𬺓𬺓","","𬺓𬺓𬺓",""]
["","","","𬺓𬺓𬺓","","𬺓𬺓𬺓",""]
["","","","𬺓𬺓𬺓","","𬺓𬺓𬺓",""]
["","","","𬺓𬺓𬺓","","𬺓𬺓𬺓",""]
["","","","𬺓𬺓𬺓","","𬺓𬺓𬺓",""]
["","","","𬺓𬺓𬺓","","𬺓𬺓𬺓",""]
["","","","𬺓𬺓𬺓","","𬺓𬺓𬺓",""]
["","","","𬺓𬺓𬺓","","𬺓𬺓𬺓",""]
["","","","𬺓𬺓𬺓","","𬺓𬺓𬺓",""]
["","","","𬺓𬺓𬺓","","𬺓𬺓𬺓",""]
["","","","𬺓𬺓𬺓","","𬺓𬺓𬺓",""]
["","","","𬺓𬺓𬺓","","𬺓𬺓𬺓",""]
["","","","𬺓𬺓𬺓","","𬺓𬺓𬺓",""]
["","","","𬺓𬺓𬺓","","𬺓𬺓𬺓",""]
["","","","𬺓𬺓𬺓","","𬺓𬺓𬺓",""]
["","","","𬺓𬺓𬺓","","𬺓𬺓𬺓",""]
["","","","𬺓𬺓𬺓","","𬺓𬺓𬺓",""]
["","","","𬺓𬺓𬺓","","𬺓𬺓𬺓",""]
["","","","𬺓𬺓𬺓","","𬺓𬺓𬺓",""]
["","","","𬺓𬺓𬺓","","𬺓𬺓𬺓",""]
["","","","𬺓𬺓𬺓","","𬺓𬺓𬺓",""]
["","","","𬺓𬺓𬺓","","𬺓𬺓𬺓",""]
["","","","𬺓𬺓𬺓","","𬺓𬺓𬺓",""]
["","","","𬺓𬺓𬺓","","𬺓𬺓𬺓",""]
["","","","𬺓𬺓𬺓","","𬺓𬺓𬺓",""]
["","","","𬺓𬺓𬺓","","𬺓𬺓𬺓",""]
["","","","𬺓𬺓𬺓","","𬺓𬺓𬺓",""]
["","","","𬺓𬺓𬺓","","𬺓𬺓𬺓",""]
["","","","𬺓𬺓𬺓","","𬺓𬺓𬺓",""]
["","","","𬺓𬺓𬺓","","𬺓𬺓𬺓",""]
["","","","𬺓𬺓𬺓","","𬺓𬺓𬺓",""]
["","","","𬺓𬺓𬺓","","𬺓𬺓𬺓",""]
["","","","𬺓𬺓𬺓","","𬺓𬺓𬺓",""]
["","","","𬺓𬺓𬺓","","𬺓𬺓𬺓",""]
["","","","𬺓𬺓𬺓","","𬺓𬺓𬺓",""]
["","","","𬺓𬺓𬺓","","𬺓𬺓𬺓",""]
["","","","𬺓𬺓𬺓","","𬺓𬺓𬺓",""]
["","","","𬺓𬺓𬺓","","𬺓𬺓𬺓",""]
["","","","𬺓𬺓𬺓","","𬺓𬺓𬺓",""]
["","","","𬺓𬺓𬺓","","𬺓𬺓𬺓",""]
["","","","𬺓𬺓𬺓","","𬺓𬺓𬺓",""]
["","","","𬺓𬺓𬺓","","𬺓𬺓𬺓",""]
["","","","𬺓𬺓𬺓","","𬺓𬺓𬺓",""]
["","","","𬺓𬺓𬺓","","𬺓𬺓𬺓",""]
["","","","𬺓𬺓𬺓","","𬺓𬺓𬺓",""]
["","","","𬺓𬺓𬺓","","𬺓𬺓𬺓",""]
["","","","𬺓𬺓𬺓","","𬺓𬺓𬺓",""]
["","","","𬺓𬺓𬺓","","𬺓𬺓𬺓",""]
["","","","𬺓𬺓𬺓","","𬺓𬺓𬺓",""]

{"sheet":"Примечания","index":4,"n_rows":1,"n_cols":7,"rows_kept":1}
["Примечания",{"$nulls":5},"Версия 2.9"]