{"text_format":"3","workbook":"xlsx","n_sheets":6,"sheets":["අයවැය","වාර්තා වියදම්","පයි ප්‍රස්ථාරය","කාණ්ඩගත කළ වියදම්","සටහන්","formula"],"not_rendered":{"charts":2,"defined_names":1,"comments":1},"read":"whole","date_system":"1900"}

{"sheet":"අයවැය","index":0,"n_rows":56,"n_cols":7,"rows_kept":56,"merged":[[1,4,1,5],[14,4,15,4],[14,5,15,5],[14,6,15,6]]}
[]
[{"$nulls":3},"මාස වර්ෂය සඳහා  "," මාසික අයවැය"]
[]
[]
[{"$nulls":3},"ලබා ගත හැකි අරමුදල් "]
[{"$nulls":3},"විස්තරය",{"v":125,"d":"125.00"},null,"කහ පැහැති ක්ෂේත්‍ර සම්පූර්ණ කරන්න"]
[{"$nulls":6},"වියදම් සඳහා ඊළඟ ටැබය බලන්න"]
[]
[]
[]
[]
[{"$nulls":3},"ලබා ගත හැකි මුළු මුදල",{"$f":"SUM(E6:E11)","v":{"v":125,"d":"125.00"}}]
[]
[]
[{"$nulls":4},"ලබා ගත හැකි මුළු මුදල","වියදම් කළ මුළු මුදල","ඉතිරි මුළු මුදල"]
[{"$nulls":4},"Total Remaining",null,"Total Remaining"]
[{"$nulls":4},{"$f":"E12","v":{"v":125,"d":"125.00"}},{"$f":"SUM(F20:F54)","v":{"v":1.1,"d":"1.10"}},{"$f":"E17-ABS(F17)","v":{"v":123.9,"d":"123.90"}}]
[]
[{"$nulls":3},"ප්‍රවර්ගය","පැවරී ඇති මුදල","වියදම් කළ මුදල","ඉතිරි මුදල"]
[null,null,1,"නියැදි කාණ්ඩය",{"v":2,"d":"2.00"},{"$f":"IF(D20=\"\",\"\",SUMIF('වාර්තා වියදම්'!A:A,D20,'වාර්තා වියදම්'!C:C))","v":{"v":1.1,"d":"1.10"}},{"$f":"IF(D20=\"\",\"\",E20-ABS(F20))","v":{"v":0.9,"d":"0.90"}}]
[null,null,2,"උකස් කිරීම",null,{"$f":"IF(D21=\"\",\"\",SUMIF('වාර්තා වියදම්'!A:A,D21,'වාර්තා වියදම්'!C:C))","v":{"v":0,"d":"0.00"}},{"$f":"IF(D21=\"\",\"\",E21-ABS(F21))","v":{"v":0,"d":"0.00"}}]
[null,null,3,"ගෑසොලින්",null,{"$f":"IF(D22=\"\",\"\",SUMIF('වාර්තා වියදම්'!A:A,D22,'වාර්තා වියදම්'!C:C))","v":{"v":0,"d":"0.00"}},{"$f":"IF(D22=\"\",\"\",E22-ABS(F22))","v":{"v":0,"d":"0.00"}}]
[null,null,4,"සිගරට්",null,{"$f":"IF(D23=\"\",\"\",SUMIF('වාර්තා වියදම්'!A:A,D23,'වාර්තා වියදම්'!C:C))","v":{"v":0,"d":"0.00"}},{"$f":"IF(D23=\"\",\"\",E23-ABS(F23))","v":{"v":0,"d":"0.00"}}]
[null,null,5,"ආපනශාලා",null,{"$f":"IF(D24=\"\",\"\",SUMIF('වාර්තා වියදම්'!A:A,D24,'වාර්තා වියදම්'!C:C))","v":{"v":0,"d":"0.00"}},{"$f":"IF(D24=\"\",\"\",E24-ABS(F24))","v":{"v":0,"d":"0.00"}}]
[null,null,6,null,null,{"$f":"IF(D25=\"\",\"\",SUMIF('වාර්තා වියදම්'!A:A,D25,'වාර්තා වියදම්'!C:C))","v":""},{"$f":"IF(D25=\"\",\"\",E25-ABS(F25))","v":""}]
[null,null,7,null,null,{"$f":"IF(D26=\"\",\"\",SUMIF('වාර්තා වියදම්'!A:A,D26,'වාර්තා වියදම්'!C:C))","v":""},{"$f":"IF(D26=\"\",\"\",E26-ABS(F26))","v":""}]
[null,null,8,null,null,{"$f":"IF(D27=\"\",\"\",SUMIF('වාර්තා වියදම්'!A:A,D27,'වාර්තා වියදම්'!C:C))","v":""},{"$f":"IF(D27=\"\",\"\",E27-ABS(F27))","v":""}]
[null,null,9,null,null,{"$f":"IF(D28=\"\",\"\",SUMIF('වාර්තා වියදම්'!A:A,D28,'වාර්තා වියදම්'!C:C))","v":""},{"$f":"IF(D28=\"\",\"\",E28-ABS(F28))","v":""}]
[null,null,10,null,null,{"$f":"IF(D29=\"\",\"\",SUMIF('වාර්තා වියදම්'!A:A,D29,'වාර්තා වියදම්'!C:C))","v":""},{"$f":"IF(D29=\"\",\"\",E29-ABS(F29))","v":""}]
[null,null,11,null,null,{"$f":"IF(D30=\"\",\"\",SUMIF('වාර්තා වියදම්'!A:A,D30,'වාර්තා වියදම්'!C:C))","v":""},{"$f":"IF(D30=\"\",\"\",E30-ABS(F30))","v":""}]
[null,null,12,null,null,{"$f":"IF(D31=\"\",\"\",SUMIF('වාර්තා වියදම්'!A:A,D31,'වාර්තා වියදම්'!C:C))","v":""},{"$f":"IF(D31=\"\",\"\",E31-ABS(F31))","v":""}]
[null,null,13,null,null,{"$f":"IF(D32=\"\",\"\",SUMIF('වාර්තා වියදම්'!A:A,D32,'වාර්තා වියදම්'!C:C))","v":""},{"$f":"IF(D32=\"\",\"\",E32-ABS(F32))","v":""}]
[null,null,14,null,null,{"$f":"IF(D33=\"\",\"\",SUMIF('වාර්තා වියදම්'!A:A,D33,'වාර්තා වියදම්'!C:C))","v":""},{"$f":"IF(D33=\"\",\"\",E33-ABS(F33))","v":""}]
[null,null,15,null,null,{"$f":"IF(D34=\"\",\"\",SUMIF('වාර්තා වියදම්'!A:A,D34,'වාර්තා වියදම්'!C:C))","v":""},{"$f":"IF(D34=\"\",\"\",E34-ABS(F34))","v":""}]
[null,null,16,null,null,{"$f":"IF(D35=\"\",\"\",SUMIF('වාර්තා වියදම්'!A:A,D35,'වාර්තා වියදම්'!C:C))","v":""},{"$f":"IF(D35=\"\",\"\",E35-ABS(F35))","v":""}]
[null,null,17,null,null,{"$f":"IF(D36=\"\",\"\",SUMIF('වාර්තා වියදම්'!A:A,D36,'වාර්තා වියදම්'!C:C))","v":""},{"$f":"IF(D36=\"\",\"\",E36-ABS(F36))","v":""}]
[null,null,18,null,null,{"$f":"IF(D37=\"\",\"\",SUMIF('වාර්තා වියදම්'!A:A,D37,'වාර්තා වියදම්'!C:C))","v":""},{"$f":"IF(D37=\"\",\"\",E37-ABS(F37))","v":""}]
[null,null,19,null,null,{"$f":"IF(D38=\"\",\"\",SUMIF('වාර්තා වියදම්'!A:A,D38,'වාර්තා වියදම්'!C:C))","v":""},{"$f":"IF(D38=\"\",\"\",E38-ABS(F38))","v":""}]
[null,null,20,null,null,{"$f":"IF(D39=\"\",\"\",SUMIF('වාර්තා වියදම්'!A:A,D39,'වාර්තා වියදම්'!C:C))","v":""},{"$f":"IF(D39=\"\",\"\",E39-ABS(F39))","v":""}]
[null,null,21,null,null,{"$f":"IF(D40=\"\",\"\",SUMIF('වාර්තා වියදම්'!A:A,D40,'වාර්තා වියදම්'!C:C))","v":""},{"$f":"IF(D40=\"\",\"\",E40-ABS(F40))","v":""}]
[null,null,22,null,null,{"$f":"IF(D41=\"\",\"\",SUMIF('වාර්තා වියදම්'!A:A,D41,'වාර්තා වියදම්'!C:C))","v":""},{"$f":"IF(D41=\"\",\"\",E41-ABS(F41))","v":""}]
[null,null,23,null,null,{"$f":"IF(D42=\"\",\"\",SUMIF('වාර්තා වියදම්'!A:A,D42,'වාර්තා වියදම්'!C:C))","v":""},{"$f":"IF(D42=\"\",\"\",E42-ABS(F42))","v":""}]
[null,null,24,null,null,{"$f":"IF(D43=\"\",\"\",SUMIF('වාර්තා වියදම්'!A:A,D43,'වාර්තා වියදම්'!C:C))","v":""},{"$f":"IF(D43=\"\",\"\",E43-ABS(F43))","v":""}]
[null,null,25,null,null,{"$f":"IF(D44=\"\",\"\",SUMIF('වාර්තා වියදම්'!A:A,D44,'වාර්තා වියදම්'!C:C))","v":""},{"$f":"IF(D44=\"\",\"\",E44-ABS(F44))","v":""}]
[null,null,26,null,null,{"$f":"IF(D45=\"\",\"\",SUMIF('වාර්තා වියදම්'!A:A,D45,'වාර්තා වියදම්'!C:C))","v":""},{"$f":"IF(D45=\"\",\"\",E45-ABS(F45))","v":""}]
[null,null,27,null,null,{"$f":"IF(D46=\"\",\"\",SUMIF('වාර්තා වියදම්'!A:A,D46,'වාර්තා වියදම්'!C:C))","v":""},{"$f":"IF(D46=\"\",\"\",E46-ABS(F46))","v":""}]
[null,null,28,null,null,{"$f":"IF(D47=\"\",\"\",SUMIF('වාර්තා වියදම්'!A:A,D47,'වාර්තා වියදම්'!C:C))","v":""},{"$f":"IF(D47=\"\",\"\",E47-ABS(F47))","v":""}]
[null,null,29,null,null,{"$f":"IF(D48=\"\",\"\",SUMIF('වාර්තා වියදම්'!A:A,D48,'වාර්තා වියදම්'!C:C))","v":""},{"$f":"IF(D48=\"\",\"\",E48-ABS(F48))","v":""}]
[null,null,30,null,null,{"$f":"IF(D49=\"\",\"\",SUMIF('වාර්තා වියදම්'!A:A,D49,'වාර්තා වියදම්'!C:C))","v":""},{"$f":"IF(D49=\"\",\"\",E49-ABS(F49))","v":""}]
[null,null,31,null,null,{"$f":"IF(D50=\"\",\"\",SUMIF('වාර්තා වියදම්'!A:A,D50,'වාර්තා වියදම්'!C:C))","v":""},{"$f":"IF(D50=\"\",\"\",E50-ABS(F50))","v":""}]
[null,null,32,null,null,{"$f":"IF(D51=\"\",\"\",SUMIF('වාර්තා වියදම්'!A:A,D51,'වාර්තා වියදම්'!C:C))","v":""},{"$f":"IF(D51=\"\",\"\",E51-ABS(F51))","v":""}]
[null,null,33,null,null,{"$f":"IF(D52=\"\",\"\",SUMIF('වාර්තා වියදම්'!A:A,D52,'වාර්තා වියදම්'!C:C))","v":""},{"$f":"IF(D52=\"\",\"\",E52-ABS(F52))","v":""}]
[null,null,34,null,null,{"$f":"IF(D53=\"\",\"\",SUMIF('වාර්තා වියදම්'!A:A,D53,'වාර්තා වියදම්'!C:C))","v":""},{"$f":"IF(D53=\"\",\"\",E53-ABS(F53))","v":""}]
[null,null,35,null," ",{"$f":"IF(D54=\"\",\"\",SUMIF('වාර්තා වියදම්'!A:A,D54,'වාර්තා වියදම්'!C:C))","v":""},{"$f":"IF(D54=\"\",\"\",E54-ABS(F54))","v":""}]
[]
[{"$nulls":3},"පවරන ලද මුළු මුදල",{"$f":"SUM(E20:E54)","v":{"v":2,"d":"2.00"}}]

{"sheet":"වාර්තා වියදම්","index":1,"n_rows":750,"n_cols":7,"rows_kept":750}
["වාර්තා වියදම්"]
[null,null,"1) එක් එක් වියදම සඳහා මුදලක් ඇතුළත් කරන්න (නැතහොත් ඔබේ බැංකුවෙන් පිටපත් කර අලවන්න)"]
["2) පහත එක් එක් වියදම සඳහා කාණ්ඩයක් තෝරන්න"]
[null,"Expenses","වියදම් ප්‍රමාණයන්","විස්තරය / සටහන්","Expenses","Expenses","Expenses"]
[]
["නියැදි කාණ්ඩය",null,{"v":1.1,"d":"1.10"}]
{"$rows_empty":743}
[null," "]

{"sheet":"පයි ප්‍රස්ථාරය","index":2,"n_rows":36,"n_cols":10,"rows_kept":36}
["Rank","Rank + tiebreaker","true rank","Category","Expense Totals","Percent",null,"ප්‍රවර්ගය","වියදම් එකතුව","ප්‍රතිශතය"]
[{"$f":"IF(E2=\"\",\"\",RANK(E2,$E$2:$E$36))","v":1},{"$f":"IF(A2=\"\",\"\",A2+ROW()/1000)","v":1.002},{"$f":"IF(B2=\"\",\"\",RANK(B2,$B$2:$B$36,1))","v":1},{"$f":"IF(අයවැය!D20=\"\",\"\",අයවැය!D20)","v":"නියැදි කාණ්ඩය"},{"$f":"IF(D2=\"\",\"\",ABS(අයවැය!F20))","v":{"v":1.1,"d":"1.10"}},{"$f":"IF(E2=\"\",\"\",E2/SUM($E$2:$E$36))","v":{"v":1,"d":"100.00%"}},null,{"$f":"IFERROR(VLOOKUP(ROW()-1,$C$2:$F$36,2,0),\"\")","v":"නියැදි කාණ්ඩය"},{"$f":"IFERROR(VLOOKUP(ROW()-1,$C$2:$F$36,3,0),\"\")","v":{"v":1.1,"d":"1.10"}},{"$f":"IFERROR(VLOOKUP(ROW()-1,$C$2:$F$36,4,0),\"\")","v":{"v":1,"d":"100.0%"}}]
[{"$f":"IF(E3=\"\",\"\",RANK(E3,$E$2:$E$36))","v":2},{"$f":"IF(A3=\"\",\"\",A3+ROW()/1000)","v":2.003},{"$f":"IF(B3=\"\",\"\",RANK(B3,$B$2:$B$36,1))","v":2},{"$f":"IF(අයවැය!D21=\"\",\"\",අයවැය!D21)","v":"උකස් කිරීම"},{"$f":"IF(D3=\"\",\"\",ABS(අයවැය!F21))","v":{"v":0,"d":"0.00"}},{"$f":"IF(E3=\"\",\"\",E3/SUM($E$2:$E$36))","v":{"v":0,"d":"0.0%"}},null,{"$f":"IFERROR(VLOOKUP(ROW()-1,$C$2:$F$36,2,0),\"\")","v":"උකස් කිරීම"},{"$f":"IFERROR(VLOOKUP(ROW()-1,$C$2:$F$36,3,0),\"\")","v":{"v":0,"d":"0.00"}},{"$f":"IFERROR(VLOOKUP(ROW()-1,$C$2:$F$36,4,0),\"\")","v":{"v":0,"d":"0.0%"}}]
[{"$f":"IF(E4=\"\",\"\",RANK(E4,$E$2:$E$36))","v":2},{"$f":"IF(A4=\"\",\"\",A4+ROW()/1000)","v":2.004},{"$f":"IF(B4=\"\",\"\",RANK(B4,$B$2:$B$36,1))","v":3},{"$f":"IF(අයවැය!D22=\"\",\"\",අයවැය!D22)","v":"ගෑසොලින්"},{"$f":"IF(D4=\"\",\"\",ABS(අයවැය!F22))","v":{"v":0,"d":"0.00"}},{"$f":"IF(E4=\"\",\"\",E4/SUM($E$2:$E$36))","v":{"v":0,"d":"0.0%"}},null,{"$f":"IFERROR(VLOOKUP(ROW()-1,$C$2:$F$36,2,0),\"\")","v":"ගෑසොලින්"},{"$f":"IFERROR(VLOOKUP(ROW()-1,$C$2:$F$36,3,0),\"\")","v":{"v":0,"d":"0.00"}},{"$f":"IFERROR(VLOOKUP(ROW()-1,$C$2:$F$36,4,0),\"\")","v":{"v":0,"d":"0.0%"}}]
[{"$f":"IF(E5=\"\",\"\",RANK(E5,$E$2:$E$36))","v":2},{"$f":"IF(A5=\"\",\"\",A5+ROW()/1000)","v":2.005},{"$f":"IF(B5=\"\",\"\",RANK(B5,$B$2:$B$36,1))","v":4},{"$f":"IF(අයවැය!D23=\"\",\"\",අයවැය!D23)","v":"සිගරට්"},{"$f":"IF(D5=\"\",\"\",ABS(අයවැය!F23))","v":{"v":0,"d":"0.00"}},{"$f":"IF(E5=\"\",\"\",E5/SUM($E$2:$E$36))","v":{"v":0,"d":"0.0%"}},null,{"$f":"IFERROR(VLOOKUP(ROW()-1,$C$2:$F$36,2,0),\"\")","v":"සිගරට්"},{"$f":"IFERROR(VLOOKUP(ROW()-1,$C$2:$F$36,3,0),\"\")","v":{"v":0,"d":"0.00"}},{"$f":"IFERROR(VLOOKUP(ROW()-1,$C$2:$F$36,4,0),\"\")","v":{"v":0,"d":"0.0%"}}]
[{"$f":"IF(E6=\"\",\"\",RANK(E6,$E$2:$E$36))","v":2},{"$f":"IF(A6=\"\",\"\",A6+ROW()/1000)","v":2.006},{"$f":"IF(B6=\"\",\"\",RANK(B6,$B$2:$B$36,1))","v":5},{"$f":"IF(අයවැය!D24=\"\",\"\",අයවැය!D24)","v":"ආපනශාලා"},{"$f":"IF(D6=\"\",\"\",ABS(අයවැය!F24))","v":{"v":0,"d":"0.00"}},{"$f":"IF(E6=\"\",\"\",E6/SUM($E$2:$E$36))","v":{"v":0,"d":"0.0%"}},null,{"$f":"IFERROR(VLOOKUP(ROW()-1,$C$2:$F$36,2,0),\"\")","v":"ආපනශාලා"},{"$f":"IFERROR(VLOOKUP(ROW()-1,$C$2:$F$36,3,0),\"\")","v":{"v":0,"d":"0.00"}},{"$f":"IFERROR(VLOOKUP(ROW()-1,$C$2:$F$36,4,0),\"\")","v":{"v":0,"d":"0.0%"}}]
[{"$f":"IF(E7=\"\",\"\",RANK(E7,$E$2:$E$36))","v":""},{"$f":"IF(A7=\"\",\"\",A7+ROW()/1000)","v":""},{"$f":"IF(B7=\"\",\"\",RANK(B7,$B$2:$B$36,1))","v":""},{"$f":"IF(අයවැය!D25=\"\",\"\",අයවැය!D25)","v":""},{"$f":"IF(D7=\"\",\"\",ABS(අයවැය!F25))","v":""},{"$f":"IF(E7=\"\",\"\",E7/SUM($E$2:$E$36))","v":""},null,{"$f":"IFERROR(VLOOKUP(ROW()-1,$C$2:$F$36,2,0),\"\")","v":""},{"$f":"IFERROR(VLOOKUP(ROW()-1,$C$2:$F$36,3,0),\"\")","v":""},{"$f":"IFERROR(VLOOKUP(ROW()-1,$C$2:$F$36,4,0),\"\")","v":""}]
[{"$f":"IF(E8=\"\",\"\",RANK(E8,$E$2:$E$36))","v":""},{"$f":"IF(A8=\"\",\"\",A8+ROW()/1000)","v":""},{"$f":"IF(B8=\"\",\"\",RANK(B8,$B$2:$B$36,1))","v":""},{"$f":"IF(අයවැය!D26=\"\",\"\",අයවැය!D26)","v":""},{"$f":"IF(D8=\"\",\"\",ABS(අයවැය!F26))","v":""},{"$f":"IF(E8=\"\",\"\",E8/SUM($E$2:$E$36))","v":""},null,{"$f":"IFERROR(VLOOKUP(ROW()-1,$C$2:$F$36,2,0),\"\")","v":""},{"$f":"IFERROR(VLOOKUP(ROW()-1,$C$2:$F$36,3,0),\"\")","v":""},{"$f":"IFERROR(VLOOKUP(ROW()-1,$C$2:$F$36,4,0),\"\")","v":""}]
[{"$f":"IF(E9=\"\",\"\",RANK(E9,$E$2:$E$36))","v":""},{"$f":"IF(A9=\"\",\"\",A9+ROW()/1000)","v":""},{"$f":"IF(B9=\"\",\"\",RANK(B9,$B$2:$B$36,1))","v":""},{"$f":"IF(අයවැය!D27=\"\",\"\",අයවැය!D27)","v":""},{"$f":"IF(D9=\"\",\"\",ABS(අයවැය!F27))","v":""},{"$f":"IF(E9=\"\",\"\",E9/SUM($E$2:$E$36))","v":""},null,{"$f":"IFERROR(VLOOKUP(ROW()-1,$C$2:$F$36,2,0),\"\")","v":""},{"$f":"IFERROR(VLOOKUP(ROW()-1,$C$2:$F$36,3,0),\"\")","v":""},{"$f":"IFERROR(VLOOKUP(ROW()-1,$C$2:$F$36,4,0),\"\")","v":""}]
[{"$f":"IF(E10=\"\",\"\",RANK(E10,$E$2:$E$36))","v":""},{"$f":"IF(A10=\"\",\"\",A10+ROW()/1000)","v":""},{"$f":"IF(B10=\"\",\"\",RANK(B10,$B$2:$B$36,1))","v":""},{"$f":"IF(අයවැය!D28=\"\",\"\",අයවැය!D28)","v":""},{"$f":"IF(D10=\"\",\"\",ABS(අයවැය!F28))","v":""},{"$f":"IF(E10=\"\",\"\",E10/SUM($E$2:$E$36))","v":""},null,{"$f":"IFERROR(VLOOKUP(ROW()-1,$C$2:$F$36,2,0),\"\")","v":""},{"$f":"IFERROR(VLOOKUP(ROW()-1,$C$2:$F$36,3,0),\"\")","v":""},{"$f":"IFERROR(VLOOKUP(ROW()-1,$C$2:$F$36,4,0),\"\")","v":""}]
[{"$f":"IF(E11=\"\",\"\",RANK(E11,$E$2:$E$36))","v":""},{"$f":"IF(A11=\"\",\"\",A11+ROW()/1000)","v":""},{"$f":"IF(B11=\"\",\"\",RANK(B11,$B$2:$B$36,1))","v":""},{"$f":"IF(අයවැය!D29=\"\",\"\",අයවැය!D29)","v":""},{"$f":"IF(D11=\"\",\"\",ABS(අයවැය!F29))","v":""},{"$f":"IF(E11=\"\",\"\",E11/SUM($E$2:$E$36))","v":""},null,{"$f":"IFERROR(VLOOKUP(ROW()-1,$C$2:$F$36,2,0),\"\")","v":""},{"$f":"IFERROR(VLOOKUP(ROW()-1,$C$2:$F$36,3,0),\"\")","v":""},{"$f":"IFERROR(VLOOKUP(ROW()-1,$C$2:$F$36,4,0),\"\")","v":""}]
[{"$f":"IF(E12=\"\",\"\",RANK(E12,$E$2:$E$36))","v":""},{"$f":"IF(A12=\"\",\"\",A12+ROW()/1000)","v":""},{"$f":"IF(B12=\"\",\"\",RANK(B12,$B$2:$B$36,1))","v":""},{"$f":"IF(අයවැය!D30=\"\",\"\",අයවැය!D30)","v":""},{"$f":"IF(D12=\"\",\"\",ABS(අයවැය!F30))","v":""},{"$f":"IF(E12=\"\",\"\",E12/SUM($E$2:$E$36))","v":""},null,{"$f":"IFERROR(VLOOKUP(ROW()-1,$C$2:$F$36,2,0),\"\")","v":""},{"$f":"IFERROR(VLOOKUP(ROW()-1,$C$2:$F$36,3,0),\"\")","v":""},{"$f":"IFERROR(VLOOKUP(ROW()-1,$C$2:$F$36,4,0),\"\")","v":""}]
[{"$f":"IF(E13=\"\",\"\",RANK(E13,$E$2:$E$36))","v":""},{"$f":"IF(A13=\"\",\"\",A13+ROW()/1000)","v":""},{"$f":"IF(B13=\"\",\"\",RANK(B13,$B$2:$B$36,1))","v":""},{"$f":"IF(අයවැය!D31=\"\",\"\",අයවැය!D31)","v":""},{"$f":"IF(D13=\"\",\"\",ABS(අයවැය!F31))","v":""},{"$f":"IF(E13=\"\",\"\",E13/SUM($E$2:$E$36))","v":""},null,{"$f":"IFERROR(VLOOKUP(ROW()-1,$C$2:$F$36,2,0),\"\")","v":""},{"$f":"IFERROR(VLOOKUP(ROW()-1,$C$2:$F$36,3,0),\"\")","v":""},{"$f":"IFERROR(VLOOKUP(ROW()-1,$C$2:$F$36,4,0),\"\")","v":""}]
[{"$f":"IF(E14=\"\",\"\",RANK(E14,$E$2:$E$36))","v":""},{"$f":"IF(A14=\"\",\"\",A14+ROW()/1000)","v":""},{"$f":"IF(B14=\"\",\"\",RANK(B14,$B$2:$B$36,1))","v":""},{"$f":"IF(අයවැය!D32=\"\",\"\",අයවැය!D32)","v":""},{"$f":"IF(D14=\"\",\"\",ABS(අයවැය!F32))","v":""},{"$f":"IF(E14=\"\",\"\",E14/SUM($E$2:$E$36))","v":""},null,{"$f":"IFERROR(VLOOKUP(ROW()-1,$C$2:$F$36,2,0),\"\")","v":""},{"$f":"IFERROR(VLOOKUP(ROW()-1,$C$2:$F$36,3,0),\"\")","v":""},{"$f":"IFERROR(VLOOKUP(ROW()-1,$C$2:$F$36,4,0),\"\")","v":""}]
[{"$f":"IF(E15=\"\",\"\",RANK(E15,$E$2:$E$36))","v":""},{"$f":"IF(A15=\"\",\"\",A15+ROW()/1000)","v":""},{"$f":"IF(B15=\"\",\"\",RANK(B15,$B$2:$B$36,1))","v":""},{"$f":"IF(අයවැය!D33=\"\",\"\",අයවැය!D33)","v":""},{"$f":"IF(D15=\"\",\"\",ABS(අයවැය!F33))","v":""},{"$f":"IF(E15=\"\",\"\",E15/SUM($E$2:$E$36))","v":""},null,{"$f":"IFERROR(VLOOKUP(ROW()-1,$C$2:$F$36,2,0),\"\")","v":""},{"$f":"IFERROR(VLOOKUP(ROW()-1,$C$2:$F$36,3,0),\"\")","v":""},{"$f":"IFERROR(VLOOKUP(ROW()-1,$C$2:$F$36,4,0),\"\")","v":""}]
[{"$f":"IF(E16=\"\",\"\",RANK(E16,$E$2:$E$36))","v":""},{"$f":"IF(A16=\"\",\"\",A16+ROW()/1000)","v":""},{"$f":"IF(B16=\"\",\"\",RANK(B16,$B$2:$B$36,1))","v":""},{"$f":"IF(අයවැය!D34=\"\",\"\",අයවැය!D34)","v":""},{"$f":"IF(D16=\"\",\"\",ABS(අයවැය!F34))","v":""},{"$f":"IF(E16=\"\",\"\",E16/SUM($E$2:$E$36))","v":""},null,{"$f":"IFERROR(VLOOKUP(ROW()-1,$C$2:$F$36,2,0),\"\")","v":""},{"$f":"IFERROR(VLOOKUP(ROW()-1,$C$2:$F$36,3,0),\"\")","v":""},{"$f":"IFERROR(VLOOKUP(ROW()-1,$C$2:$F$36,4,0),\"\")","v":""}]
[{"$f":"IF(E17=\"\",\"\",RANK(E17,$E$2:$E$36))","v":""},{"$f":"IF(A17=\"\",\"\",A17+ROW()/1000)","v":""},{"$f":"IF(B17=\"\",\"\",RANK(B17,$B$2:$B$36,1))","v":""},{"$f":"IF(අයවැය!D35=\"\",\"\",අයවැය!D35)","v":""},{"$f":"IF(D17=\"\",\"\",ABS(අයවැය!F35))","v":""},{"$f":"IF(E17=\"\",\"\",E17/SUM($E$2:$E$36))","v":""},null,{"$f":"IFERROR(VLOOKUP(ROW()-1,$C$2:$F$36,2,0),\"\")","v":""},{"$f":"IFERROR(VLOOKUP(ROW()-1,$C$2:$F$36,3,0),\"\")","v":""},{"$f":"IFERROR(VLOOKUP(ROW()-1,$C$2:$F$36,4,0),\"\")","v":""}]
[{"$f":"IF(E18=\"\",\"\",RANK(E18,$E$2:$E$36))","v":""},{"$f":"IF(A18=\"\",\"\",A18+ROW()/1000)","v":""},{"$f":"IF(B18=\"\",\"\",RANK(B18,$B$2:$B$36,1))","v":""},{"$f":"IF(අයවැය!D36=\"\",\"\",අයවැය!D36)","v":""},{"$f":"IF(D18=\"\",\"\",ABS(අයවැය!F36))","v":""},{"$f":"IF(E18=\"\",\"\",E18/SUM($E$2:$E$36))","v":""},null,{"$f":"IFERROR(VLOOKUP(ROW()-1,$C$2:$F$36,2,0),\"\")","v":""},{"$f":"IFERROR(VLOOKUP(ROW()-1,$C$2:$F$36,3,0),\"\")","v":""},{"$f":"IFERROR(VLOOKUP(ROW()-1,$C$2:$F$36,4,0),\"\")","v":""}]
[{"$f":"IF(E19=\"\",\"\",RANK(E19,$E$2:$E$36))","v":""},{"$f":"IF(A19=\"\",\"\",A19+ROW()/1000)","v":""},{"$f":"IF(B19=\"\",\"\",RANK(B19,$B$2:$B$36,1))","v":""},{"$f":"IF(අයවැය!D37=\"\",\"\",අයවැය!D37)","v":""},{"$f":"IF(D19=\"\",\"\",ABS(අයවැය!F37))","v":""},{"$f":"IF(E19=\"\",\"\",E19/SUM($E$2:$E$36))","v":""},null,{"$f":"IFERROR(VLOOKUP(ROW()-1,$C$2:$F$36,2,0),\"\")","v":""},{"$f":"IFERROR(VLOOKUP(ROW()-1,$C$2:$F$36,3,0),\"\")","v":""},{"$f":"IFERROR(VLOOKUP(ROW()-1,$C$2:$F$36,4,0),\"\")","v":""}]
[{"$f":"IF(E20=\"\",\"\",RANK(E20,$E$2:$E$36))","v":""},{"$f":"IF(A20=\"\",\"\",A20+ROW()/1000)","v":""},{"$f":"IF(B20=\"\",\"\",RANK(B20,$B$2:$B$36,1))","v":""},{"$f":"IF(අයවැය!D38=\"\",\"\",අයවැය!D38)","v":""},{"$f":"IF(D20=\"\",\"\",ABS(අයවැය!F38))","v":""},{"$f":"IF(E20=\"\",\"\",E20/SUM($E$2:$E$36))","v":""},null,{"$f":"IFERROR(VLOOKUP(ROW()-1,$C$2:$F$36,2,0),\"\")","v":""},{"$f":"IFERROR(VLOOKUP(ROW()-1,$C$2:$F$36,3,0),\"\")","v":""},{"$f":"IFERROR(VLOOKUP(ROW()-1,$C$2:$F$36,4,0),\"\")","v":""}]
[{"$f":"IF(E21=\"\",\"\",RANK(E21,$E$2:$E$36))","v":""},{"$f":"IF(A21=\"\",\"\",A21+ROW()/1000)","v":""},{"$f":"IF(B21=\"\",\"\",RANK(B21,$B$2:$B$36,1))","v":""},{"$f":"IF(අයවැය!D39=\"\",\"\",අයවැය!D39)","v":""},{"$f":"IF(D21=\"\",\"\",ABS(අයවැය!F39))","v":""},{"$f":"IF(E21=\"\",\"\",E21/SUM($E$2:$E$36))","v":""},null,{"$f":"IFERROR(VLOOKUP(ROW()-1,$C$2:$F$36,2,0),\"\")","v":""},{"$f":"IFERROR(VLOOKUP(ROW()-1,$C$2:$F$36,3,0),\"\")","v":""},{"$f":"IFERROR(VLOOKUP(ROW()-1,$C$2:$F$36,4,0),\"\")","v":""}]
[{"$f":"IF(E22=\"\",\"\",RANK(E22,$E$2:$E$36))","v":""},{"$f":"IF(A22=\"\",\"\",A22+ROW()/1000)","v":""},{"$f":"IF(B22=\"\",\"\",RANK(B22,$B$2:$B$36,1))","v":""},{"$f":"IF(අයවැය!D40=\"\",\"\",අයවැය!D40)","v":""},{"$f":"IF(D22=\"\",\"\",ABS(අයවැය!F40))","v":""},{"$f":"IF(E22=\"\",\"\",E22/SUM($E$2:$E$36))","v":""},null,{"$f":"IFERROR(VLOOKUP(ROW()-1,$C$2:$F$36,2,0),\"\")","v":""},{"$f":"IFERROR(VLOOKUP(ROW()-1,$C$2:$F$36,3,0),\"\")","v":""},{"$f":"IFERROR(VLOOKUP(ROW()-1,$C$2:$F$36,4,0),\"\")","v":""}]
[{"$f":"IF(E23=\"\",\"\",RANK(E23,$E$2:$E$36))","v":""},{"$f":"IF(A23=\"\",\"\",A23+ROW()/1000)","v":""},{"$f":"IF(B23=\"\",\"\",RANK(B23,$B$2:$B$36,1))","v":""},{"$f":"IF(අයවැය!D41=\"\",\"\",අයවැය!D41)","v":""},{"$f":"IF(D23=\"\",\"\",ABS(අයවැය!F41))","v":""},{"$f":"IF(E23=\"\",\"\",E23/SUM($E$2:$E$36))","v":""},null,{"$f":"IFERROR(VLOOKUP(ROW()-1,$C$2:$F$36,2,0),\"\")","v":""},{"$f":"IFERROR(VLOOKUP(ROW()-1,$C$2:$F$36,3,0),\"\")","v":""},{"$f":"IFERROR(VLOOKUP(ROW()-1,$C$2:$F$36,4,0),\"\")","v":""}]
[{"$f":"IF(E24=\"\",\"\",RANK(E24,$E$2:$E$36))","v":""},{"$f":"IF(A24=\"\",\"\",A24+ROW()/1000)","v":""},{"$f":"IF(B24=\"\",\"\",RANK(B24,$B$2:$B$36,1))","v":""},{"$f":"IF(අයවැය!D42=\"\",\"\",අයවැය!D42)","v":""},{"$f":"IF(D24=\"\",\"\",ABS(අයවැය!F42))","v":""},{"$f":"IF(E24=\"\",\"\",E24/SUM($E$2:$E$36))","v":""},null,{"$f":"IFERROR(VLOOKUP(ROW()-1,$C$2:$F$36,2,0),\"\")","v":""},{"$f":"IFERROR(VLOOKUP(ROW()-1,$C$2:$F$36,3,0),\"\")","v":""},{"$f":"IFERROR(VLOOKUP(ROW()-1,$C$2:$F$36,4,0),\"\")","v":""}]
[{"$f":"IF(E25=\"\",\"\",RANK(E25,$E$2:$E$36))","v":""},{"$f":"IF(A25=\"\",\"\",A25+ROW()/1000)","v":""},{"$f":"IF(B25=\"\",\"\",RANK(B25,$B$2:$B$36,1))","v":""},{"$f":"IF(අයවැය!D43=\"\",\"\",අයවැය!D43)","v":""},{"$f":"IF(D25=\"\",\"\",ABS(අයවැය!F43))","v":""},{"$f":"IF(E25=\"\",\"\",E25/SUM($E$2:$E$36))","v":""},null,{"$f":"IFERROR(VLOOKUP(ROW()-1,$C$2:$F$36,2,0),\"\")","v":""},{"$f":"IFERROR(VLOOKUP(ROW()-1,$C$2:$F$36,3,0),\"\")","v":""},{"$f":"IFERROR(VLOOKUP(ROW()-1,$C$2:$F$36,4,0),\"\")","v":""}]
[{"$f":"IF(E26=\"\",\"\",RANK(E26,$E$2:$E$36))","v":""},{"$f":"IF(A26=\"\",\"\",A26+ROW()/1000)","v":""},{"$f":"IF(B26=\"\",\"\",RANK(B26,$B$2:$B$36,1))","v":""},{"$f":"IF(අයවැය!D44=\"\",\"\",අයවැය!D44)","v":""},{"$f":"IF(D26=\"\",\"\",ABS(අයවැය!F44))","v":""},{"$f":"IF(E26=\"\",\"\",E26/SUM($E$2:$E$36))","v":""},null,{"$f":"IFERROR(VLOOKUP(ROW()-1,$C$2:$F$36,2,0),\"\")","v":""},{"$f":"IFERROR(VLOOKUP(ROW()-1,$C$2:$F$36,3,0),\"\")","v":""},{"$f":"IFERROR(VLOOKUP(ROW()-1,$C$2:$F$36,4,0),\"\")","v":""}]
[{"$f":"IF(E27=\"\",\"\",RANK(E27,$E$2:$E$36))","v":""},{"$f":"IF(A27=\"\",\"\",A27+ROW()/1000)","v":""},{"$f":"IF(B27=\"\",\"\",RANK(B27,$B$2:$B$36,1))","v":""},{"$f":"IF(අයවැය!D45=\"\",\"\",අයවැය!D45)","v":""},{"$f":"IF(D27=\"\",\"\",ABS(අයවැය!F45))","v":""},{"$f":"IF(E27=\"\",\"\",E27/SUM($E$2:$E$36))","v":""},null,{"$f":"IFERROR(VLOOKUP(ROW()-1,$C$2:$F$36,2,0),\"\")","v":""},{"$f":"IFERROR(VLOOKUP(ROW()-1,$C$2:$F$36,3,0),\"\")","v":""},{"$f":"IFERROR(VLOOKUP(ROW()-1,$C$2:$F$36,4,0),\"\")","v":""}]
[{"$f":"IF(E28=\"\",\"\",RANK(E28,$E$2:$E$36))","v":""},{"$f":"IF(A28=\"\",\"\",A28+ROW()/1000)","v":""},{"$f":"IF(B28=\"\",\"\",RANK(B28,$B$2:$B$36,1))","v":""},{"$f":"IF(අයවැය!D46=\"\",\"\",අයවැය!D46)","v":""},{"$f":"IF(D28=\"\",\"\",ABS(අයවැය!F46))","v":""},{"$f":"IF(E28=\"\",\"\",E28/SUM($E$2:$E$36))","v":""},null,{"$f":"IFERROR(VLOOKUP(ROW()-1,$C$2:$F$36,2,0),\"\")","v":""},{"$f":"IFERROR(VLOOKUP(ROW()-1,$C$2:$F$36,3,0),\"\")","v":""},{"$f":"IFERROR(VLOOKUP(ROW()-1,$C$2:$F$36,4,0),\"\")","v":""}]
[{"$f":"IF(E29=\"\",\"\",RANK(E29,$E$2:$E$36))","v":""},{"$f":"IF(A29=\"\",\"\",A29+ROW()/1000)","v":""},{"$f":"IF(B29=\"\",\"\",RANK(B29,$B$2:$B$36,1))","v":""},{"$f":"IF(අයවැය!D47=\"\",\"\",අයවැය!D47)","v":""},{"$f":"IF(D29=\"\",\"\",ABS(අයවැය!F47))","v":""},{"$f":"IF(E29=\"\",\"\",E29/SUM($E$2:$E$36))","v":""},null,{"$f":"IFERROR(VLOOKUP(ROW()-1,$C$2:$F$36,2,0),\"\")","v":""},{"$f":"IFERROR(VLOOKUP(ROW()-1,$C$2:$F$36,3,0),\"\")","v":""},{"$f":"IFERROR(VLOOKUP(ROW()-1,$C$2:$F$36,4,0),\"\")","v":""}]
[{"$f":"IF(E30=\"\",\"\",RANK(E30,$E$2:$E$36))","v":""},{"$f":"IF(A30=\"\",\"\",A30+ROW()/1000)","v":""},{"$f":"IF(B30=\"\",\"\",RANK(B30,$B$2:$B$36,1))","v":""},{"$f":"IF(අයවැය!D48=\"\",\"\",අයවැය!D48)","v":""},{"$f":"IF(D30=\"\",\"\",ABS(අයවැය!F48))","v":""},{"$f":"IF(E30=\"\",\"\",E30/SUM($E$2:$E$36))","v":""},null,{"$f":"IFERROR(VLOOKUP(ROW()-1,$C$2:$F$36,2,0),\"\")","v":""},{"$f":"IFERROR(VLOOKUP(ROW()-1,$C$2:$F$36,3,0),\"\")","v":""},{"$f":"IFERROR(VLOOKUP(ROW()-1,$C$2:$F$36,4,0),\"\")","v":""}]
[{"$f":"IF(E31=\"\",\"\",RANK(E31,$E$2:$E$36))","v":""},{"$f":"IF(A31=\"\",\"\",A31+ROW()/1000)","v":""},{"$f":"IF(B31=\"\",\"\",RANK(B31,$B$2:$B$36,1))","v":""},{"$f":"IF(අයවැය!D49=\"\",\"\",අයවැය!D49)","v":""},{"$f":"IF(D31=\"\",\"\",ABS(අයවැය!F49))","v":""},{"$f":"IF(E31=\"\",\"\",E31/SUM($E$2:$E$36))","v":""},null,{"$f":"IFERROR(VLOOKUP(ROW()-1,$C$2:$F$36,2,0),\"\")","v":""},{"$f":"IFERROR(VLOOKUP(ROW()-1,$C$2:$F$36,3,0),\"\")","v":""},{"$f":"IFERROR(VLOOKUP(ROW()-1,$C$2:$F$36,4,0),\"\")","v":""}]
[{"$f":"IF(E32=\"\",\"\",RANK(E32,$E$2:$E$36))","v":""},{"$f":"IF(A32=\"\",\"\",A32+ROW()/1000)","v":""},{"$f":"IF(B32=\"\",\"\",RANK(B32,$B$2:$B$36,1))","v":""},{"$f":"IF(අයවැය!D50=\"\",\"\",අයවැය!D50)","v":""},{"$f":"IF(D32=\"\",\"\",ABS(අයවැය!F50))","v":""},{"$f":"IF(E32=\"\",\"\",E32/SUM($E$2:$E$36))","v":""},null,{"$f":"IFERROR(VLOOKUP(ROW()-1,$C$2:$F$36,2,0),\"\")","v":""},{"$f":"IFERROR(VLOOKUP(ROW()-1,$C$2:$F$36,3,0),\"\")","v":""},{"$f":"IFERROR(VLOOKUP(ROW()-1,$C$2:$F$36,4,0),\"\")","v":""}]
[{"$f":"IF(E33=\"\",\"\",RANK(E33,$E$2:$E$36))","v":""},{"$f":"IF(A33=\"\",\"\",A33+ROW()/1000)","v":""},{"$f":"IF(B33=\"\",\"\",RANK(B33,$B$2:$B$36,1))","v":""},{"$f":"IF(අයවැය!D51=\"\",\"\",අයවැය!D51)","v":""},{"$f":"IF(D33=\"\",\"\",ABS(අයවැය!F51))","v":""},{"$f":"IF(E33=\"\",\"\",E33/SUM($E$2:$E$36))","v":""},null,{"$f":"IFERROR(VLOOKUP(ROW()-1,$C$2:$F$36,2,0),\"\")","v":""},{"$f":"IFERROR(VLOOKUP(ROW()-1,$C$2:$F$36,3,0),\"\")","v":""},{"$f":"IFERROR(VLOOKUP(ROW()-1,$C$2:$F$36,4,0),\"\")","v":""}]
[{"$f":"IF(E34=\"\",\"\",RANK(E34,$E$2:$E$36))","v":""},{"$f":"IF(A34=\"\",\"\",A34+ROW()/1000)","v":""},{"$f":"IF(B34=\"\",\"\",RANK(B34,$B$2:$B$36,1))","v":""},{"$f":"IF(අයවැය!D52=\"\",\"\",අයවැය!D52)","v":""},{"$f":"IF(D34=\"\",\"\",ABS(අයවැය!F52))","v":""},{"$f":"IF(E34=\"\",\"\",E34/SUM($E$2:$E$36))","v":""},null,{"$f":"IFERROR(VLOOKUP(ROW()-1,$C$2:$F$36,2,0),\"\")","v":""},{"$f":"IFERROR(VLOOKUP(ROW()-1,$C$2:$F$36,3,0),\"\")","v":""},{"$f":"IFERROR(VLOOKUP(ROW()-1,$C$2:$F$36,4,0),\"\")","v":""}]
[{"$f":"IF(E35=\"\",\"\",RANK(E35,$E$2:$E$36))","v":""},{"$f":"IF(A35=\"\",\"\",A35+ROW()/1000)","v":""},{"$f":"IF(B35=\"\",\"\",RANK(B35,$B$2:$B$36,1))","v":""},{"$f":"IF(අයවැය!D53=\"\",\"\",අයවැය!D53)","v":""},{"$f":"IF(D35=\"\",\"\",ABS(අයවැය!F53))","v":""},{"$f":"IF(E35=\"\",\"\",E35/SUM($E$2:$E$36))","v":""},null,{"$f":"IFERROR(VLOOKUP(ROW()-1,$C$2:$F$36,2,0),\"\")","v":""},{"$f":"IFERROR(VLOOKUP(ROW()-1,$C$2:$F$36,3,0),\"\")","v":""},{"$f":"IFERROR(VLOOKUP(ROW()-1,$C$2:$F$36,4,0),\"\")","v":""}]
[{"$f":"IF(E36=\"\",\"\",RANK(E36,$E$2:$E$36))","v":""},{"$f":"IF(A36=\"\",\"\",A36+ROW()/1000)","v":""},{"$f":"IF(B36=\"\",\"\",RANK(B36,$B$2:$B$36,1))","v":""},{"$f":"IF(අයවැය!D54=\"\",\"\",අයවැය!D54)","v":""},{"$f":"IF(D36=\"\",\"\",ABS(අයවැය!F54))","v":""},{"$f":"IF(E36=\"\",\"\",E36/SUM($E$2:$E$36))","v":""},null,{"$f":"IFERROR(VLOOKUP(ROW()-1,$C$2:$F$36,2,0),\"\")","v":""},{"$f":"IFERROR(VLOOKUP(ROW()-1,$C$2:$F$36,3,0),\"\")","v":""},{"$f":"IFERROR(VLOOKUP(ROW()-1,$C$2:$F$36,4,0),\"\")","v":""}]

{"sheet":"කාණ්ඩගත කළ වියදම්","index":3,"n_rows":744,"n_cols":7,"rows_kept":744}
["include both cents","concatenate other values","combine the first 2 columns","replace blanks with a unicode character like Z, for alphabetical sorting","Sort C based on D"]
[{"$f":"IF('වාර්තා වියදම්'!C6:C750=\"\",\"\",'වාර්තා වියදම්'!A6:A750 & \"     \" & TEXT('වාර්තා වියදම්'!C6:C750, \".00\") & \"          \")","v":"නියැදි කාණ්ඩය     1.10          "},{"$f":"IF('වාර්තා වියදම්'!C6:C750=\"\",\"\", IF('වාර්තා වියදම්'!B6:B750 = \"\", \"\",  'වාර්තා වියදම්'!B6:B750 & \"     \") &  IF('වාර්තා වියදම්'!D6:D750 = \"\", \"\",  'වාර්තා වියදම්'!D6:D750 & \"     \") & IF('වාර්තා වියදම්'!E6:E750 = \"\", \"\",  'වාර්තා වියදම්'!E6:E750 & \"     \") & IF('වාර්තා වියදම්'!F6:F750 = \"\", \"\",  'වාර්තා වියදම්'!F6:F750 & \"     \") & IF('වාර්තා වියදම්'!G6:G750 = \"\", \"\",  'වාර්තා වියදම්'!G6:G750 & \"     \") & IF('වාර්තා වියදම්'!H6:H750 = \"\", \"\",  'වාර්තා වියදම්'!H6:H750 & \"     \") & IF('වාර්තා වියදම්'!I6:I750 = \"\", \"\",  'වාර්තා වියදම්'!I6:I750 & \"     \") & IF('වාර්තා වියදම්'!J6:J750 = \"\", \"\",  'වාර්තා වියදම්'!J6:J750 & \"     \") & IF('වාර්තා වියදම්'!K6:K750 = \"\", \"\",  'වාර්තා වියදම්'!K6:K750 & \"     \") & IF('වාර්තා වියදම්'!L6:L750 = \"\", \"\",  'වාර්තා වියදම්'!L6:L750 & \"     \") & IF('වාර්තා වියදම්'!M6:M750 = \"\", \"\",  'වාර්තා වියදම්'!M6:M750 & \"     \") & IF('වාර්තා වියදම්'!N6:N750 = \"\", \"\",  'වාර්තා වියදම්'!N6:N750 & \"     \") & IF('වාර්තා වියදම්'!O6:O750 = \"\", \"\",  'වාර්තා වියදම්'!O6:O750 & \"     \") & IF('වාර්තා වියදම්'!P6:P750 = \"\", \"\",  'වාර්තා වියදම්'!P6:P750 & \"     \") & IF('වාර්තා වියදම්'!Q6:Q750 = \"\", \"\",  'වාර්තා වියදම්'!Q6:Q750 & \"     \") & IF('වාර්තා වියදම්'!R6:R750 = \"\", \"\",  'වාර්තා වියදම්'!R6:R750 & \"     \") & IF('වාර්තා වියදම්'!S6:S750 = \"\", \"\",  'වාර්තා වියදම්'!S6:S750 & \"     \") & IF('වාර්තා වියදම්'!T6:T750 = \"\", \"\",  'වාර්තා වියදම්'!T6:T750 & \"     \") & IF('වාර්තා වියදම්'!U6:U750 = \"\", \"\",  'වාර්තා වියදම්'!U6:U750 & \"     \") & IF('වාර්තා වියදම්'!V6:V750 = \"\", \"\",  'වාර්තා වියදම්'!V6:V750 & \"     \") & IF('වාර්තා වියදම්'!W6:W750 = \"\", \"\",  'වාර්තා වියදම්'!W6:W750 & \"     \") & IF('වාර්තා වියදම්'!X6:X750 = \"\", \"\",  'වාර්තා වියදම්'!X6:X750 & \"     \") & IF('වාර්තා වියදම්'!Y6:Y750 = \"\", \"\",  'වාර්තා වියදම්'!Y6:Y750 & \"     \") & IF('වාර්තා වියදම්'!Z6:Z750 = \"\", \"\",  'වාර්තා වියදම්'!Z6:Z750 & \"     \")  )","v":""},{"$f":"A2&B2","v":"නියැදි කාණ්ඩය     1.10          "},{"$f":"IF(C2:C744 = \"\",\"𬺓𬺓𬺓\",C2:C744)","v":"නියැදි කාණ්ඩය     1.10          "},{"$f":"_xlfn._xlws.SORT(C2:D744,2)","v":"නියැදි කාණ්ඩය     1.10          "},"නියැදි කාණ්ඩය     1.10          ",{"$f":"E2:E744","v":"නියැදි කාණ්ඩය     1.10          "}]
["","",{"$f":"A3&B3","v":""},"𬺓𬺓𬺓","","𬺓𬺓𬺓",""]
["","",{"$f":"A4&B4","v":""},"𬺓𬺓𬺓","","𬺓𬺓𬺓",""]
["","",{"$f":"A5&B5","v":""},"𬺓𬺓𬺓","","𬺓𬺓𬺓",""]
["","",{"$f":"A6&B6","v":""},"𬺓𬺓𬺓","","𬺓𬺓𬺓",""]
["","",{"$f":"A7&B7","v":""},"𬺓𬺓𬺓","","𬺓𬺓𬺓",""]
["","",{"$f":"A8&B8","v":""},"𬺓𬺓𬺓","","𬺓𬺓𬺓",""]
["","",{"$f":"A9&B9","v":""},"𬺓𬺓𬺓","","𬺓𬺓𬺓",""]
["","",{"$f":"A10&B10","v":""},"𬺓𬺓𬺓","","𬺓𬺓𬺓",""]
["","",{"$f":"A11&B11","v":""},"𬺓𬺓𬺓","","𬺓𬺓𬺓",""]
["","",{"$f":"A12&B12","v":""},"𬺓𬺓𬺓","","𬺓𬺓𬺓",""]
["","",{"$f":"A13&B13","v":""},"𬺓𬺓𬺓","","𬺓𬺓𬺓",""]
["","",{"$f":"A14&B14","v":""},"𬺓𬺓𬺓","","𬺓𬺓𬺓",""]
["","",{"$f":"A15&B15","v":""},"𬺓𬺓𬺓","","𬺓𬺓𬺓",""]
["","",{"$f":"A16&B16","v":""},"𬺓𬺓𬺓","","𬺓𬺓𬺓",""]
["","",{"$f":"A17&B17","v":""},"𬺓𬺓𬺓","","𬺓𬺓𬺓",""]
["","",{"$f":"A18&B18","v":""},"𬺓𬺓𬺓","","𬺓𬺓𬺓",""]
["","",{"$f":"A19&B19","v":""},"𬺓𬺓𬺓","","𬺓𬺓𬺓",""]
["","",{"$f":"A20&B20","v":""},"𬺓𬺓𬺓","","𬺓𬺓𬺓",""]
["","",{"$f":"A21&B21","v":""},"𬺓𬺓𬺓","","𬺓𬺓𬺓",""]
["","",{"$f":"A22&B22","v":""},"𬺓𬺓𬺓","","𬺓𬺓𬺓",""]
["","",{"$f":"A23&B23","v":""},"𬺓𬺓𬺓","","𬺓𬺓𬺓",""]
["","",{"$f":"A24&B24","v":""},"𬺓𬺓𬺓","","𬺓𬺓𬺓",""]
["","",{"$f":"A25&B25","v":""},"𬺓𬺓𬺓","","𬺓𬺓𬺓",""]
["","",{"$f":"A26&B26","v":""},"𬺓𬺓𬺓","","𬺓𬺓𬺓",""]
["","",{"$f":"A27&B27","v":""},"𬺓𬺓𬺓","","𬺓𬺓𬺓",""]
["","",{"$f":"A28&B28","v":""},"𬺓𬺓𬺓","","𬺓𬺓𬺓",""]
["","",{"$f":"A29&B29","v":""},"𬺓𬺓𬺓","","𬺓𬺓𬺓",""]
["","",{"$f":"A30&B30","v":""},"𬺓𬺓𬺓","","𬺓𬺓𬺓",""]
["","",{"$f":"A31&B31","v":""},"𬺓𬺓𬺓","","𬺓𬺓𬺓",""]
["","",{"$f":"A32&B32","v":""},"𬺓𬺓𬺓","","𬺓𬺓𬺓",""]
["","",{"$f":"A33&B33","v":""},"𬺓𬺓𬺓","","𬺓𬺓𬺓",""]
["","",{"$f":"A34&B34","v":""},"𬺓𬺓𬺓","","𬺓𬺓𬺓",""]
["","",{"$f":"A35&B35","v":""},"𬺓𬺓𬺓","","𬺓𬺓𬺓",""]
["","",{"$f":"A36&B36","v":""},"𬺓𬺓𬺓","","𬺓𬺓𬺓",""]
["","",{"$f":"A37&B37","v":""},"𬺓𬺓𬺓","","𬺓𬺓𬺓",""]
["","",{"$f":"A38&B38","v":""},"𬺓𬺓𬺓","","𬺓𬺓𬺓",""]
["","",{"$f":"A39&B39","v":""},"𬺓𬺓𬺓","","𬺓𬺓𬺓",""]
["","",{"$f":"A40&B40","v":""},"𬺓𬺓𬺓","","𬺓𬺓𬺓",""]
["","",{"$f":"A41&B41","v":""},"𬺓𬺓𬺓","","𬺓𬺓𬺓",""]
["","",{"$f":"A42&B42","v":""},"𬺓𬺓𬺓","","𬺓𬺓𬺓",""]
["","",{"$f":"A43&B43","v":""},"𬺓𬺓𬺓","","𬺓𬺓𬺓",""]
["","",{"$f":"A44&B44","v":""},"𬺓𬺓𬺓","","𬺓𬺓𬺓",""]
["","",{"$f":"A45&B45","v":""},"𬺓𬺓𬺓","","𬺓𬺓𬺓",""]
["","",{"$f":"A46&B46","v":""},"𬺓𬺓𬺓","","𬺓𬺓𬺓",""]
["","",{"$f":"A47&B47","v":""},"𬺓𬺓𬺓","","𬺓𬺓𬺓",""]
["","",{"$f":"A48&B48","v":""},"𬺓𬺓𬺓","","𬺓𬺓𬺓",""]
["","",{"$f":"A49&B49","v":""},"𬺓𬺓𬺓","","𬺓𬺓𬺓",""]
["","",{"$f":"A50&B50","v":""},"𬺓𬺓𬺓","","𬺓𬺓𬺓",""]
["","",{"$f":"A51&B51","v":""},"𬺓𬺓𬺓","","𬺓𬺓𬺓",""]
["","",{"$f":"A52&B52","v":""},"𬺓𬺓𬺓","","𬺓𬺓𬺓",""]
["","",{"$f":"A53&B53","v":""},"𬺓𬺓𬺓","","𬺓𬺓𬺓",""]
["","",{"$f":"A54&B54","v":""},"𬺓𬺓𬺓","","𬺓𬺓𬺓",""]
["","",{"$f":"A55&B55","v":""},"𬺓𬺓𬺓","","𬺓𬺓𬺓",""]
["","",{"$f":"A56&B56","v":""},"𬺓𬺓𬺓","","𬺓𬺓𬺓",""]
["","",{"$f":"A57&B57","v":""},"𬺓𬺓𬺓","","𬺓𬺓𬺓",""]
["","",{"$f":"A58&B58","v":""},"𬺓𬺓𬺓","","𬺓𬺓𬺓",""]
["","",{"$f":"A59&B59","v":""},"𬺓𬺓𬺓","","𬺓𬺓𬺓",""]
["","",{"$f":"A60&B60","v":""},"𬺓𬺓𬺓","","𬺓𬺓𬺓",""]
["","",{"$f":"A61&B61","v":""},"𬺓𬺓𬺓","","𬺓𬺓𬺓",""]
["","",{"$f":"A62&B62","v":""},"𬺓𬺓𬺓","","𬺓𬺓𬺓",""]
["","",{"$f":"A63&B63","v":""},"𬺓𬺓𬺓","","𬺓𬺓𬺓",""]
["","",{"$f":"A64&B64","v":""},"𬺓𬺓𬺓","","𬺓𬺓𬺓",""]
["","",{"$f":"A65&B65","v":""},"𬺓𬺓𬺓","","𬺓𬺓𬺓",""]
["","",{"$f":"A66&B66","v":""},"𬺓𬺓𬺓","","𬺓𬺓𬺓",""]
["","",{"$f":"A67&B67","v":""},"𬺓𬺓𬺓","","𬺓𬺓𬺓",""]
["","",{"$f":"A68&B68","v":""},"𬺓𬺓𬺓","","𬺓𬺓𬺓",""]
["","",{"$f":"A69&B69","v":""},"𬺓𬺓𬺓","","𬺓𬺓𬺓",""]
["","",{"$f":"A70&B70","v":""},"𬺓𬺓𬺓","","𬺓𬺓𬺓",""]
["","",{"$f":"A71&B71","v":""},"𬺓𬺓𬺓","","𬺓𬺓𬺓",""]
["","",{"$f":"A72&B72","v":""},"𬺓𬺓𬺓","","𬺓𬺓𬺓",""]
["","",{"$f":"A73&B73","v":""},"𬺓𬺓𬺓","","𬺓𬺓𬺓",""]
["","",{"$f":"A74&B74","v":""},"𬺓𬺓𬺓","","𬺓𬺓𬺓",""]
["","",{"$f":"A75&B75","v":""},"𬺓𬺓𬺓","","𬺓𬺓𬺓",""]
["","",{"$f":"A76&B76","v":""},"𬺓𬺓𬺓","","𬺓𬺓𬺓",""]
["","",{"$f":"A77&B77","v":""},"𬺓𬺓𬺓","","𬺓𬺓𬺓",""]
["","",{"$f":"A78&B78","v":""},"𬺓𬺓𬺓","","𬺓𬺓𬺓",""]
["","",{"$f":"A79&B79","v":""},"𬺓𬺓𬺓","","𬺓𬺓𬺓",""]
["","",{"$f":"A80&B80","v":""},"𬺓𬺓𬺓","","𬺓𬺓𬺓",""]
["","",{"$f":"A81&B81","v":""},"𬺓𬺓𬺓","","𬺓𬺓𬺓",""]
["","",{"$f":"A82&B82","v":""},"𬺓𬺓𬺓","","𬺓𬺓𬺓",""]
["","",{"$f":"A83&B83","v":""},"𬺓𬺓𬺓","","𬺓𬺓𬺓",""]
["","",{"$f":"A84&B84","v":""},"𬺓𬺓𬺓","","𬺓𬺓𬺓",""]
["","",{"$f":"A85&B85","v":""},"𬺓𬺓𬺓","","𬺓𬺓𬺓",""]
["","",{"$f":"A86&B86","v":""},"𬺓𬺓𬺓","","𬺓𬺓𬺓",""]
["","",{"$f":"A87&B87","v":""},"𬺓𬺓𬺓","","𬺓𬺓𬺓",""]
["","",{"$f":"A88&B88","v":""},"𬺓𬺓𬺓","","𬺓𬺓𬺓",""]
["","",{"$f":"A89&B89","v":""},"𬺓𬺓𬺓","","𬺓𬺓𬺓",""]
["","",{"$f":"A90&B90","v":""},"𬺓𬺓𬺓","","𬺓𬺓𬺓",""]
["","",{"$f":"A91&B91","v":""},"𬺓𬺓𬺓","","𬺓𬺓𬺓",""]
["","",{"$f":"A92&B92","v":""},"𬺓𬺓𬺓","","𬺓𬺓𬺓",""]
["","",{"$f":"A93&B93","v":""},"𬺓𬺓𬺓","","𬺓𬺓𬺓",""]
["","",{"$f":"A94&B94","v":""},"𬺓𬺓𬺓","","𬺓𬺓𬺓",""]
["","",{"$f":"A95&B95","v":""},"𬺓𬺓𬺓","","𬺓𬺓𬺓",""]
["","",{"$f":"A96&B96","v":""},"𬺓𬺓𬺓","","𬺓𬺓𬺓",""]
["","",{"$f":"A97&B97","v":""},"𬺓𬺓𬺓","","𬺓𬺓𬺓",""]
["","",{"$f":"A98&B98","v":""},"𬺓𬺓𬺓","","𬺓𬺓𬺓",""]
["","",{"$f":"A99&B99","v":""},"𬺓𬺓𬺓","","𬺓𬺓𬺓",""]
["","",{"$f":"A100&B100","v":""},"𬺓𬺓𬺓","","𬺓𬺓𬺓",""]
["","",{"$f":"A101&B101","v":""},"𬺓𬺓𬺓","","𬺓𬺓𬺓",""]
["","",{"$f":"A102&B102","v":""},"𬺓𬺓𬺓","","𬺓𬺓𬺓",""]
["","",{"$f":"A103&B103","v":""},"𬺓𬺓𬺓","","𬺓𬺓𬺓",""]
["","",{"$f":"A104&B104","v":""},"𬺓𬺓𬺓","","𬺓𬺓𬺓",""]
["","",{"$f":"A105&B105","v":""},"𬺓𬺓𬺓","","𬺓𬺓𬺓",""]
["","",{"$f":"A106&B106","v":""},"𬺓𬺓𬺓","","𬺓𬺓𬺓",""]
["","",{"$f":"A107&B107","v":""},"𬺓𬺓𬺓","","𬺓𬺓𬺓",""]
["","",{"$f":"A108&B108","v":""},"𬺓𬺓𬺓","","𬺓𬺓𬺓",""]
["","",{"$f":"A109&B109","v":""},"𬺓𬺓𬺓","","𬺓𬺓𬺓",""]
["","",{"$f":"A110&B110","v":""},"𬺓𬺓𬺓","","𬺓𬺓𬺓",""]
["","",{"$f":"A111&B111","v":""},"𬺓𬺓𬺓","","𬺓𬺓𬺓",""]
["","",{"$f":"A112&B112","v":""},"𬺓𬺓𬺓","","𬺓𬺓𬺓",""]
["","",{"$f":"A113&B113","v":""},"𬺓𬺓𬺓","","𬺓𬺓𬺓",""]
["","",{"$f":"A114&B114","v":""},"𬺓𬺓𬺓","","𬺓𬺓𬺓",""]
["","",{"$f":"A115&B115","v":""},"𬺓𬺓𬺓","","𬺓𬺓𬺓",""]
["","",{"$f":"A116&B116","v":""},"𬺓𬺓𬺓","","𬺓𬺓𬺓",""]
["","",{"$f":"A117&B117","v":""},"𬺓𬺓𬺓","","𬺓𬺓𬺓",""]
["","",{"$f":"A118&B118","v":""},"𬺓𬺓𬺓","","𬺓𬺓𬺓",""]
["","",{"$f":"A119&B119","v":""},"𬺓𬺓𬺓","","𬺓𬺓𬺓",""]
["","",{"$f":"A120&B120","v":""},"𬺓𬺓𬺓","","𬺓𬺓𬺓",""]
["","",{"$f":"A121&B121","v":""},"𬺓𬺓𬺓","","𬺓𬺓𬺓",""]
["","",{"$f":"A122&B122","v":""},"𬺓𬺓𬺓","","𬺓𬺓𬺓",""]
["","",{"$f":"A123&B123","v":""},"𬺓𬺓𬺓","","𬺓𬺓𬺓",""]
["","",{"$f":"A124&B124","v":""},"𬺓𬺓𬺓","","𬺓𬺓𬺓",""]
["","",{"$f":"A125&B125","v":""},"𬺓𬺓𬺓","","𬺓𬺓𬺓",""]
["","",{"$f":"A126&B126","v":""},"𬺓𬺓𬺓","","𬺓𬺓𬺓",""]
["","",{"$f":"A127&B127","v":""},"𬺓𬺓𬺓","","𬺓𬺓𬺓",""]
["","",{"$f":"A128&B128","v":""},"𬺓𬺓𬺓","","𬺓𬺓𬺓",""]
["","",{"$f":"A129&B129","v":""},"𬺓𬺓𬺓","","𬺓𬺓𬺓",""]
["","",{"$f":"A130&B130","v":""},"𬺓𬺓𬺓","","𬺓𬺓𬺓",""]
["","",{"$f":"A131&B131","v":""},"𬺓𬺓𬺓","","𬺓𬺓𬺓",""]
["","",{"$f":"A132&B132","v":""},"𬺓𬺓𬺓","","𬺓𬺓𬺓",""]
["","",{"$f":"A133&B133","v":""},"𬺓𬺓𬺓","","𬺓𬺓𬺓",""]
["","",{"$f":"A134&B134","v":""},"𬺓𬺓𬺓","","𬺓𬺓𬺓",""]
["","",{"$f":"A135&B135","v":""},"𬺓𬺓𬺓","","𬺓𬺓𬺓",""]
["","",{"$f":"A136&B136","v":""},"𬺓𬺓𬺓","","𬺓𬺓𬺓",""]
["","",{"$f":"A137&B137","v":""},"𬺓𬺓𬺓","","𬺓𬺓𬺓",""]
["","",{"$f":"A138&B138","v":""},"𬺓𬺓𬺓","","𬺓𬺓𬺓",""]
["","",{"$f":"A139&B139","v":""},"𬺓𬺓𬺓","","𬺓𬺓𬺓",""]
["","",{"$f":"A140&B140","v":""},"𬺓𬺓𬺓","","𬺓𬺓𬺓",""]
["","",{"$f":"A141&B141","v":""},"𬺓𬺓𬺓","","𬺓𬺓𬺓",""]
["","",{"$f":"A142&B142","v":""},"𬺓𬺓𬺓","","𬺓𬺓𬺓",""]
["","",{"$f":"A143&B143","v":""},"𬺓𬺓𬺓","","𬺓𬺓𬺓",""]
["","",{"$f":"A144&B144","v":""},"𬺓𬺓𬺓","","𬺓𬺓𬺓",""]
["","",{"$f":"A145&B145","v":""},"𬺓𬺓𬺓","","𬺓𬺓𬺓",""]
["","",{"$f":"A146&B146","v":""},"𬺓𬺓𬺓","","𬺓𬺓𬺓",""]
["","",{"$f":"A147&B147","v":""},"𬺓𬺓𬺓","","𬺓𬺓𬺓",""]
["","",{"$f":"A148&B148","v":""},"𬺓𬺓𬺓","","𬺓𬺓𬺓",""]
["","",{"$f":"A149&B149","v":""},"𬺓𬺓𬺓","","𬺓𬺓𬺓",""]
["","",{"$f":"A150&B150","v":""},"𬺓𬺓𬺓","","𬺓𬺓𬺓",""]
["","",{"$f":"A151&B151","v":""},"𬺓𬺓𬺓","","𬺓𬺓𬺓",""]
["","",{"$f":"A152&B152","v":""},"𬺓𬺓𬺓","","𬺓𬺓𬺓",""]
["","",{"$f":"A153&B153","v":""},"𬺓𬺓𬺓","","𬺓𬺓𬺓",""]
["","",{"$f":"A154&B154","v":""},"𬺓𬺓𬺓","","𬺓𬺓𬺓",""]
["","",{"$f":"A155&B155","v":""},"𬺓𬺓𬺓","","𬺓𬺓𬺓",""]
["","",{"$f":"A156&B156","v":""},"𬺓𬺓𬺓","","𬺓𬺓𬺓",""]
["","",{"$f":"A157&B157","v":""},"𬺓𬺓𬺓","","𬺓𬺓𬺓",""]
["","",{"$f":"A158&B158","v":""},"𬺓𬺓𬺓","","𬺓𬺓𬺓",""]
["","",{"$f":"A159&B159","v":""},"𬺓𬺓𬺓","","𬺓𬺓𬺓",""]
["","",{"$f":"A160&B160","v":""},"𬺓𬺓𬺓","","𬺓𬺓𬺓",""]
["","",{"$f":"A161&B161","v":""},"𬺓𬺓𬺓","","𬺓𬺓𬺓",""]
["","",{"$f":"A162&B162","v":""},"𬺓𬺓𬺓","","𬺓𬺓𬺓",""]
["","",{"$f":"A163&B163","v":""},"𬺓𬺓𬺓","","𬺓𬺓𬺓",""]
["","",{"$f":"A164&B164","v":""},"𬺓𬺓𬺓","","𬺓𬺓𬺓",""]
["","",{"$f":"A165&B165","v":""},"𬺓𬺓𬺓","","𬺓𬺓𬺓",""]
["","",{"$f":"A166&B166","v":""},"𬺓𬺓𬺓","","𬺓𬺓𬺓",""]
["","",{"$f":"A167&B167","v":""},"𬺓𬺓𬺓","","𬺓𬺓𬺓",""]
["","",{"$f":"A168&B168","v":""},"𬺓𬺓𬺓","","𬺓𬺓𬺓",""]
["","",{"$f":"A169&B169","v":""},"𬺓𬺓𬺓","","𬺓𬺓𬺓",""]
["","",{"$f":"A170&B170","v":""},"𬺓𬺓𬺓","","𬺓𬺓𬺓",""]
["","",{"$f":"A171&B171","v":""},"𬺓𬺓𬺓","","𬺓𬺓𬺓",""]
["","",{"$f":"A172&B172","v":""},"𬺓𬺓𬺓","","𬺓𬺓𬺓",""]
["","",{"$f":"A173&B173","v":""},"𬺓𬺓𬺓","","𬺓𬺓𬺓",""]
["","",{"$f":"A174&B174","v":""},"𬺓𬺓𬺓","","𬺓𬺓𬺓",""]
["","",{"$f":"A175&B175","v":""},"𬺓𬺓𬺓","","𬺓𬺓𬺓",""]
["","",{"$f":"A176&B176","v":""},"𬺓𬺓𬺓","","𬺓𬺓𬺓",""]
["","",{"$f":"A177&B177","v":""},"𬺓𬺓𬺓","","𬺓𬺓𬺓",""]
["","",{"$f":"A178&B178","v":""},"𬺓𬺓𬺓","","𬺓𬺓𬺓",""]
["","",{"$f":"A179&B179","v":""},"𬺓𬺓𬺓","","𬺓𬺓𬺓",""]
["","",{"$f":"A180&B180","v":""},"𬺓𬺓𬺓","","𬺓𬺓𬺓",""]
["","",{"$f":"A181&B181","v":""},"𬺓𬺓𬺓","","𬺓𬺓𬺓",""]
["","",{"$f":"A182&B182","v":""},"𬺓𬺓𬺓","","𬺓𬺓𬺓",""]
["","",{"$f":"A183&B183","v":""},"𬺓𬺓𬺓","","𬺓𬺓𬺓",""]
["","",{"$f":"A184&B184","v":""},"𬺓𬺓𬺓","","𬺓𬺓𬺓",""]
["","",{"$f":"A185&B185","v":""},"𬺓𬺓𬺓","","𬺓𬺓𬺓",""]
["","",{"$f":"A186&B186","v":""},"𬺓𬺓𬺓","","𬺓𬺓𬺓",""]
["","",{"$f":"A187&B187","v":""},"𬺓𬺓𬺓","","𬺓𬺓𬺓",""]
["","",{"$f":"A188&B188","v":""},"𬺓𬺓𬺓","","𬺓𬺓𬺓",""]
["","",{"$f":"A189&B189","v":""},"𬺓𬺓𬺓","","𬺓𬺓𬺓",""]
["","",{"$f":"A190&B190","v":""},"𬺓𬺓𬺓","","𬺓𬺓𬺓",""]
["","",{"$f":"A191&B191","v":""},"𬺓𬺓𬺓","","𬺓𬺓𬺓",""]
["","",{"$f":"A192&B192","v":""},"𬺓𬺓𬺓","","𬺓𬺓𬺓",""]
["","",{"$f":"A193&B193","v":""},"𬺓𬺓𬺓","","𬺓𬺓𬺓",""]
["","",{"$f":"A194&B194","v":""},"𬺓𬺓𬺓","","𬺓𬺓𬺓",""]
["","",{"$f":"A195&B195","v":""},"𬺓𬺓𬺓","","𬺓𬺓𬺓",""]
["","",{"$f":"A196&B196","v":""},"𬺓𬺓𬺓","","𬺓𬺓𬺓",""]
["","",{"$f":"A197&B197","v":""},"𬺓𬺓𬺓","","𬺓𬺓𬺓",""]
["","",{"$f":"A198&B198","v":""},"𬺓𬺓𬺓","","𬺓𬺓𬺓",""]
["","",{"$f":"A199&B199","v":""},"𬺓𬺓𬺓","","𬺓𬺓𬺓",""]
["","",{"$f":"A200&B200","v":""},"𬺓𬺓𬺓","","𬺓𬺓𬺓",""]
["","",{"$f":"A201&B201","v":""},"𬺓𬺓𬺓","","𬺓𬺓𬺓",""]
["","",{"$f":"A202&B202","v":""},"𬺓𬺓𬺓","","𬺓𬺓𬺓",""]
["","",{"$f":"A203&B203","v":""},"𬺓𬺓𬺓","","𬺓𬺓𬺓",""]
["","",{"$f":"A204&B204","v":""},"𬺓𬺓𬺓","","𬺓𬺓𬺓",""]
["","",{"$f":"A205&B205","v":""},"𬺓𬺓𬺓","","𬺓𬺓𬺓",""]
["","",{"$f":"A206&B206","v":""},"𬺓𬺓𬺓","","𬺓𬺓𬺓",""]
["","",{"$f":"A207&B207","v":""},"𬺓𬺓𬺓","","𬺓𬺓𬺓",""]
["","",{"$f":"A208&B208","v":""},"𬺓𬺓𬺓","","𬺓𬺓𬺓",""]
["","",{"$f":"A209&B209","v":""},"𬺓𬺓𬺓","","𬺓𬺓𬺓",""]
["","",{"$f":"A210&B210","v":""},"𬺓𬺓𬺓","","𬺓𬺓𬺓",""]
["","",{"$f":"A211&B211","v":""},"𬺓𬺓𬺓","","𬺓𬺓𬺓",""]
["","",{"$f":"A212&B212","v":""},"𬺓𬺓𬺓","","𬺓𬺓𬺓",""]
["","",{"$f":"A213&B213","v":""},"𬺓𬺓𬺓","","𬺓𬺓𬺓",""]
["","",{"$f":"A214&B214","v":""},"𬺓𬺓𬺓","","𬺓𬺓𬺓",""]
["","",{"$f":"A215&B215","v":""},"𬺓𬺓𬺓","","𬺓𬺓𬺓",""]
["","",{"$f":"A216&B216","v":""},"𬺓𬺓𬺓","","𬺓𬺓𬺓",""]
["","",{"$f":"A217&B217","v":""},"𬺓𬺓𬺓","","𬺓𬺓𬺓",""]
["","",{"$f":"A218&B218","v":""},"𬺓𬺓𬺓","","𬺓𬺓𬺓",""]
["","",{"$f":"A219&B219","v":""},"𬺓𬺓𬺓","","𬺓𬺓𬺓",""]
["","",{"$f":"A220&B220","v":""},"𬺓𬺓𬺓","","𬺓𬺓𬺓",""]
["","",{"$f":"A221&B221","v":""},"𬺓𬺓𬺓","","𬺓𬺓𬺓",""]
["","",{"$f":"A222&B222","v":""},"𬺓𬺓𬺓","","𬺓𬺓𬺓",""]
["","",{"$f":"A223&B223","v":""},"𬺓𬺓𬺓","","𬺓𬺓𬺓",""]
["","",{"$f":"A224&B224","v":""},"𬺓𬺓𬺓","","𬺓𬺓𬺓",""]
["","",{"$f":"A225&B225","v":""},"𬺓𬺓𬺓","","𬺓𬺓𬺓",""]
["","",{"$f":"A226&B226","v":""},"𬺓𬺓𬺓","","𬺓𬺓𬺓",""]
["","",{"$f":"A227&B227","v":""},"𬺓𬺓𬺓","","𬺓𬺓𬺓",""]
["","",{"$f":"A228&B228","v":""},"𬺓𬺓𬺓","","𬺓𬺓𬺓",""]
["","",{"$f":"A229&B229","v":""},"𬺓𬺓𬺓","","𬺓𬺓𬺓",""]
["","",{"$f":"A230&B230","v":""},"𬺓𬺓𬺓","","𬺓𬺓𬺓",""]
["","",{"$f":"A231&B231","v":""},"𬺓𬺓𬺓","","𬺓𬺓𬺓",""]
["","",{"$f":"A232&B232","v":""},"𬺓𬺓𬺓","","𬺓𬺓𬺓",""]
["","",{"$f":"A233&B233","v":""},"𬺓𬺓𬺓","","𬺓𬺓𬺓",""]
["","",{"$f":"A234&B234","v":""},"𬺓𬺓𬺓","","𬺓𬺓𬺓",""]
["","",{"$f":"A235&B235","v":""},"𬺓𬺓𬺓","","𬺓𬺓𬺓",""]
["","",{"$f":"A236&B236","v":""},"𬺓𬺓𬺓","","𬺓𬺓𬺓",""]
["","",{"$f":"A237&B237","v":""},"𬺓𬺓𬺓","","𬺓𬺓𬺓",""]
["","",{"$f":"A238&B238","v":""},"𬺓𬺓𬺓","","𬺓𬺓𬺓",""]
["","",{"$f":"A239&B239","v":""},"𬺓𬺓𬺓","","𬺓𬺓𬺓",""]
["","",{"$f":"A240&B240","v":""},"𬺓𬺓𬺓","","𬺓𬺓𬺓",""]
["","",{"$f":"A241&B241","v":""},"𬺓𬺓𬺓","","𬺓𬺓𬺓",""]
["","",{"$f":"A242&B242","v":""},"𬺓𬺓𬺓","","𬺓𬺓𬺓",""]
["","",{"$f":"A243&B243","v":""},"𬺓𬺓𬺓","","𬺓𬺓𬺓",""]
["","",{"$f":"A244&B244","v":""},"𬺓𬺓𬺓","","𬺓𬺓𬺓",""]
["","",{"$f":"A245&B245","v":""},"𬺓𬺓𬺓","","𬺓𬺓𬺓",""]
["","",{"$f":"A246&B246","v":""},"𬺓𬺓𬺓","","𬺓𬺓𬺓",""]
["","",{"$f":"A247&B247","v":""},"𬺓𬺓𬺓","","𬺓𬺓𬺓",""]
["","",{"$f":"A248&B248","v":""},"𬺓𬺓𬺓","","𬺓𬺓𬺓",""]
["","",{"$f":"A249&B249","v":""},"𬺓𬺓𬺓","","𬺓𬺓𬺓",""]
["","",{"$f":"A250&B250","v":""},"𬺓𬺓𬺓","","𬺓𬺓𬺓",""]
["","",{"$f":"A251&B251","v":""},"𬺓𬺓𬺓","","𬺓𬺓𬺓",""]
["","",{"$f":"A252&B252","v":""},"𬺓𬺓𬺓","","𬺓𬺓𬺓",""]
["","",{"$f":"A253&B253","v":""},"𬺓𬺓𬺓","","𬺓𬺓𬺓",""]
["","",{"$f":"A254&B254","v":""},"𬺓𬺓𬺓","","𬺓𬺓𬺓",""]
["","",{"$f":"A255&B255","v":""},"𬺓𬺓𬺓","","𬺓𬺓𬺓",""]
["","",{"$f":"A256&B256","v":""},"𬺓𬺓𬺓","","𬺓𬺓𬺓",""]
["","",{"$f":"A257&B257","v":""},"𬺓𬺓𬺓","","𬺓𬺓𬺓",""]
["","",{"$f":"A258&B258","v":""},"𬺓𬺓𬺓","","𬺓𬺓𬺓",""]
["","",{"$f":"A259&B259","v":""},"𬺓𬺓𬺓","","𬺓𬺓𬺓",""]
["","",{"$f":"A260&B260","v":""},"𬺓𬺓𬺓","","𬺓𬺓𬺓",""]
["","",{"$f":"A261&B261","v":""},"𬺓𬺓𬺓","","𬺓𬺓𬺓",""]
["","",{"$f":"A262&B262","v":""},"𬺓𬺓𬺓","","𬺓𬺓𬺓",""]
["","",{"$f":"A263&B263","v":""},"𬺓𬺓𬺓","","𬺓𬺓𬺓",""]
["","",{"$f":"A264&B264","v":""},"𬺓𬺓𬺓","","𬺓𬺓𬺓",""]
["","",{"$f":"A265&B265","v":""},"𬺓𬺓𬺓","","𬺓𬺓𬺓",""]
["","",{"$f":"A266&B266","v":""},"𬺓𬺓𬺓","","𬺓𬺓𬺓",""]
["","",{"$f":"A267&B267","v":""},"𬺓𬺓𬺓","","𬺓𬺓𬺓",""]
["","",{"$f":"A268&B268","v":""},"𬺓𬺓𬺓","","𬺓𬺓𬺓",""]
["","",{"$f":"A269&B269","v":""},"𬺓𬺓𬺓","","𬺓𬺓𬺓",""]
["","",{"$f":"A270&B270","v":""},"𬺓𬺓𬺓","","𬺓𬺓𬺓",""]
["","",{"$f":"A271&B271","v":""},"𬺓𬺓𬺓","","𬺓𬺓𬺓",""]
["","",{"$f":"A272&B272","v":""},"𬺓𬺓𬺓","","𬺓𬺓𬺓",""]
["","",{"$f":"A273&B273","v":""},"𬺓𬺓𬺓","","𬺓𬺓𬺓",""]
["","",{"$f":"A274&B274","v":""},"𬺓𬺓𬺓","","𬺓𬺓𬺓",""]
["","",{"$f":"A275&B275","v":""},"𬺓𬺓𬺓","","𬺓𬺓𬺓",""]
["","",{"$f":"A276&B276","v":""},"𬺓𬺓𬺓","","𬺓𬺓𬺓",""]
["","",{"$f":"A277&B277","v":""},"𬺓𬺓𬺓","","𬺓𬺓𬺓",""]
["","",{"$f":"A278&B278","v":""},"𬺓𬺓𬺓","","𬺓𬺓𬺓",""]
["","",{"$f":"A279&B279","v":""},"𬺓𬺓𬺓","","𬺓𬺓𬺓",""]
["","",{"$f":"A280&B280","v":""},"𬺓𬺓𬺓","","𬺓𬺓𬺓",""]
["","",{"$f":"A281&B281","v":""},"𬺓𬺓𬺓","","𬺓𬺓𬺓",""]
["","",{"$f":"A282&B282","v":""},"𬺓𬺓𬺓","","𬺓𬺓𬺓",""]
["","",{"$f":"A283&B283","v":""},"𬺓𬺓𬺓","","𬺓𬺓𬺓",""]
["","",{"$f":"A284&B284","v":""},"𬺓𬺓𬺓","","𬺓𬺓𬺓",""]
["","",{"$f":"A285&B285","v":""},"𬺓𬺓𬺓","","𬺓𬺓𬺓",""]
["","",{"$f":"A286&B286","v":""},"𬺓𬺓𬺓","","𬺓𬺓𬺓",""]
["","",{"$f":"A287&B287","v":""},"𬺓𬺓𬺓","","𬺓𬺓𬺓",""]
["","",{"$f":"A288&B288","v":""},"𬺓𬺓𬺓","","𬺓𬺓𬺓",""]
["","",{"$f":"A289&B289","v":""},"𬺓𬺓𬺓","","𬺓𬺓𬺓",""]
["","",{"$f":"A290&B290","v":""},"𬺓𬺓𬺓","","𬺓𬺓𬺓",""]
["","",{"$f":"A291&B291","v":""},"𬺓𬺓𬺓","","𬺓𬺓𬺓",""]
["","",{"$f":"A292&B292","v":""},"𬺓𬺓𬺓","","𬺓𬺓𬺓",""]
["","",{"$f":"A293&B293","v":""},"𬺓𬺓𬺓","","𬺓𬺓𬺓",""]
["","",{"$f":"A294&B294","v":""},"𬺓𬺓𬺓","","𬺓𬺓𬺓",""]
["","",{"$f":"A295&B295","v":""},"𬺓𬺓𬺓","","𬺓𬺓𬺓",""]
["","",{"$f":"A296&B296","v":""},"𬺓𬺓𬺓","","𬺓𬺓𬺓",""]
["","",{"$f":"A297&B297","v":""},"𬺓𬺓𬺓","","𬺓𬺓𬺓",""]
["","",{"$f":"A298&B298","v":""},"𬺓𬺓𬺓","","𬺓𬺓𬺓",""]
["","",{"$f":"A299&B299","v":""},"𬺓𬺓𬺓","","𬺓𬺓𬺓",""]
["","",{"$f":"A300&B300","v":""},"𬺓𬺓𬺓","","𬺓𬺓𬺓",""]
["","",{"$f":"A301&B301","v":""},"𬺓𬺓𬺓","","𬺓𬺓𬺓",""]
["","",{"$f":"A302&B302","v":""},"𬺓𬺓𬺓","","𬺓𬺓𬺓",""]
["","",{"$f":"A303&B303","v":""},"𬺓𬺓𬺓","","𬺓𬺓𬺓",""]
["","",{"$f":"A304&B304","v":""},"𬺓𬺓𬺓","","𬺓𬺓𬺓",""]
["","",{"$f":"A305&B305","v":""},"𬺓𬺓𬺓","","𬺓𬺓𬺓",""]
["","",{"$f":"A306&B306","v":""},"𬺓𬺓𬺓","","𬺓𬺓𬺓",""]
["","",{"$f":"A307&B307","v":""},"𬺓𬺓𬺓","","𬺓𬺓𬺓",""]
["","",{"$f":"A308&B308","v":""},"𬺓𬺓𬺓","","𬺓𬺓𬺓",""]
["","",{"$f":"A309&B309","v":""},"𬺓𬺓𬺓","","𬺓𬺓𬺓",""]
["","",{"$f":"A310&B310","v":""},"𬺓𬺓𬺓","","𬺓𬺓𬺓",""]
["","",{"$f":"A311&B311","v":""},"𬺓𬺓𬺓","","𬺓𬺓𬺓",""]
["","",{"$f":"A312&B312","v":""},"𬺓𬺓𬺓","","𬺓𬺓𬺓",""]
["","",{"$f":"A313&B313","v":""},"𬺓𬺓𬺓","","𬺓𬺓𬺓",""]
["","",{"$f":"A314&B314","v":""},"𬺓𬺓𬺓","","𬺓𬺓𬺓",""]
["","",{"$f":"A315&B315","v":""},"𬺓𬺓𬺓","","𬺓𬺓𬺓",""]
["","",{"$f":"A316&B316","v":""},"𬺓𬺓𬺓","","𬺓𬺓𬺓",""]
["","",{"$f":"A317&B317","v":""},"𬺓𬺓𬺓","","𬺓𬺓𬺓",""]
["","",{"$f":"A318&B318","v":""},"𬺓𬺓𬺓","","𬺓𬺓𬺓",""]
["","",{"$f":"A319&B319","v":""},"𬺓𬺓𬺓","","𬺓𬺓𬺓",""]
["","",{"$f":"A320&B320","v":""},"𬺓𬺓𬺓","","𬺓𬺓𬺓",""]
["","",{"$f":"A321&B321","v":""},"𬺓𬺓𬺓","","𬺓𬺓𬺓",""]
["","",{"$f":"A322&B322","v":""},"𬺓𬺓𬺓","","𬺓𬺓𬺓",""]
["","",{"$f":"A323&B323","v":""},"𬺓𬺓𬺓","","𬺓𬺓𬺓",""]
["","",{"$f":"A324&B324","v":""},"𬺓𬺓𬺓","","𬺓𬺓𬺓",""]
["","",{"$f":"A325&B325","v":""},"𬺓𬺓𬺓","","𬺓𬺓𬺓",""]
["","",{"$f":"A326&B326","v":""},"𬺓𬺓𬺓","","𬺓𬺓𬺓",""]
["","",{"$f":"A327&B327","v":""},"𬺓𬺓𬺓","","𬺓𬺓𬺓",""]
["","",{"$f":"A328&B328","v":""},"𬺓𬺓𬺓","","𬺓𬺓𬺓",""]
["","",{"$f":"A329&B329","v":""},"𬺓𬺓𬺓","","𬺓𬺓𬺓",""]
["","",{"$f":"A330&B330","v":""},"𬺓𬺓𬺓","","𬺓𬺓𬺓",""]
["","",{"$f":"A331&B331","v":""},"𬺓𬺓𬺓","","𬺓𬺓𬺓",""]
["","",{"$f":"A332&B332","v":""},"𬺓𬺓𬺓","","𬺓𬺓𬺓",""]
["","",{"$f":"A333&B333","v":""},"𬺓𬺓𬺓","","𬺓𬺓𬺓",""]
["","",{"$f":"A334&B334","v":""},"𬺓𬺓𬺓","","𬺓𬺓𬺓",""]
["","",{"$f":"A335&B335","v":""},"𬺓𬺓𬺓","","𬺓𬺓𬺓",""]
["","",{"$f":"A336&B336","v":""},"𬺓𬺓𬺓","","𬺓𬺓𬺓",""]
["","",{"$f":"A337&B337","v":""},"𬺓𬺓𬺓","","𬺓𬺓𬺓",""]
["","",{"$f":"A338&B338","v":""},"𬺓𬺓𬺓","","𬺓𬺓𬺓",""]
["","",{"$f":"A339&B339","v":""},"𬺓𬺓𬺓","","𬺓𬺓𬺓",""]
["","",{"$f":"A340&B340","v":""},"𬺓𬺓𬺓","","𬺓𬺓𬺓",""]
["","",{"$f":"A341&B341","v":""},"𬺓𬺓𬺓","","𬺓𬺓𬺓",""]
["","",{"$f":"A342&B342","v":""},"𬺓𬺓𬺓","","𬺓𬺓𬺓",""]
["","",{"$f":"A343&B343","v":""},"𬺓𬺓𬺓","","𬺓𬺓𬺓",""]
["","",{"$f":"A344&B344","v":""},"𬺓𬺓𬺓","","𬺓𬺓𬺓",""]
["","",{"$f":"A345&B345","v":""},"𬺓𬺓𬺓","","𬺓𬺓𬺓",""]
["","",{"$f":"A346&B346","v":""},"𬺓𬺓𬺓","","𬺓𬺓𬺓",""]
["","",{"$f":"A347&B347","v":""},"𬺓𬺓𬺓","","𬺓𬺓𬺓",""]
["","",{"$f":"A348&B348","v":""},"𬺓𬺓𬺓","","𬺓𬺓𬺓",""]
["","",{"$f":"A349&B349","v":""},"𬺓𬺓𬺓","","𬺓𬺓𬺓",""]
["","",{"$f":"A350&B350","v":""},"𬺓𬺓𬺓","","𬺓𬺓𬺓",""]
["","",{"$f":"A351&B351","v":""},"𬺓𬺓𬺓","","𬺓𬺓𬺓",""]
["","",{"$f":"A352&B352","v":""},"𬺓𬺓𬺓","","𬺓𬺓𬺓",""]
["","",{"$f":"A353&B353","v":""},"𬺓𬺓𬺓","","𬺓𬺓𬺓",""]
["","",{"$f":"A354&B354","v":""},"𬺓𬺓𬺓","","𬺓𬺓𬺓",""]
["","",{"$f":"A355&B355","v":""},"𬺓𬺓𬺓","","𬺓𬺓𬺓",""]
["","",{"$f":"A356&B356","v":""},"𬺓𬺓𬺓","","𬺓𬺓𬺓",""]
["","",{"$f":"A357&B357","v":""},"𬺓𬺓𬺓","","𬺓𬺓𬺓",""]
["","",{"$f":"A358&B358","v":""},"𬺓𬺓𬺓","","𬺓𬺓𬺓",""]
["","",{"$f":"A359&B359","v":""},"𬺓𬺓𬺓","","𬺓𬺓𬺓",""]
["","",{"$f":"A360&B360","v":""},"𬺓𬺓𬺓","","𬺓𬺓𬺓",""]
["","",{"$f":"A361&B361","v":""},"𬺓𬺓𬺓","","𬺓𬺓𬺓",""]
["","",{"$f":"A362&B362","v":""},"𬺓𬺓𬺓","","𬺓𬺓𬺓",""]
["","",{"$f":"A363&B363","v":""},"𬺓𬺓𬺓","","𬺓𬺓𬺓",""]
["","",{"$f":"A364&B364","v":""},"𬺓𬺓𬺓","","𬺓𬺓𬺓",""]
["","",{"$f":"A365&B365","v":""},"𬺓𬺓𬺓","","𬺓𬺓𬺓",""]
["","",{"$f":"A366&B366","v":""},"𬺓𬺓𬺓","","𬺓𬺓𬺓",""]
["","",{"$f":"A367&B367","v":""},"𬺓𬺓𬺓","","𬺓𬺓𬺓",""]
["","",{"$f":"A368&B368","v":""},"𬺓𬺓𬺓","","𬺓𬺓𬺓",""]
["","",{"$f":"A369&B369","v":""},"𬺓𬺓𬺓","","𬺓𬺓𬺓",""]
["","",{"$f":"A370&B370","v":""},"𬺓𬺓𬺓","","𬺓𬺓𬺓",""]
["","",{"$f":"A371&B371","v":""},"𬺓𬺓𬺓","","𬺓𬺓𬺓",""]
["","",{"$f":"A372&B372","v":""},"𬺓𬺓𬺓","","𬺓𬺓𬺓",""]
["","",{"$f":"A373&B373","v":""},"𬺓𬺓𬺓","","𬺓𬺓𬺓",""]
["","",{"$f":"A374&B374","v":""},"𬺓𬺓𬺓","","𬺓𬺓𬺓",""]
["","",{"$f":"A375&B375","v":""},"𬺓𬺓𬺓","","𬺓𬺓𬺓",""]
["","",{"$f":"A376&B376","v":""},"𬺓𬺓𬺓","","𬺓𬺓𬺓",""]
["","",{"$f":"A377&B377","v":""},"𬺓𬺓𬺓","","𬺓𬺓𬺓",""]
["","",{"$f":"A378&B378","v":""},"𬺓𬺓𬺓","","𬺓𬺓𬺓",""]
["","",{"$f":"A379&B379","v":""},"𬺓𬺓𬺓","","𬺓𬺓𬺓",""]
["","",{"$f":"A380&B380","v":""},"𬺓𬺓𬺓","","𬺓𬺓𬺓",""]
["","",{"$f":"A381&B381","v":""},"𬺓𬺓𬺓","","𬺓𬺓𬺓",""]
["","",{"$f":"A382&B382","v":""},"𬺓𬺓𬺓","","𬺓𬺓𬺓",""]
["","",{"$f":"A383&B383","v":""},"𬺓𬺓𬺓","","𬺓𬺓𬺓",""]
["","",{"$f":"A384&B384","v":""},"𬺓𬺓𬺓","","𬺓𬺓𬺓",""]
["","",{"$f":"A385&B385","v":""},"𬺓𬺓𬺓","","𬺓𬺓𬺓",""]
["","",{"$f":"A386&B386","v":""},"𬺓𬺓𬺓","","𬺓𬺓𬺓",""]
["","",{"$f":"A387&B387","v":""},"𬺓𬺓𬺓","","𬺓𬺓𬺓",""]
["","",{"$f":"A388&B388","v":""},"𬺓𬺓𬺓","","𬺓𬺓𬺓",""]
["","",{"$f":"A389&B389","v":""},"𬺓𬺓𬺓","","𬺓𬺓𬺓",""]
["","",{"$f":"A390&B390","v":""},"𬺓𬺓𬺓","","𬺓𬺓𬺓",""]
["","",{"$f":"A391&B391","v":""},"𬺓𬺓𬺓","","𬺓𬺓𬺓",""]
["","",{"$f":"A392&B392","v":""},"𬺓𬺓𬺓","","𬺓𬺓𬺓",""]
["","",{"$f":"A393&B393","v":""},"𬺓𬺓𬺓","","𬺓𬺓𬺓",""]
["","",{"$f":"A394&B394","v":""},"𬺓𬺓𬺓","","𬺓𬺓𬺓",""]
["","",{"$f":"A395&B395","v":""},"𬺓𬺓𬺓","","𬺓𬺓𬺓",""]
["","",{"$f":"A396&B396","v":""},"𬺓𬺓𬺓","","𬺓𬺓𬺓",""]
["","",{"$f":"A397&B397","v":""},"𬺓𬺓𬺓","","𬺓𬺓𬺓",""]
["","",{"$f":"A398&B398","v":""},"𬺓𬺓𬺓","","𬺓𬺓𬺓",""]
["","",{"$f":"A399&B399","v":""},"𬺓𬺓𬺓","","𬺓𬺓𬺓",""]
["","",{"$f":"A400&B400","v":""},"𬺓𬺓𬺓","","𬺓𬺓𬺓",""]
["","",{"$f":"A401&B401","v":""},"𬺓𬺓𬺓","","𬺓𬺓𬺓",""]
["","",{"$f":"A402&B402","v":""},"𬺓𬺓𬺓","","𬺓𬺓𬺓",""]
["","",{"$f":"A403&B403","v":""},"𬺓𬺓𬺓","","𬺓𬺓𬺓",""]
["","",{"$f":"A404&B404","v":""},"𬺓𬺓𬺓","","𬺓𬺓𬺓",""]
["","",{"$f":"A405&B405","v":""},"𬺓𬺓𬺓","","𬺓𬺓𬺓",""]
["","",{"$f":"A406&B406","v":""},"𬺓𬺓𬺓","","𬺓𬺓𬺓",""]
["","",{"$f":"A407&B407","v":""},"𬺓𬺓𬺓","","𬺓𬺓𬺓",""]
["","",{"$f":"A408&B408","v":""},"𬺓𬺓𬺓","","𬺓𬺓𬺓",""]
["","",{"$f":"A409&B409","v":""},"𬺓𬺓𬺓","","𬺓𬺓𬺓",""]
["","",{"$f":"A410&B410","v":""},"𬺓𬺓𬺓","","𬺓𬺓𬺓",""]
["","",{"$f":"A411&B411","v":""},"𬺓𬺓𬺓","","𬺓𬺓𬺓",""]
["","",{"$f":"A412&B412","v":""},"𬺓𬺓𬺓","","𬺓𬺓𬺓",""]
["","",{"$f":"A413&B413","v":""},"𬺓𬺓𬺓","","𬺓𬺓𬺓",""]
["","",{"$f":"A414&B414","v":""},"𬺓𬺓𬺓","","𬺓𬺓𬺓",""]
["","",{"$f":"A415&B415","v":""},"𬺓𬺓𬺓","","𬺓𬺓𬺓",""]
["","",{"$f":"A416&B416","v":""},"𬺓𬺓𬺓","","𬺓𬺓𬺓",""]
["","",{"$f":"A417&B417","v":""},"𬺓𬺓𬺓","","𬺓𬺓𬺓",""]
["","",{"$f":"A418&B418","v":""},"𬺓𬺓𬺓","","𬺓𬺓𬺓",""]
["","",{"$f":"A419&B419","v":""},"𬺓𬺓𬺓","","𬺓𬺓𬺓",""]
["","",{"$f":"A420&B420","v":""},"𬺓𬺓𬺓","","𬺓𬺓𬺓",""]
["","",{"$f":"A421&B421","v":""},"𬺓𬺓𬺓","","𬺓𬺓𬺓",""]
["","",{"$f":"A422&B422","v":""},"𬺓𬺓𬺓","","𬺓𬺓𬺓",""]
["","",{"$f":"A423&B423","v":""},"𬺓𬺓𬺓","","𬺓𬺓𬺓",""]
["","",{"$f":"A424&B424","v":""},"𬺓𬺓𬺓","","𬺓𬺓𬺓",""]
["","",{"$f":"A425&B425","v":""},"𬺓𬺓𬺓","","𬺓𬺓𬺓",""]
["","",{"$f":"A426&B426","v":""},"𬺓𬺓𬺓","","𬺓𬺓𬺓",""]
["","",{"$f":"A427&B427","v":""},"𬺓𬺓𬺓","","𬺓𬺓𬺓",""]
["","",{"$f":"A428&B428","v":""},"𬺓𬺓𬺓","","𬺓𬺓𬺓",""]
["","",{"$f":"A429&B429","v":""},"𬺓𬺓𬺓","","𬺓𬺓𬺓",""]
["","",{"$f":"A430&B430","v":""},"𬺓𬺓𬺓","","𬺓𬺓𬺓",""]
["","",{"$f":"A431&B431","v":""},"𬺓𬺓𬺓","","𬺓𬺓𬺓",""]
["","",{"$f":"A432&B432","v":""},"𬺓𬺓𬺓","","𬺓𬺓𬺓",""]
["","",{"$f":"A433&B433","v":""},"𬺓𬺓𬺓","","𬺓𬺓𬺓",""]
["","",{"$f":"A434&B434","v":""},"𬺓𬺓𬺓","","𬺓𬺓𬺓",""]
["","",{"$f":"A435&B435","v":""},"𬺓𬺓𬺓","","𬺓𬺓𬺓",""]
["","",{"$f":"A436&B436","v":""},"𬺓𬺓𬺓","","𬺓𬺓𬺓",""]
["","",{"$f":"A437&B437","v":""},"𬺓𬺓𬺓","","𬺓𬺓𬺓",""]
["","",{"$f":"A438&B438","v":""},"𬺓𬺓𬺓","","𬺓𬺓𬺓",""]
["","",{"$f":"A439&B439","v":""},"𬺓𬺓𬺓","","𬺓𬺓𬺓",""]
["","",{"$f":"A440&B440","v":""},"𬺓𬺓𬺓","","𬺓𬺓𬺓",""]
["","",{"$f":"A441&B441","v":""},"𬺓𬺓𬺓","","𬺓𬺓𬺓",""]
["","",{"$f":"A442&B442","v":""},"𬺓𬺓𬺓","","𬺓𬺓𬺓",""]
["","",{"$f":"A443&B443","v":""},"𬺓𬺓𬺓","","𬺓𬺓𬺓",""]
["","",{"$f":"A444&B444","v":""},"𬺓𬺓𬺓","","𬺓𬺓𬺓",""]
["","",{"$f":"A445&B445","v":""},"𬺓𬺓𬺓","","𬺓𬺓𬺓",""]
["","",{"$f":"A446&B446","v":""},"𬺓𬺓𬺓","","𬺓𬺓𬺓",""]
["","",{"$f":"A447&B447","v":""},"𬺓𬺓𬺓","","𬺓𬺓𬺓",""]
["","",{"$f":"A448&B448","v":""},"𬺓𬺓𬺓","","𬺓𬺓𬺓",""]
["","",{"$f":"A449&B449","v":""},"𬺓𬺓𬺓","","𬺓𬺓𬺓",""]
["","",{"$f":"A450&B450","v":""},"𬺓𬺓𬺓","","𬺓𬺓𬺓",""]
["","",{"$f":"A451&B451","v":""},"𬺓𬺓𬺓","","𬺓𬺓𬺓",""]
["","",{"$f":"A452&B452","v":""},"𬺓𬺓𬺓","","𬺓𬺓𬺓",""]
["","",{"$f":"A453&B453","v":""},"𬺓𬺓𬺓","","𬺓𬺓𬺓",""]
["","",{"$f":"A454&B454","v":""},"𬺓𬺓𬺓","","𬺓𬺓𬺓",""]
["","",{"$f":"A455&B455","v":""},"𬺓𬺓𬺓","","𬺓𬺓𬺓",""]
["","",{"$f":"A456&B456","v":""},"𬺓𬺓𬺓","","𬺓𬺓𬺓",""]
["","",{"$f":"A457&B457","v":""},"𬺓𬺓𬺓","","𬺓𬺓𬺓",""]
["","",{"$f":"A458&B458","v":""},"𬺓𬺓𬺓","","𬺓𬺓𬺓",""]
["","",{"$f":"A459&B459","v":""},"𬺓𬺓𬺓","","𬺓𬺓𬺓",""]
["","",{"$f":"A460&B460","v":""},"𬺓𬺓𬺓","","𬺓𬺓𬺓",""]
["","",{"$f":"A461&B461","v":""},"𬺓𬺓𬺓","","𬺓𬺓𬺓",""]
["","",{"$f":"A462&B462","v":""},"𬺓𬺓𬺓","","𬺓𬺓𬺓",""]
["","",{"$f":"A463&B463","v":""},"𬺓𬺓𬺓","","𬺓𬺓𬺓",""]
["","",{"$f":"A464&B464","v":""},"𬺓𬺓𬺓","","𬺓𬺓𬺓",""]
["","",{"$f":"A465&B465","v":""},"𬺓𬺓𬺓","","𬺓𬺓𬺓",""]
["","",{"$f":"A466&B466","v":""},"𬺓𬺓𬺓","","𬺓𬺓𬺓",""]
["","",{"$f":"A467&B467","v":""},"𬺓𬺓𬺓","","𬺓𬺓𬺓",""]
["","",{"$f":"A468&B468","v":""},"𬺓𬺓𬺓","","𬺓𬺓𬺓",""]
["","",{"$f":"A469&B469","v":""},"𬺓𬺓𬺓","","𬺓𬺓𬺓",""]
["","",{"$f":"A470&B470","v":""},"𬺓𬺓𬺓","","𬺓𬺓𬺓",""]
["","",{"$f":"A471&B471","v":""},"𬺓𬺓𬺓","","𬺓𬺓𬺓",""]
["","",{"$f":"A472&B472","v":""},"𬺓𬺓𬺓","","𬺓𬺓𬺓",""]
["","",{"$f":"A473&B473","v":""},"𬺓𬺓𬺓","","𬺓𬺓𬺓",""]
["","",{"$f":"A474&B474","v":""},"𬺓𬺓𬺓","","𬺓𬺓𬺓",""]
["","",{"$f":"A475&B475","v":""},"𬺓𬺓𬺓","","𬺓𬺓𬺓",""]
["","",{"$f":"A476&B476","v":""},"𬺓𬺓𬺓","","𬺓𬺓𬺓",""]
["","",{"$f":"A477&B477","v":""},"𬺓𬺓𬺓","","𬺓𬺓𬺓",""]
["","",{"$f":"A478&B478","v":""},"𬺓𬺓𬺓","","𬺓𬺓𬺓",""]
["","",{"$f":"A479&B479","v":""},"𬺓𬺓𬺓","","𬺓𬺓𬺓",""]
["","",{"$f":"A480&B480","v":""},"𬺓𬺓𬺓","","𬺓𬺓𬺓",""]
["","",{"$f":"A481&B481","v":""},"𬺓𬺓𬺓","","𬺓𬺓𬺓",""]
["","",{"$f":"A482&B482","v":""},"𬺓𬺓𬺓","","𬺓𬺓𬺓",""]
["","",{"$f":"A483&B483","v":""},"𬺓𬺓𬺓","","𬺓𬺓𬺓",""]
["","",{"$f":"A484&B484","v":""},"𬺓𬺓𬺓","","𬺓𬺓𬺓",""]
["","",{"$f":"A485&B485","v":""},"𬺓𬺓𬺓","","𬺓𬺓𬺓",""]
["","",{"$f":"A486&B486","v":""},"𬺓𬺓𬺓","","𬺓𬺓𬺓",""]
["","",{"$f":"A487&B487","v":""},"𬺓𬺓𬺓","","𬺓𬺓𬺓",""]
["","",{"$f":"A488&B488","v":""},"𬺓𬺓𬺓","","𬺓𬺓𬺓",""]
["","",{"$f":"A489&B489","v":""},"𬺓𬺓𬺓","","𬺓𬺓𬺓",""]
["","",{"$f":"A490&B490","v":""},"𬺓𬺓𬺓","","𬺓𬺓𬺓",""]
["","",{"$f":"A491&B491","v":""},"𬺓𬺓𬺓","","𬺓𬺓𬺓",""]
["","",{"$f":"A492&B492","v":""},"𬺓𬺓𬺓","","𬺓𬺓𬺓",""]
["","",{"$f":"A493&B493","v":""},"𬺓𬺓𬺓","","𬺓𬺓𬺓",""]
["","",{"$f":"A494&B494","v":""},"𬺓𬺓𬺓","","𬺓𬺓𬺓",""]
["","",{"$f":"A495&B495","v":""},"𬺓𬺓𬺓","","𬺓𬺓𬺓",""]
["","",{"$f":"A496&B496","v":""},"𬺓𬺓𬺓","","𬺓𬺓𬺓",""]
["","",{"$f":"A497&B497","v":""},"𬺓𬺓𬺓","","𬺓𬺓𬺓",""]
["","",{"$f":"A498&B498","v":""},"𬺓𬺓𬺓","","𬺓𬺓𬺓",""]
["","",{"$f":"A499&B499","v":""},"𬺓𬺓𬺓","","𬺓𬺓𬺓",""]
["","",{"$f":"A500&B500","v":""},"𬺓𬺓𬺓","","𬺓𬺓𬺓",""]
["","",{"$f":"A501&B501","v":""},"𬺓𬺓𬺓","","𬺓𬺓𬺓",""]
["","",{"$f":"A502&B502","v":""},"𬺓𬺓𬺓","","𬺓𬺓𬺓",""]
["","",{"$f":"A503&B503","v":""},"𬺓𬺓𬺓","","𬺓𬺓𬺓",""]
["","",{"$f":"A504&B504","v":""},"𬺓𬺓𬺓","","𬺓𬺓𬺓",""]
["","",{"$f":"A505&B505","v":""},"𬺓𬺓𬺓","","𬺓𬺓𬺓",""]
["","",{"$f":"A506&B506","v":""},"𬺓𬺓𬺓","","𬺓𬺓𬺓",""]
["","",{"$f":"A507&B507","v":""},"𬺓𬺓𬺓","","𬺓𬺓𬺓",""]
["","",{"$f":"A508&B508","v":""},"𬺓𬺓𬺓","","𬺓𬺓𬺓",""]
["","",{"$f":"A509&B509","v":""},"𬺓𬺓𬺓","","𬺓𬺓𬺓",""]
["","",{"$f":"A510&B510","v":""},"𬺓𬺓𬺓","","𬺓𬺓𬺓",""]
["","",{"$f":"A511&B511","v":""},"𬺓𬺓𬺓","","𬺓𬺓𬺓",""]
["","",{"$f":"A512&B512","v":""},"𬺓𬺓𬺓","","𬺓𬺓𬺓",""]
["","",{"$f":"A513&B513","v":""},"𬺓𬺓𬺓","","𬺓𬺓𬺓",""]
["","",{"$f":"A514&B514","v":""},"𬺓𬺓𬺓","","𬺓𬺓𬺓",""]
["","",{"$f":"A515&B515","v":""},"𬺓𬺓𬺓","","𬺓𬺓𬺓",""]
["","",{"$f":"A516&B516","v":""},"𬺓𬺓𬺓","","𬺓𬺓𬺓",""]
["","",{"$f":"A517&B517","v":""},"𬺓𬺓𬺓","","𬺓𬺓𬺓",""]
["","",{"$f":"A518&B518","v":""},"𬺓𬺓𬺓","","𬺓𬺓𬺓",""]
["","",{"$f":"A519&B519","v":""},"𬺓𬺓𬺓","","𬺓𬺓𬺓",""]
["","",{"$f":"A520&B520","v":""},"𬺓𬺓𬺓","","𬺓𬺓𬺓",""]
["","",{"$f":"A521&B521","v":""},"𬺓𬺓𬺓","","𬺓𬺓𬺓",""]
["","",{"$f":"A522&B522","v":""},"𬺓𬺓𬺓","","𬺓𬺓𬺓",""]
["","",{"$f":"A523&B523","v":""},"𬺓𬺓𬺓","","𬺓𬺓𬺓",""]
["","",{"$f":"A524&B524","v":""},"𬺓𬺓𬺓","","𬺓𬺓𬺓",""]
["","",{"$f":"A525&B525","v":""},"𬺓𬺓𬺓","","𬺓𬺓𬺓",""]
["","",{"$f":"A526&B526","v":""},"𬺓𬺓𬺓","","𬺓𬺓𬺓",""]
["","",{"$f":"A527&B527","v":""},"𬺓𬺓𬺓","","𬺓𬺓𬺓",""]
["","",{"$f":"A528&B528","v":""},"𬺓𬺓𬺓","","𬺓𬺓𬺓",""]
["","",{"$f":"A529&B529","v":""},"𬺓𬺓𬺓","","𬺓𬺓𬺓",""]
["","",{"$f":"A530&B530","v":""},"𬺓𬺓𬺓","","𬺓𬺓𬺓",""]
["","",{"$f":"A531&B531","v":""},"𬺓𬺓𬺓","","𬺓𬺓𬺓",""]
["","",{"$f":"A532&B532","v":""},"𬺓𬺓𬺓","","𬺓𬺓𬺓",""]
["","",{"$f":"A533&B533","v":""},"𬺓𬺓𬺓","","𬺓𬺓𬺓",""]
["","",{"$f":"A534&B534","v":""},"𬺓𬺓𬺓","","𬺓𬺓𬺓",""]
["","",{"$f":"A535&B535","v":""},"𬺓𬺓𬺓","","𬺓𬺓𬺓",""]
["","",{"$f":"A536&B536","v":""},"𬺓𬺓𬺓","","𬺓𬺓𬺓",""]
["","",{"$f":"A537&B537","v":""},"𬺓𬺓𬺓","","𬺓𬺓𬺓",""]
["","",{"$f":"A538&B538","v":""},"𬺓𬺓𬺓","","𬺓𬺓𬺓",""]
["","",{"$f":"A539&B539","v":""},"𬺓𬺓𬺓","","𬺓𬺓𬺓",""]
["","",{"$f":"A540&B540","v":""},"𬺓𬺓𬺓","","𬺓𬺓𬺓",""]
["","",{"$f":"A541&B541","v":""},"𬺓𬺓𬺓","","𬺓𬺓𬺓",""]
["","",{"$f":"A542&B542","v":""},"𬺓𬺓𬺓","","𬺓𬺓𬺓",""]
["","",{"$f":"A543&B543","v":""},"𬺓𬺓𬺓","","𬺓𬺓𬺓",""]
["","",{"$f":"A544&B544","v":""},"𬺓𬺓𬺓","","𬺓𬺓𬺓",""]
["","",{"$f":"A545&B545","v":""},"𬺓𬺓𬺓","","𬺓𬺓𬺓",""]
["","",{"$f":"A546&B546","v":""},"𬺓𬺓𬺓","","𬺓𬺓𬺓",""]
["","",{"$f":"A547&B547","v":""},"𬺓𬺓𬺓","","𬺓𬺓𬺓",""]
["","",{"$f":"A548&B548","v":""},"𬺓𬺓𬺓","","𬺓𬺓𬺓",""]
["","",{"$f":"A549&B549","v":""},"𬺓𬺓𬺓","","𬺓𬺓𬺓",""]
["","",{"$f":"A550&B550","v":""},"𬺓𬺓𬺓","","𬺓𬺓𬺓",""]
["","",{"$f":"A551&B551","v":""},"𬺓𬺓𬺓","","𬺓𬺓𬺓",""]
["","",{"$f":"A552&B552","v":""},"𬺓𬺓𬺓","","𬺓𬺓𬺓",""]
["","",{"$f":"A553&B553","v":""},"𬺓𬺓𬺓","","𬺓𬺓𬺓",""]
["","",{"$f":"A554&B554","v":""},"𬺓𬺓𬺓","","𬺓𬺓𬺓",""]
["","",{"$f":"A555&B555","v":""},"𬺓𬺓𬺓","","𬺓𬺓𬺓",""]
["","",{"$f":"A556&B556","v":""},"𬺓𬺓𬺓","","𬺓𬺓𬺓",""]
["","",{"$f":"A557&B557","v":""},"𬺓𬺓𬺓","","𬺓𬺓𬺓",""]
["","",{"$f":"A558&B558","v":""},"𬺓𬺓𬺓","","𬺓𬺓𬺓",""]
["","",{"$f":"A559&B559","v":""},"𬺓𬺓𬺓","","𬺓𬺓𬺓",""]
["","",{"$f":"A560&B560","v":""},"𬺓𬺓𬺓","","𬺓𬺓𬺓",""]
["","",{"$f":"A561&B561","v":""},"𬺓𬺓𬺓","","𬺓𬺓𬺓",""]
["","",{"$f":"A562&B562","v":""},"𬺓𬺓𬺓","","𬺓𬺓𬺓",""]
["","",{"$f":"A563&B563","v":""},"𬺓𬺓𬺓","","𬺓𬺓𬺓",""]
["","",{"$f":"A564&B564","v":""},"𬺓𬺓𬺓","","𬺓𬺓𬺓",""]
["","",{"$f":"A565&B565","v":""},"𬺓𬺓𬺓","","𬺓𬺓𬺓",""]
["","",{"$f":"A566&B566","v":""},"𬺓𬺓𬺓","","𬺓𬺓𬺓",""]
["","",{"$f":"A567&B567","v":""},"𬺓𬺓𬺓","","𬺓𬺓𬺓",""]
["","",{"$f":"A568&B568","v":""},"𬺓𬺓𬺓","","𬺓𬺓𬺓",""]
["","",{"$f":"A569&B569","v":""},"𬺓𬺓𬺓","","𬺓𬺓𬺓",""]
["","",{"$f":"A570&B570","v":""},"𬺓𬺓𬺓","","𬺓𬺓𬺓",""]
["","",{"$f":"A571&B571","v":""},"𬺓𬺓𬺓","","𬺓𬺓𬺓",""]
["","",{"$f":"A572&B572","v":""},"𬺓𬺓𬺓","","𬺓𬺓𬺓",""]
["","",{"$f":"A573&B573","v":""},"𬺓𬺓𬺓","","𬺓𬺓𬺓",""]
["","",{"$f":"A574&B574","v":""},"𬺓𬺓𬺓","","𬺓𬺓𬺓",""]
["","",{"$f":"A575&B575","v":""},"𬺓𬺓𬺓","","𬺓𬺓𬺓",""]
["","",{"$f":"A576&B576","v":""},"𬺓𬺓𬺓","","𬺓𬺓𬺓",""]
["","",{"$f":"A577&B577","v":""},"𬺓𬺓𬺓","","𬺓𬺓𬺓",""]
["","",{"$f":"A578&B578","v":""},"𬺓𬺓𬺓","","𬺓𬺓𬺓",""]
["","",{"$f":"A579&B579","v":""},"𬺓𬺓𬺓","","𬺓𬺓𬺓",""]
["","",{"$f":"A580&B580","v":""},"𬺓𬺓𬺓","","𬺓𬺓𬺓",""]
["","",{"$f":"A581&B581","v":""},"𬺓𬺓𬺓","","𬺓𬺓𬺓",""]
["","",{"$f":"A582&B582","v":""},"𬺓𬺓𬺓","","𬺓𬺓𬺓",""]
["","",{"$f":"A583&B583","v":""},"𬺓𬺓𬺓","","𬺓𬺓𬺓",""]
["","",{"$f":"A584&B584","v":""},"𬺓𬺓𬺓","","𬺓𬺓𬺓",""]
["","",{"$f":"A585&B585","v":""},"𬺓𬺓𬺓","","𬺓𬺓𬺓",""]
["","",{"$f":"A586&B586","v":""},"𬺓𬺓𬺓","","𬺓𬺓𬺓",""]
["","",{"$f":"A587&B587","v":""},"𬺓𬺓𬺓","","𬺓𬺓𬺓",""]
["","",{"$f":"A588&B588","v":""},"𬺓𬺓𬺓","","𬺓𬺓𬺓",""]
["","",{"$f":"A589&B589","v":""},"𬺓𬺓𬺓","","𬺓𬺓𬺓",""]
["","",{"$f":"A590&B590","v":""},"𬺓𬺓𬺓","","𬺓𬺓𬺓",""]
["","",{"$f":"A591&B591","v":""},"𬺓𬺓𬺓","","𬺓𬺓𬺓",""]
["","",{"$f":"A592&B592","v":""},"𬺓𬺓𬺓","","𬺓𬺓𬺓",""]
["","",{"$f":"A593&B593","v":""},"𬺓𬺓𬺓","","𬺓𬺓𬺓",""]
["","",{"$f":"A594&B594","v":""},"𬺓𬺓𬺓","","𬺓𬺓𬺓",""]
["","",{"$f":"A595&B595","v":""},"𬺓𬺓𬺓","","𬺓𬺓𬺓",""]
["","",{"$f":"A596&B596","v":""},"𬺓𬺓𬺓","","𬺓𬺓𬺓",""]
["","",{"$f":"A597&B597","v":""},"𬺓𬺓𬺓","","𬺓𬺓𬺓",""]
["","",{"$f":"A598&B598","v":""},"𬺓𬺓𬺓","","𬺓𬺓𬺓",""]
["","",{"$f":"A599&B599","v":""},"𬺓𬺓𬺓","","𬺓𬺓𬺓",""]
["","",{"$f":"A600&B600","v":""},"𬺓𬺓𬺓","","𬺓𬺓𬺓",""]
["","",{"$f":"A601&B601","v":""},"𬺓𬺓𬺓","","𬺓𬺓𬺓",""]
["","",{"$f":"A602&B602","v":""},"𬺓𬺓𬺓","","𬺓𬺓𬺓",""]
["","",{"$f":"A603&B603","v":""},"𬺓𬺓𬺓","","𬺓𬺓𬺓",""]
["","",{"$f":"A604&B604","v":""},"𬺓𬺓𬺓","","𬺓𬺓𬺓",""]
["","",{"$f":"A605&B605","v":""},"𬺓𬺓𬺓","","𬺓𬺓𬺓",""]
["","",{"$f":"A606&B606","v":""},"𬺓𬺓𬺓","","𬺓𬺓𬺓",""]
["","",{"$f":"A607&B607","v":""},"𬺓𬺓𬺓","","𬺓𬺓𬺓",""]
["","",{"$f":"A608&B608","v":""},"𬺓𬺓𬺓","","𬺓𬺓𬺓",""]
["","",{"$f":"A609&B609","v":""},"𬺓𬺓𬺓","","𬺓𬺓𬺓",""]
["","",{"$f":"A610&B610","v":""},"𬺓𬺓𬺓","","𬺓𬺓𬺓",""]
["","",{"$f":"A611&B611","v":""},"𬺓𬺓𬺓","","𬺓𬺓𬺓",""]
["","",{"$f":"A612&B612","v":""},"𬺓𬺓𬺓","","𬺓𬺓𬺓",""]
["","",{"$f":"A613&B613","v":""},"𬺓𬺓𬺓","","𬺓𬺓𬺓",""]
["","",{"$f":"A614&B614","v":""},"𬺓𬺓𬺓","","𬺓𬺓𬺓",""]
["","",{"$f":"A615&B615","v":""},"𬺓𬺓𬺓","","𬺓𬺓𬺓",""]
["","",{"$f":"A616&B616","v":""},"𬺓𬺓𬺓","","𬺓𬺓𬺓",""]
["","",{"$f":"A617&B617","v":""},"𬺓𬺓𬺓","","𬺓𬺓𬺓",""]
["","",{"$f":"A618&B618","v":""},"𬺓𬺓𬺓","","𬺓𬺓𬺓",""]
["","",{"$f":"A619&B619","v":""},"𬺓𬺓𬺓","","𬺓𬺓𬺓",""]
["","",{"$f":"A620&B620","v":""},"𬺓𬺓𬺓","","𬺓𬺓𬺓",""]
["","",{"$f":"A621&B621","v":""},"𬺓𬺓𬺓","","𬺓𬺓𬺓",""]
["","",{"$f":"A622&B622","v":""},"𬺓𬺓𬺓","","𬺓𬺓𬺓",""]
["","",{"$f":"A623&B623","v":""},"𬺓𬺓𬺓","","𬺓𬺓𬺓",""]
["","",{"$f":"A624&B624","v":""},"𬺓𬺓𬺓","","𬺓𬺓𬺓",""]
["","",{"$f":"A625&B625","v":""},"𬺓𬺓𬺓","","𬺓𬺓𬺓",""]
["","",{"$f":"A626&B626","v":""},"𬺓𬺓𬺓","","𬺓𬺓𬺓",""]
["","",{"$f":"A627&B627","v":""},"𬺓𬺓𬺓","","𬺓𬺓𬺓",""]
["","",{"$f":"A628&B628","v":""},"𬺓𬺓𬺓","","𬺓𬺓𬺓",""]
["","",{"$f":"A629&B629","v":""},"𬺓𬺓𬺓","","𬺓𬺓𬺓",""]
["","",{"$f":"A630&B630","v":""},"𬺓𬺓𬺓","","𬺓𬺓𬺓",""]
["","",{"$f":"A631&B631","v":""},"𬺓𬺓𬺓","","𬺓𬺓𬺓",""]
["","",{"$f":"A632&B632","v":""},"𬺓𬺓𬺓","","𬺓𬺓𬺓",""]
["","",{"$f":"A633&B633","v":""},"𬺓𬺓𬺓","","𬺓𬺓𬺓",""]
["","",{"$f":"A634&B634","v":""},"𬺓𬺓𬺓","","𬺓𬺓𬺓",""]
["","",{"$f":"A635&B635","v":""},"𬺓𬺓𬺓","","𬺓𬺓𬺓",""]
["","",{"$f":"A636&B636","v":""},"𬺓𬺓𬺓","","𬺓𬺓𬺓",""]
["","",{"$f":"A637&B637","v":""},"𬺓𬺓𬺓","","𬺓𬺓𬺓",""]
["","",{"$f":"A638&B638","v":""},"𬺓𬺓𬺓","","𬺓𬺓𬺓",""]
["","",{"$f":"A639&B639","v":""},"𬺓𬺓𬺓","","𬺓𬺓𬺓",""]
["","",{"$f":"A640&B640","v":""},"𬺓𬺓𬺓","","𬺓𬺓𬺓",""]
["","",{"$f":"A641&B641","v":""},"𬺓𬺓𬺓","","𬺓𬺓𬺓",""]
["","",{"$f":"A642&B642","v":""},"𬺓𬺓𬺓","","𬺓𬺓𬺓",""]
["","",{"$f":"A643&B643","v":""},"𬺓𬺓𬺓","","𬺓𬺓𬺓",""]
["","",{"$f":"A644&B644","v":""},"𬺓𬺓𬺓","","𬺓𬺓𬺓",""]
["","",{"$f":"A645&B645","v":""},"𬺓𬺓𬺓","","𬺓𬺓𬺓",""]
["","",{"$f":"A646&B646","v":""},"𬺓𬺓𬺓","","𬺓𬺓𬺓",""]
["","",{"$f":"A647&B647","v":""},"𬺓𬺓𬺓","","𬺓𬺓𬺓",""]
["","",{"$f":"A648&B648","v":""},"𬺓𬺓𬺓","","𬺓𬺓𬺓",""]
["","",{"$f":"A649&B649","v":""},"𬺓𬺓𬺓","","𬺓𬺓𬺓",""]
["","",{"$f":"A650&B650","v":""},"𬺓𬺓𬺓","","𬺓𬺓𬺓",""]
["","",{"$f":"A651&B651","v":""},"𬺓𬺓𬺓","","𬺓𬺓𬺓",""]
["","",{"$f":"A652&B652","v":""},"𬺓𬺓𬺓","","𬺓𬺓𬺓",""]
["","",{"$f":"A653&B653","v":""},"𬺓𬺓𬺓","","𬺓𬺓𬺓",""]
["","",{"$f":"A654&B654","v":""},"𬺓𬺓𬺓","","𬺓𬺓𬺓",""]
["","",{"$f":"A655&B655","v":""},"𬺓𬺓𬺓","","𬺓𬺓𬺓",""]
["","",{"$f":"A656&B656","v":""},"𬺓𬺓𬺓","","𬺓𬺓𬺓",""]
["","",{"$f":"A657&B657","v":""},"𬺓𬺓𬺓","","𬺓𬺓𬺓",""]
["","",{"$f":"A658&B658","v":""},"𬺓𬺓𬺓","","𬺓𬺓𬺓",""]
["","",{"$f":"A659&B659","v":""},"𬺓𬺓𬺓","","𬺓𬺓𬺓",""]
["","",{"$f":"A660&B660","v":""},"𬺓𬺓𬺓","","𬺓𬺓𬺓",""]
["","",{"$f":"A661&B661","v":""},"𬺓𬺓𬺓","","𬺓𬺓𬺓",""]
["","",{"$f":"A662&B662","v":""},"𬺓𬺓𬺓","","𬺓𬺓𬺓",""]
["","",{"$f":"A663&B663","v":""},"𬺓𬺓𬺓","","𬺓𬺓𬺓",""]
["","",{"$f":"A664&B664","v":""},"𬺓𬺓𬺓","","𬺓𬺓𬺓",""]
["","",{"$f":"A665&B665","v":""},"𬺓𬺓𬺓","","𬺓𬺓𬺓",""]
["","",{"$f":"A666&B666","v":""},"𬺓𬺓𬺓","","𬺓𬺓𬺓",""]
["","",{"$f":"A667&B667","v":""},"𬺓𬺓𬺓","","𬺓𬺓𬺓",""]
["","",{"$f":"A668&B668","v":""},"𬺓𬺓𬺓","","𬺓𬺓𬺓",""]
["","",{"$f":"A669&B669","v":""},"𬺓𬺓𬺓","","𬺓𬺓𬺓",""]
["","",{"$f":"A670&B670","v":""},"𬺓𬺓𬺓","","𬺓𬺓𬺓",""]
["","",{"$f":"A671&B671","v":""},"𬺓𬺓𬺓","","𬺓𬺓𬺓",""]
["","",{"$f":"A672&B672","v":""},"𬺓𬺓𬺓","","𬺓𬺓𬺓",""]
["","",{"$f":"A673&B673","v":""},"𬺓𬺓𬺓","","𬺓𬺓𬺓",""]
["","",{"$f":"A674&B674","v":""},"𬺓𬺓𬺓","","𬺓𬺓𬺓",""]
["","",{"$f":"A675&B675","v":""},"𬺓𬺓𬺓","","𬺓𬺓𬺓",""]
["","",{"$f":"A676&B676","v":""},"𬺓𬺓𬺓","","𬺓𬺓𬺓",""]
["","",{"$f":"A677&B677","v":""},"𬺓𬺓𬺓","","𬺓𬺓𬺓",""]
["","",{"$f":"A678&B678","v":""},"𬺓𬺓𬺓","","𬺓𬺓𬺓",""]
["","",{"$f":"A679&B679","v":""},"𬺓𬺓𬺓","","𬺓𬺓𬺓",""]
["","",{"$f":"A680&B680","v":""},"𬺓𬺓𬺓","","𬺓𬺓𬺓",""]
["","",{"$f":"A681&B681","v":""},"𬺓𬺓𬺓","","𬺓𬺓𬺓",""]
["","",{"$f":"A682&B682","v":""},"𬺓𬺓𬺓","","𬺓𬺓𬺓",""]
["","",{"$f":"A683&B683","v":""},"𬺓𬺓𬺓","","𬺓𬺓𬺓",""]
["","",{"$f":"A684&B684","v":""},"𬺓𬺓𬺓","","𬺓𬺓𬺓",""]
["","",{"$f":"A685&B685","v":""},"𬺓𬺓𬺓","","𬺓𬺓𬺓",""]
["","",{"$f":"A686&B686","v":""},"𬺓𬺓𬺓","","𬺓𬺓𬺓",""]
["","",{"$f":"A687&B687","v":""},"𬺓𬺓𬺓","","𬺓𬺓𬺓",""]
["","",{"$f":"A688&B688","v":""},"𬺓𬺓𬺓","","𬺓𬺓𬺓",""]
["","",{"$f":"A689&B689","v":""},"𬺓𬺓𬺓","","𬺓𬺓𬺓",""]
["","",{"$f":"A690&B690","v":""},"𬺓𬺓𬺓","","𬺓𬺓𬺓",""]
["","",{"$f":"A691&B691","v":""},"𬺓𬺓𬺓","","𬺓𬺓𬺓",""]
["","",{"$f":"A692&B692","v":""},"𬺓𬺓𬺓","","𬺓𬺓𬺓",""]
["","",{"$f":"A693&B693","v":""},"𬺓𬺓𬺓","","𬺓𬺓𬺓",""]
["","",{"$f":"A694&B694","v":""},"𬺓𬺓𬺓","","𬺓𬺓𬺓",""]
["","",{"$f":"A695&B695","v":""},"𬺓𬺓𬺓","","𬺓𬺓𬺓",""]
["","",{"$f":"A696&B696","v":""},"𬺓𬺓𬺓","","𬺓𬺓𬺓",""]
["","",{"$f":"A697&B697","v":""},"𬺓𬺓𬺓","","𬺓𬺓𬺓",""]
["","",{"$f":"A698&B698","v":""},"𬺓𬺓𬺓","","𬺓𬺓𬺓",""]
["","",{"$f":"A699&B699","v":""},"𬺓𬺓𬺓","","𬺓𬺓𬺓",""]
["","",{"$f":"A700&B700","v":""},"𬺓𬺓𬺓","","𬺓𬺓𬺓",""]
["","",{"$f":"A701&B701","v":""},"𬺓𬺓𬺓","","𬺓𬺓𬺓",""]
["","",{"$f":"A702&B702","v":""},"𬺓𬺓𬺓","","𬺓𬺓𬺓",""]
["","",{"$f":"A703&B703","v":""},"𬺓𬺓𬺓","","𬺓𬺓𬺓",""]
["","",{"$f":"A704&B704","v":""},"𬺓𬺓𬺓","","𬺓𬺓𬺓",""]
["","",{"$f":"A705&B705","v":""},"𬺓𬺓𬺓","","𬺓𬺓𬺓",""]
["","",{"$f":"A706&B706","v":""},"𬺓𬺓𬺓","","𬺓𬺓𬺓",""]
["","",{"$f":"A707&B707","v":""},"𬺓𬺓𬺓","","𬺓𬺓𬺓",""]
["","",{"$f":"A708&B708","v":""},"𬺓𬺓𬺓","","𬺓𬺓𬺓",""]
["","",{"$f":"A709&B709","v":""},"𬺓𬺓𬺓","","𬺓𬺓𬺓",""]
["","",{"$f":"A710&B710","v":""},"𬺓𬺓𬺓","","𬺓𬺓𬺓",""]
["","",{"$f":"A711&B711","v":""},"𬺓𬺓𬺓","","𬺓𬺓𬺓",""]
["","",{"$f":"A712&B712","v":""},"𬺓𬺓𬺓","","𬺓𬺓𬺓",""]
["","",{"$f":"A713&B713","v":""},"𬺓𬺓𬺓","","𬺓𬺓𬺓",""]
["","",{"$f":"A714&B714","v":""},"𬺓𬺓𬺓","","𬺓𬺓𬺓",""]
["","",{"$f":"A715&B715","v":""},"𬺓𬺓𬺓","","𬺓𬺓𬺓",""]
["","",{"$f":"A716&B716","v":""},"𬺓𬺓𬺓","","𬺓𬺓𬺓",""]
["","",{"$f":"A717&B717","v":""},"𬺓𬺓𬺓","","𬺓𬺓𬺓",""]
["","",{"$f":"A718&B718","v":""},"𬺓𬺓𬺓","","𬺓𬺓𬺓",""]
["","",{"$f":"A719&B719","v":""},"𬺓𬺓𬺓","","𬺓𬺓𬺓",""]
["","",{"$f":"A720&B720","v":""},"𬺓𬺓𬺓","","𬺓𬺓𬺓",""]
["","",{"$f":"A721&B721","v":""},"𬺓𬺓𬺓","","𬺓𬺓𬺓",""]
["","",{"$f":"A722&B722","v":""},"𬺓𬺓𬺓","","𬺓𬺓𬺓",""]
["","",{"$f":"A723&B723","v":""},"𬺓𬺓𬺓","","𬺓𬺓𬺓",""]
["","",{"$f":"A724&B724","v":""},"𬺓𬺓𬺓","","𬺓𬺓𬺓",""]
["","",{"$f":"A725&B725","v":""},"𬺓𬺓𬺓","","𬺓𬺓𬺓",""]
["","",{"$f":"A726&B726","v":""},"𬺓𬺓𬺓","","𬺓𬺓𬺓",""]
["","",{"$f":"A727&B727","v":""},"𬺓𬺓𬺓","","𬺓𬺓𬺓",""]
["","",{"$f":"A728&B728","v":""},"𬺓𬺓𬺓","","𬺓𬺓𬺓",""]
["","",{"$f":"A729&B729","v":""},"𬺓𬺓𬺓","","𬺓𬺓𬺓",""]
["","",{"$f":"A730&B730","v":""},"𬺓𬺓𬺓","","𬺓𬺓𬺓",""]
["","",{"$f":"A731&B731","v":""},"𬺓𬺓𬺓","","𬺓𬺓𬺓",""]
["","",{"$f":"A732&B732","v":""},"𬺓𬺓𬺓","","𬺓𬺓𬺓",""]
["","",{"$f":"A733&B733","v":""},"𬺓𬺓𬺓","","𬺓𬺓𬺓",""]
["","",{"$f":"A734&B734","v":""},"𬺓𬺓𬺓","","𬺓𬺓𬺓",""]
["","",{"$f":"A735&B735","v":""},"𬺓𬺓𬺓","","𬺓𬺓𬺓",""]
["","",{"$f":"A736&B736","v":""},"𬺓𬺓𬺓","","𬺓𬺓𬺓",""]
["","",{"$f":"A737&B737","v":""},"𬺓𬺓𬺓","","𬺓𬺓𬺓",""]
["","",{"$f":"A738&B738","v":""},"𬺓𬺓𬺓","","𬺓𬺓𬺓",""]
["","",{"$f":"A739&B739","v":""},"𬺓𬺓𬺓","","𬺓𬺓𬺓",""]
["","",{"$f":"A740&B740","v":""},"𬺓𬺓𬺓","","𬺓𬺓𬺓",""]
["","",{"$f":"A741&B741","v":""},"𬺓𬺓𬺓","","𬺓𬺓𬺓",""]
["","",{"$f":"A742&B742","v":""},"𬺓𬺓𬺓","","𬺓𬺓𬺓",""]
["","",{"$f":"A743&B743","v":""},"𬺓𬺓𬺓","","𬺓𬺓𬺓",""]
["","",{"$f":"A744&B744","v":""},"𬺓𬺓𬺓","","𬺓𬺓𬺓",""]

{"sheet":"සටහන්","index":4,"n_rows":1,"n_cols":7,"rows_kept":1}
["සටහන්",{"$nulls":5},"3.0 අනුවාදය"]

{"sheet":"formula","index":5,"n_rows":4,"n_cols":26,"rows_kept":4,"hidden":true}
["Because TEXTJOIN doesn't seem to work in an array formula, I am creating the equivalent function here for the \"expenses grouped\" tab."]
[{"$nulls":3},"D","E","F","G","H","I","J","K","L","M","N","O","P","Q","R","S","T","U","V","W","X","Y","Z"]
[null,"IF($'Record Expenses'.B5:B850 = \"\", \"\",  $'Record Expenses'.B5:B850 & \"     \") &",null,{"$f":"SUBSTITUTE($B3,\"B\",D2)","v":"IF($'Record Expenses'.D5:D850 = \"\", \"\",  $'Record Expenses'.D5:D850 & \"     \") &"},{"$f":"SUBSTITUTE($B3,\"B\",E2)","v":"IF($'Record Expenses'.E5:E850 = \"\", \"\",  $'Record Expenses'.E5:E850 & \"     \") &"},{"$f":"SUBSTITUTE($B3,\"B\",F2)","v":"IF($'Record Expenses'.F5:F850 = \"\", \"\",  $'Record Expenses'.F5:F850 & \"     \") &"},{"$f":"SUBSTITUTE($B3,\"B\",G2)","v":"IF($'Record Expenses'.G5:G850 = \"\", \"\",  $'Record Expenses'.G5:G850 & \"     \") &"},{"$f":"SUBSTITUTE($B3,\"B\",H2)","v":"IF($'Record Expenses'.H5:H850 = \"\", \"\",  $'Record Expenses'.H5:H850 & \"     \") &"},{"$f":"SUBSTITUTE($B3,\"B\",I2)","v":"IF($'Record Expenses'.I5:I850 = \"\", \"\",  $'Record Expenses'.I5:I850 & \"     \") &"},{"$f":"SUBSTITUTE($B3,\"B\",J2)","v":"IF($'Record Expenses'.J5:J850 = \"\", \"\",  $'Record Expenses'.J5:J850 & \"     \") &"},{"$f":"SUBSTITUTE($B3,\"B\",K2)","v":"IF($'Record Expenses'.K5:K850 = \"\", \"\",  $'Record Expenses'.K5:K850 & \"     \") &"},{"$f":"SUBSTITUTE($B3,\"B\",L2)","v":"IF($'Record Expenses'.L5:L850 = \"\", \"\",  $'Record Expenses'.L5:L850 & \"     \") &"},{"$f":"SUBSTITUTE($B3,\"B\",M2)","v":"IF($'Record Expenses'.M5:M850 = \"\", \"\",  $'Record Expenses'.M5:M850 & \"     \") &"},{"$f":"SUBSTITUTE($B3,\"B\",N2)","v":"IF($'Record Expenses'.N5:N850 = \"\", \"\",  $'Record Expenses'.N5:N850 & \"     \") &"},{"$f":"SUBSTITUTE($B3,\"B\",O2)","v":"IF($'Record Expenses'.O5:O850 = \"\", \"\",  $'Record Expenses'.O5:O850 & \"     \") &"},{"$f":"SUBSTITUTE($B3,\"B\",P2)","v":"IF($'Record Expenses'.P5:P850 = \"\", \"\",  $'Record Expenses'.P5:P850 & \"     \") &"},{"$f":"SUBSTITUTE($B3,\"B\",Q2)","v":"IF($'Record Expenses'.Q5:Q850 = \"\", \"\",  $'Record Expenses'.Q5:Q850 & \"     \") &"},{"$f":"SUBSTITUTE($B3,\"B\",R2)","v":"IF($'Record Expenses'.R5:R850 = \"\", \"\",  $'Record Expenses'.R5:R850 & \"     \") &"},{"$f":"SUBSTITUTE($B3,\"B\",S2)","v":"IF($'Record Expenses'.S5:S850 = \"\", \"\",  $'Record Expenses'.S5:S850 & \"     \") &"},{"$f":"SUBSTITUTE($B3,\"B\",T2)","v":"IF($'Record Expenses'.T5:T850 = \"\", \"\",  $'Record Expenses'.T5:T850 & \"     \") &"},{"$f":"SUBSTITUTE($B3,\"B\",U2)","v":"IF($'Record Expenses'.U5:U850 = \"\", \"\",  $'Record Expenses'.U5:U850 & \"     \") &"},{"$f":"SUBSTITUTE($B3,\"B\",V2)","v":"IF($'Record Expenses'.V5:V850 = \"\", \"\",  $'Record Expenses'.V5:V850 & \"     \") &"},{"$f":"SUBSTITUTE($B3,\"B\",W2)","v":"IF($'Record Expenses'.W5:W850 = \"\", \"\",  $'Record Expenses'.W5:W850 & \"     \") &"},{"$f":"SUBSTITUTE($B3,\"B\",X2)","v":"IF($'Record Expenses'.X5:X850 = \"\", \"\",  $'Record Expenses'.X5:X850 & \"     \") &"},{"$f":"SUBSTITUTE($B3,\"B\",Y2)","v":"IF($'Record Expenses'.Y5:Y850 = \"\", \"\",  $'Record Expenses'.Y5:Y850 & \"     \") &"},{"$f":"SUBSTITUTE($B3,\"B\",Z2)","v":"IF($'Record Expenses'.Z5:Z850 = \"\", \"\",  $'Record Expenses'.Z5:Z850 & \"     \") &"}]
["actual formula: ","'=IF($'Record Expenses'.C5:C850=\"\",\"\", IF($'Record Expenses'.B5:B850 = \"\", \"\",  $'Record Expenses'.B5:B850 & \"     \") &  IF($'Record Expenses'.D5:D850 = \"\", \"\",  $'Record Expenses'.D5:D850 & \"     \") & IF($'Record Expenses'.E5:E850 = \"\", \"\",  $'Record Expenses'.E5:E850 & \"     \") & IF($'Record Expenses'.F5:F850 = \"\", \"\",  $'Record Expenses'.F5:F850 & \"     \") & IF($'Record Expenses'.G5:G850 = \"\", \"\",  $'Record Expenses'.G5:G850 & \"     \") & IF($'Record Expenses'.H5:H850 = \"\", \"\",  $'Record Expenses'.H5:H850 & \"     \") & IF($'Record Expenses'.I5:I850 = \"\", \"\",  $'Record Expenses'.I5:I850 & \"     \") & IF($'Record Expenses'.J5:J850 = \"\", \"\",  $'Record Expenses'.J5:J850 & \"     \") & IF($'Record Expenses'.K5:K850 = \"\", \"\",  $'Record Expenses'.K5:K850 & \"     \") & IF($'Record Expenses'.L5:L850 = \"\", \"\",  $'Record Expenses'.L5:L850 & \"     \") & IF($'Record Expenses'.M5:M850 = \"\", \"\",  $'Record Expenses'.M5:M850 & \"     \") & IF($'Record Expenses'.N5:N850 = \"\", \"\",  $'Record Expenses'.N5:N850 & \"     \") & IF($'Record Expenses'.O5:O850 = \"\", \"\",  $'Record Expenses'.O5:O850 & \"     \") & IF($'Record Expenses'.P5:P850 = \"\", \"\",  $'Record Expenses'.P5:P850 & \"     \") & IF($'Record Expenses'.Q5:Q850 = \"\", \"\",  $'Record Expenses'.Q5:Q850 & \"     \") & IF($'Record Expenses'.R5:R850 = \"\", \"\",  $'Record Expenses'.R5:R850 & \"     \") & IF($'Record Expenses'.S5:S850 = \"\", \"\",  $'Record Expenses'.S5:S850 & \"     \") & IF($'Record Expenses'.T5:T850 = \"\", \"\",  $'Record Expenses'.T5:T850 & \"     \") & IF($'Record Expenses'.U5:U850 = \"\", \"\",  $'Record Expenses'.U5:U850 & \"     \") & IF($'Record Expenses'.V5:V850 = \"\", \"\",  $'Record Expenses'.V5:V850 & \"     \") & IF($'Record Expenses'.W5:W850 = \"\", \"\",  $'Record Expenses'.W5:W850 & \"     \") & IF($'Record Expenses'.X5:X850 = \"\", \"\",  $'Record Expenses'.X5:X850 & \"     \") & IF($'Record Expenses'.Y5:Y850 = \"\", \"\",  $'Record Expenses'.Y5:Y850 & \"     \") & IF($'Record Expenses'.Z5:Z850 = \"\", \"\",  $'Record Expenses'.Z5:Z850 & \"     \")  )"]